{"text_format":"1","workbook":"xlsx","n_sheets":4,"sheets":["活動記録","【選択肢】","【取組番号早見表】","【活動項目番号表】 "],"not_rendered":{"charts":0,"images":0,"macros":1,"external_links":0,"defined_names":30,"comments":0,"pivot_tables":0},"unopened":[],"bounds":{"document_bytes":16777216,"sheet_cells":100000,"rows_first":2000,"rows_last":500,"rows_between":2000,"halvings":0,"cell_chars":16384,"cell_head_chars":4096},"cells_cut":0,"cells_raw":0,"read":"whole","date_system":"1900"}

{"sheet":"活動記録","index":0,"n_rows":28,"n_cols":18,"rows_kept":28,"cut":false,"hidden":false,"merged":[[27,1,27,2],[1,6,1,14],[3,1,3,15],[4,1,4,2],[4,3,4,5],[4,6,6,11],[4,12,4,14],[4,15,6,15],[4,16,4,17],[5,1,6,1],[5,3,6,3],[5,4,6,4],[5,5,6,5],[5,12,6,12],[5,13,6,13],[5,14,6,14],[5,16,6,16],[5,17,6,17],[5,2,6,2],[29,15,31,15],[35,1,37,1],[35,14,37,14],[35,15,37,15],[32,1,34,1],[32,14,34,14],[32,15,34,15],[29,14,31,14],[38,1,40,1],[38,14,40,14],[38,15,40,15],[41,1,43,1],[41,14,43,14],[41,15,43,15],[53,1,55,1],[53,14,55,14],[53,15,55,15],[44,1,46,1],[44,14,46,14],[44,15,46,15],[47,1,49,1],[47,14,49,14],[47,15,49,15],[50,1,52,1],[50,14,52,14],[50,15,52,15],[56,1,58,1],[56,14,58,14],[56,15,58,15],[65,1,67,1],[65,14,67,14],[65,15,67,15],[59,1,61,1],[59,14,61,14],[59,15,61,15],[62,1,64,1],[62,14,64,14],[62,15,64,15]]}
["（様式第１－６号）","（様式第１－６号）",null,null,null,null,null,null,null,null,null,null,null,null,null,"組織名："]
[null,null,null,null,null,null,"年度　多面的機能支払交付金　活動記録"]
[null,"★「実施時間」には休憩時間を含めず、実働時間を記入してください。"]
[null,"★「活動項目番号」欄には、実施要領別記1-2の国が定める活動指針における活動項目の番号及び要領第1の２の(1)に基づき都道府県が定める要綱基本方針において追加された活動項目の番号を記入します。その他、事務処理は200番、会議等は300番を記入します。\n　同一日に複数の活動を行った場合は、該当する全ての活動項目番号を左詰めで一行に記入してください。番号欄が足りない場合は、複数行に分けて記入してください。\n　　"]
[null,"活動実施日及び活動時間",null,"活動参加人数",null,null,"活動項目番号（左詰め）",null,null,null,null,null,"活動内容",null,null,"備考（具体的な活動内容を記入）","様式欄外（参考）"]
[null,"日付","活動時間","農業者","農業者\n以外","総参加\n人数",null,null,null,null,null,null,"支払区分","活動区分","活動項目",null,"直営施工した場合は○","活動支援班による活動の場合は○"]
[]
[null,null,null,null,null,{"$f":"SUM(D8:E8)","v":0},0,null,null,null,null,null,{"$f":"IF(G8=\"\",\"\",(IFERROR(VLOOKUP($G8,【選択肢】!$Q$3:$U$90,2,),\" \")&IF(H8=\"\",\"\",\",\"&IFERROR(VLOOKUP($H8,【選択肢】!$Q$3:$U$90,2,),\" \")&IF(I8=\"\",\"\",\",\"&IFERROR(VLOOKUP($I8,【選択肢】!$Q$3:$U$90,2,),\" \")&IF(J8=\"\",\"\",\",\"&IFERROR(VLOOKUP($J8,【選択肢】!$Q$3:$U$90,2,),\" \")&IF(K8=\"\",\"\",\",\"&IFERROR(VLOOKUP($K8,【選択肢】!$Q$3:$U$90,2,),\" \")&IF(L8=\"\",\"\",\",\"&IFERROR(VLOOKUP($L8,【選択肢】!$Q$3:$U$90,2,),\" \"))))))))","v":" "},{"$f":"IF(G8=\"\",\"\",(IFERROR(VLOOKUP($G8,【選択肢】!$Q$3:$U$90,4,),\" \")&IF(H8=\"\",\"\",\",\"&IFERROR(VLOOKUP($H8,【選択肢】!$Q$3:$U$90,4,),\" \")&IF(I8=\"\",\"\",\",\"&IFERROR(VLOOKUP($I8,【選択肢】!$Q$3:$U$90,4,),\" \")&IF(J8=\"\",\"\",\",\"&IFERROR(VLOOKUP($J8,【選択肢】!$Q$3:$U$90,4,),\" \")&IF(K8=\"\",\"\",\",\"&IFERROR(VLOOKUP($K8,【選択肢】!$Q$3:$U$90,4,),\" \")&IF(L8=\"\",\"\",\",\"&IFERROR(VLOOKUP($L8,【選択肢】!$Q$3:$U$90,4,),\" \"))))))))","v":" "},{"$f":"IF(G8=\"\",\"\",(IFERROR(VLOOKUP($G8,【選択肢】!$Q$3:$U$90,5,),\" \")&IF(H8=\"\",\"\",\",\"&IFERROR(VLOOKUP($H8,【選択肢】!$Q$3:$U$90,5,),\" \")&IF(I8=\"\",\"\",\",\"&IFERROR(VLOOKUP($I8,【選択肢】!$Q$3:$U$90,5,),\" \")&IF(J8=\"\",\"\",\",\"&IFERROR(VLOOKUP($J8,【選択肢】!$Q$3:$U$90,5,),\" \")&IF(K8=\"\",\"\",\",\"&IFERROR(VLOOKUP($K8,【選択肢】!$Q$3:$U$90,5,),\" \")&IF(L8=\"\",\"\",\",\"&IFERROR(VLOOKUP($L8,【選択肢】!$Q$3:$U$90,5,),\" \"))))))))","v":" "}]
[null,null,null,null,null,{"$f":"SUM(D9:E9)","v":0},null,null,null,null,null,null,{"$f":"IF(G9=\"\",\"\",(IFERROR(VLOOKUP($G9,【選択肢】!$Q$3:$U$90,2,),\" \")&IF(H9=\"\",\"\",\",\"&IFERROR(VLOOKUP($H9,【選択肢】!$Q$3:$U$90,2,),\" \")&IF(I9=\"\",\"\",\",\"&IFERROR(VLOOKUP($I9,【選択肢】!$Q$3:$U$90,2,),\" \")&IF(J9=\"\",\"\",\",\"&IFERROR(VLOOKUP($J9,【選択肢】!$Q$3:$U$90,2,),\" \")&IF(K9=\"\",\"\",\",\"&IFERROR(VLOOKUP($K9,【選択肢】!$Q$3:$U$90,2,),\" \")&IF(L9=\"\",\"\",\",\"&IFERROR(VLOOKUP($L9,【選択肢】!$Q$3:$U$90,2,),\" \"))))))))","v":""},{"$f":"IF(G9=\"\",\"\",(IFERROR(VLOOKUP($G9,【選択肢】!$Q$3:$U$90,4,),\" \")&IF(H9=\"\",\"\",\",\"&IFERROR(VLOOKUP($H9,【選択肢】!$Q$3:$U$90,4,),\" \")&IF(I9=\"\",\"\",\",\"&IFERROR(VLOOKUP($I9,【選択肢】!$Q$3:$U$90,4,),\" \")&IF(J9=\"\",\"\",\",\"&IFERROR(VLOOKUP($J9,【選択肢】!$Q$3:$U$90,4,),\" \")&IF(K9=\"\",\"\",\",\"&IFERROR(VLOOKUP($K9,【選択肢】!$Q$3:$U$90,4,),\" \")&IF(L9=\"\",\"\",\",\"&IFERROR(VLOOKUP($L9,【選択肢】!$Q$3:$U$90,4,),\" \"))))))))","v":""},{"$f":"IF(G9=\"\",\"\",(IFERROR(VLOOKUP($G9,【選択肢】!$Q$3:$U$90,5,),\" \")&IF(H9=\"\",\"\",\",\"&IFERROR(VLOOKUP($H9,【選択肢】!$Q$3:$U$90,5,),\" \")&IF(I9=\"\",\"\",\",\"&IFERROR(VLOOKUP($I9,【選択肢】!$Q$3:$U$90,5,),\" \")&IF(J9=\"\",\"\",\",\"&IFERROR(VLOOKUP($J9,【選択肢】!$Q$3:$U$90,5,),\" \")&IF(K9=\"\",\"\",\",\"&IFERROR(VLOOKUP($K9,【選択肢】!$Q$3:$U$90,5,),\" \")&IF(L9=\"\",\"\",\",\"&IFERROR(VLOOKUP($L9,【選択肢】!$Q$3:$U$90,5,),\" \"))))))))","v":""}]
[null,null,null,null,null,0,null,null,null,null,null,null,{"$f":"IF(G10=\"\",\"\",(IFERROR(VLOOKUP($G10,【選択肢】!$Q$3:$U$90,2,),\" \")&IF(H10=\"\",\"\",\",\"&IFERROR(VLOOKUP($H10,【選択肢】!$Q$3:$U$90,2,),\" \")&IF(I10=\"\",\"\",\",\"&IFERROR(VLOOKUP($I10,【選択肢】!$Q$3:$U$90,2,),\" \")&IF(J10=\"\",\"\",\",\"&IFERROR(VLOOKUP($J10,【選択肢】!$Q$3:$U$90,2,),\" \")&IF(K10=\"\",\"\",\",\"&IFERROR(VLOOKUP($K10,【選択肢】!$Q$3:$U$90,2,),\" \")&IF(L10=\"\",\"\",\",\"&IFERROR(VLOOKUP($L10,【選択肢】!$Q$3:$U$90,2,),\" \"))))))))","v":""},{"$f":"IF(G10=\"\",\"\",(IFERROR(VLOOKUP($G10,【選択肢】!$Q$3:$U$90,4,),\" \")&IF(H10=\"\",\"\",\",\"&IFERROR(VLOOKUP($H10,【選択肢】!$Q$3:$U$90,4,),\" \")&IF(I10=\"\",\"\",\",\"&IFERROR(VLOOKUP($I10,【選択肢】!$Q$3:$U$90,4,),\" \")&IF(J10=\"\",\"\",\",\"&IFERROR(VLOOKUP($J10,【選択肢】!$Q$3:$U$90,4,),\" \")&IF(K10=\"\",\"\",\",\"&IFERROR(VLOOKUP($K10,【選択肢】!$Q$3:$U$90,4,),\" \")&IF(L10=\"\",\"\",\",\"&IFERROR(VLOOKUP($L10,【選択肢】!$Q$3:$U$90,4,),\" \"))))))))","v":""},{"$f":"IF(G10=\"\",\"\",(IFERROR(VLOOKUP($G10,【選択肢】!$Q$3:$U$90,5,),\" \")&IF(H10=\"\",\"\",\",\"&IFERROR(VLOOKUP($H10,【選択肢】!$Q$3:$U$90,5,),\" \")&IF(I10=\"\",\"\",\",\"&IFERROR(VLOOKUP($I10,【選択肢】!$Q$3:$U$90,5,),\" \")&IF(J10=\"\",\"\",\",\"&IFERROR(VLOOKUP($J10,【選択肢】!$Q$3:$U$90,5,),\" \")&IF(K10=\"\",\"\",\",\"&IFERROR(VLOOKUP($K10,【選択肢】!$Q$3:$U$90,5,),\" \")&IF(L10=\"\",\"\",\",\"&IFERROR(VLOOKUP($L10,【選択肢】!$Q$3:$U$90,5,),\" \"))))))))","v":""}]
[null,null,null,null,null,0,null,null,null,null,null,null,{"$f":"IF(G11=\"\",\"\",(IFERROR(VLOOKUP($G11,【選択肢】!$Q$3:$U$90,2,),\" \")&IF(H11=\"\",\"\",\",\"&IFERROR(VLOOKUP($H11,【選択肢】!$Q$3:$U$90,2,),\" \")&IF(I11=\"\",\"\",\",\"&IFERROR(VLOOKUP($I11,【選択肢】!$Q$3:$U$90,2,),\" \")&IF(J11=\"\",\"\",\",\"&IFERROR(VLOOKUP($J11,【選択肢】!$Q$3:$U$90,2,),\" \")&IF(K11=\"\",\"\",\",\"&IFERROR(VLOOKUP($K11,【選択肢】!$Q$3:$U$90,2,),\" \")&IF(L11=\"\",\"\",\",\"&IFERROR(VLOOKUP($L11,【選択肢】!$Q$3:$U$90,2,),\" \"))))))))","v":""},{"$f":"IF(G11=\"\",\"\",(IFERROR(VLOOKUP($G11,【選択肢】!$Q$3:$U$90,4,),\" \")&IF(H11=\"\",\"\",\",\"&IFERROR(VLOOKUP($H11,【選択肢】!$Q$3:$U$90,4,),\" \")&IF(I11=\"\",\"\",\",\"&IFERROR(VLOOKUP($I11,【選択肢】!$Q$3:$U$90,4,),\" \")&IF(J11=\"\",\"\",\",\"&IFERROR(VLOOKUP($J11,【選択肢】!$Q$3:$U$90,4,),\" \")&IF(K11=\"\",\"\",\",\"&IFERROR(VLOOKUP($K11,【選択肢】!$Q$3:$U$90,4,),\" \")&IF(L11=\"\",\"\",\",\"&IFERROR(VLOOKUP($L11,【選択肢】!$Q$3:$U$90,4,),\" \"))))))))","v":""},{"$f":"IF(G11=\"\",\"\",(IFERROR(VLOOKUP($G11,【選択肢】!$Q$3:$U$90,5,),\" \")&IF(H11=\"\",\"\",\",\"&IFERROR(VLOOKUP($H11,【選択肢】!$Q$3:$U$90,5,),\" \")&IF(I11=\"\",\"\",\",\"&IFERROR(VLOOKUP($I11,【選択肢】!$Q$3:$U$90,5,),\" \")&IF(J11=\"\",\"\",\",\"&IFERROR(VLOOKUP($J11,【選択肢】!$Q$3:$U$90,5,),\" \")&IF(K11=\"\",\"\",\",\"&IFERROR(VLOOKUP($K11,【選択肢】!$Q$3:$U$90,5,),\" \")&IF(L11=\"\",\"\",\",\"&IFERROR(VLOOKUP($L11,【選択肢】!$Q$3:$U$90,5,),\" \"))))))))","v":""}]
[null,null,null,null,null,0,null,null,null,null,null,null,{"$f":"IF(G12=\"\",\"\",(IFERROR(VLOOKUP($G12,【選択肢】!$Q$3:$U$90,2,),\" \")&IF(H12=\"\",\"\",\",\"&IFERROR(VLOOKUP($H12,【選択肢】!$Q$3:$U$90,2,),\" \")&IF(I12=\"\",\"\",\",\"&IFERROR(VLOOKUP($I12,【選択肢】!$Q$3:$U$90,2,),\" \")&IF(J12=\"\",\"\",\",\"&IFERROR(VLOOKUP($J12,【選択肢】!$Q$3:$U$90,2,),\" \")&IF(K12=\"\",\"\",\",\"&IFERROR(VLOOKUP($K12,【選択肢】!$Q$3:$U$90,2,),\" \")&IF(L12=\"\",\"\",\",\"&IFERROR(VLOOKUP($L12,【選択肢】!$Q$3:$U$90,2,),\" \"))))))))","v":""},{"$f":"IF(G12=\"\",\"\",(IFERROR(VLOOKUP($G12,【選択肢】!$Q$3:$U$90,4,),\" \")&IF(H12=\"\",\"\",\",\"&IFERROR(VLOOKUP($H12,【選択肢】!$Q$3:$U$90,4,),\" \")&IF(I12=\"\",\"\",\",\"&IFERROR(VLOOKUP($I12,【選択肢】!$Q$3:$U$90,4,),\" \")&IF(J12=\"\",\"\",\",\"&IFERROR(VLOOKUP($J12,【選択肢】!$Q$3:$U$90,4,),\" \")&IF(K12=\"\",\"\",\",\"&IFERROR(VLOOKUP($K12,【選択肢】!$Q$3:$U$90,4,),\" \")&IF(L12=\"\",\"\",\",\"&IFERROR(VLOOKUP($L12,【選択肢】!$Q$3:$U$90,4,),\" \"))))))))","v":""},{"$f":"IF(G12=\"\",\"\",(IFERROR(VLOOKUP($G12,【選択肢】!$Q$3:$U$90,5,),\" \")&IF(H12=\"\",\"\",\",\"&IFERROR(VLOOKUP($H12,【選択肢】!$Q$3:$U$90,5,),\" \")&IF(I12=\"\",\"\",\",\"&IFERROR(VLOOKUP($I12,【選択肢】!$Q$3:$U$90,5,),\" \")&IF(J12=\"\",\"\",\",\"&IFERROR(VLOOKUP($J12,【選択肢】!$Q$3:$U$90,5,),\" \")&IF(K12=\"\",\"\",\",\"&IFERROR(VLOOKUP($K12,【選択肢】!$Q$3:$U$90,5,),\" \")&IF(L12=\"\",\"\",\",\"&IFERROR(VLOOKUP($L12,【選択肢】!$Q$3:$U$90,5,),\" \"))))))))","v":""}]
[null,null,null,null,null,0,null,null,null,null,null,null,{"$f":"IF(G13=\"\",\"\",(IFERROR(VLOOKUP($G13,【選択肢】!$Q$3:$U$90,2,),\" \")&IF(H13=\"\",\"\",\",\"&IFERROR(VLOOKUP($H13,【選択肢】!$Q$3:$U$90,2,),\" \")&IF(I13=\"\",\"\",\",\"&IFERROR(VLOOKUP($I13,【選択肢】!$Q$3:$U$90,2,),\" \")&IF(J13=\"\",\"\",\",\"&IFERROR(VLOOKUP($J13,【選択肢】!$Q$3:$U$90,2,),\" \")&IF(K13=\"\",\"\",\",\"&IFERROR(VLOOKUP($K13,【選択肢】!$Q$3:$U$90,2,),\" \")&IF(L13=\"\",\"\",\",\"&IFERROR(VLOOKUP($L13,【選択肢】!$Q$3:$U$90,2,),\" \"))))))))","v":""},{"$f":"IF(G13=\"\",\"\",(IFERROR(VLOOKUP($G13,【選択肢】!$Q$3:$U$90,4,),\" \")&IF(H13=\"\",\"\",\",\"&IFERROR(VLOOKUP($H13,【選択肢】!$Q$3:$U$90,4,),\" \")&IF(I13=\"\",\"\",\",\"&IFERROR(VLOOKUP($I13,【選択肢】!$Q$3:$U$90,4,),\" \")&IF(J13=\"\",\"\",\",\"&IFERROR(VLOOKUP($J13,【選択肢】!$Q$3:$U$90,4,),\" \")&IF(K13=\"\",\"\",\",\"&IFERROR(VLOOKUP($K13,【選択肢】!$Q$3:$U$90,4,),\" \")&IF(L13=\"\",\"\",\",\"&IFERROR(VLOOKUP($L13,【選択肢】!$Q$3:$U$90,4,),\" \"))))))))","v":""},{"$f":"IF(G13=\"\",\"\",(IFERROR(VLOOKUP($G13,【選択肢】!$Q$3:$U$90,5,),\" \")&IF(H13=\"\",\"\",\",\"&IFERROR(VLOOKUP($H13,【選択肢】!$Q$3:$U$90,5,),\" \")&IF(I13=\"\",\"\",\",\"&IFERROR(VLOOKUP($I13,【選択肢】!$Q$3:$U$90,5,),\" \")&IF(J13=\"\",\"\",\",\"&IFERROR(VLOOKUP($J13,【選択肢】!$Q$3:$U$90,5,),\" \")&IF(K13=\"\",\"\",\",\"&IFERROR(VLOOKUP($K13,【選択肢】!$Q$3:$U$90,5,),\" \")&IF(L13=\"\",\"\",\",\"&IFERROR(VLOOKUP($L13,【選択肢】!$Q$3:$U$90,5,),\" \"))))))))","v":""}]
[null,null,null,null,null,0,null,null,null,null,null,null,{"$f":"IF(G14=\"\",\"\",(IFERROR(VLOOKUP($G14,【選択肢】!$Q$3:$U$90,2,),\" \")&IF(H14=\"\",\"\",\",\"&IFERROR(VLOOKUP($H14,【選択肢】!$Q$3:$U$90,2,),\" \")&IF(I14=\"\",\"\",\",\"&IFERROR(VLOOKUP($I14,【選択肢】!$Q$3:$U$90,2,),\" \")&IF(J14=\"\",\"\",\",\"&IFERROR(VLOOKUP($J14,【選択肢】!$Q$3:$U$90,2,),\" \")&IF(K14=\"\",\"\",\",\"&IFERROR(VLOOKUP($K14,【選択肢】!$Q$3:$U$90,2,),\" \")&IF(L14=\"\",\"\",\",\"&IFERROR(VLOOKUP($L14,【選択肢】!$Q$3:$U$90,2,),\" \"))))))))","v":""},{"$f":"IF(G14=\"\",\"\",(IFERROR(VLOOKUP($G14,【選択肢】!$Q$3:$U$90,4,),\" \")&IF(H14=\"\",\"\",\",\"&IFERROR(VLOOKUP($H14,【選択肢】!$Q$3:$U$90,4,),\" \")&IF(I14=\"\",\"\",\",\"&IFERROR(VLOOKUP($I14,【選択肢】!$Q$3:$U$90,4,),\" \")&IF(J14=\"\",\"\",\",\"&IFERROR(VLOOKUP($J14,【選択肢】!$Q$3:$U$90,4,),\" \")&IF(K14=\"\",\"\",\",\"&IFERROR(VLOOKUP($K14,【選択肢】!$Q$3:$U$90,4,),\" \")&IF(L14=\"\",\"\",\",\"&IFERROR(VLOOKUP($L14,【選択肢】!$Q$3:$U$90,4,),\" \"))))))))","v":""},{"$f":"IF(G14=\"\",\"\",(IFERROR(VLOOKUP($G14,【選択肢】!$Q$3:$U$90,5,),\" \")&IF(H14=\"\",\"\",\",\"&IFERROR(VLOOKUP($H14,【選択肢】!$Q$3:$U$90,5,),\" \")&IF(I14=\"\",\"\",\",\"&IFERROR(VLOOKUP($I14,【選択肢】!$Q$3:$U$90,5,),\" \")&IF(J14=\"\",\"\",\",\"&IFERROR(VLOOKUP($J14,【選択肢】!$Q$3:$U$90,5,),\" \")&IF(K14=\"\",\"\",\",\"&IFERROR(VLOOKUP($K14,【選択肢】!$Q$3:$U$90,5,),\" \")&IF(L14=\"\",\"\",\",\"&IFERROR(VLOOKUP($L14,【選択肢】!$Q$3:$U$90,5,),\" \"))))))))","v":""}]
[null,null,null,null,null,0,null,null,null,null,null,null,{"$f":"IF(G15=\"\",\"\",(IFERROR(VLOOKUP($G15,【選択肢】!$Q$3:$U$90,2,),\" \")&IF(H15=\"\",\"\",\",\"&IFERROR(VLOOKUP($H15,【選択肢】!$Q$3:$U$90,2,),\" \")&IF(I15=\"\",\"\",\",\"&IFERROR(VLOOKUP($I15,【選択肢】!$Q$3:$U$90,2,),\" \")&IF(J15=\"\",\"\",\",\"&IFERROR(VLOOKUP($J15,【選択肢】!$Q$3:$U$90,2,),\" \")&IF(K15=\"\",\"\",\",\"&IFERROR(VLOOKUP($K15,【選択肢】!$Q$3:$U$90,2,),\" \")&IF(L15=\"\",\"\",\",\"&IFERROR(VLOOKUP($L15,【選択肢】!$Q$3:$U$90,2,),\" \"))))))))","v":""},{"$f":"IF(G15=\"\",\"\",(IFERROR(VLOOKUP($G15,【選択肢】!$Q$3:$U$90,4,),\" \")&IF(H15=\"\",\"\",\",\"&IFERROR(VLOOKUP($H15,【選択肢】!$Q$3:$U$90,4,),\" \")&IF(I15=\"\",\"\",\",\"&IFERROR(VLOOKUP($I15,【選択肢】!$Q$3:$U$90,4,),\" \")&IF(J15=\"\",\"\",\",\"&IFERROR(VLOOKUP($J15,【選択肢】!$Q$3:$U$90,4,),\" \")&IF(K15=\"\",\"\",\",\"&IFERROR(VLOOKUP($K15,【選択肢】!$Q$3:$U$90,4,),\" \")&IF(L15=\"\",\"\",\",\"&IFERROR(VLOOKUP($L15,【選択肢】!$Q$3:$U$90,4,),\" \"))))))))","v":""},{"$f":"IF(G15=\"\",\"\",(IFERROR(VLOOKUP($G15,【選択肢】!$Q$3:$U$90,5,),\" \")&IF(H15=\"\",\"\",\",\"&IFERROR(VLOOKUP($H15,【選択肢】!$Q$3:$U$90,5,),\" \")&IF(I15=\"\",\"\",\",\"&IFERROR(VLOOKUP($I15,【選択肢】!$Q$3:$U$90,5,),\" \")&IF(J15=\"\",\"\",\",\"&IFERROR(VLOOKUP($J15,【選択肢】!$Q$3:$U$90,5,),\" \")&IF(K15=\"\",\"\",\",\"&IFERROR(VLOOKUP($K15,【選択肢】!$Q$3:$U$90,5,),\" \")&IF(L15=\"\",\"\",\",\"&IFERROR(VLOOKUP($L15,【選択肢】!$Q$3:$U$90,5,),\" \"))))))))","v":""}]
[null,null,null,null,null,0,null,null,null,null,null,null,{"$f":"IF(G16=\"\",\"\",(IFERROR(VLOOKUP($G16,【選択肢】!$Q$3:$U$90,2,),\" \")&IF(H16=\"\",\"\",\",\"&IFERROR(VLOOKUP($H16,【選択肢】!$Q$3:$U$90,2,),\" \")&IF(I16=\"\",\"\",\",\"&IFERROR(VLOOKUP($I16,【選択肢】!$Q$3:$U$90,2,),\" \")&IF(J16=\"\",\"\",\",\"&IFERROR(VLOOKUP($J16,【選択肢】!$Q$3:$U$90,2,),\" \")&IF(K16=\"\",\"\",\",\"&IFERROR(VLOOKUP($K16,【選択肢】!$Q$3:$U$90,2,),\" \")&IF(L16=\"\",\"\",\",\"&IFERROR(VLOOKUP($L16,【選択肢】!$Q$3:$U$90,2,),\" \"))))))))","v":""},{"$f":"IF(G16=\"\",\"\",(IFERROR(VLOOKUP($G16,【選択肢】!$Q$3:$U$90,4,),\" \")&IF(H16=\"\",\"\",\",\"&IFERROR(VLOOKUP($H16,【選択肢】!$Q$3:$U$90,4,),\" \")&IF(I16=\"\",\"\",\",\"&IFERROR(VLOOKUP($I16,【選択肢】!$Q$3:$U$90,4,),\" \")&IF(J16=\"\",\"\",\",\"&IFERROR(VLOOKUP($J16,【選択肢】!$Q$3:$U$90,4,),\" \")&IF(K16=\"\",\"\",\",\"&IFERROR(VLOOKUP($K16,【選択肢】!$Q$3:$U$90,4,),\" \")&IF(L16=\"\",\"\",\",\"&IFERROR(VLOOKUP($L16,【選択肢】!$Q$3:$U$90,4,),\" \"))))))))","v":""},{"$f":"IF(G16=\"\",\"\",(IFERROR(VLOOKUP($G16,【選択肢】!$Q$3:$U$90,5,),\" \")&IF(H16=\"\",\"\",\",\"&IFERROR(VLOOKUP($H16,【選択肢】!$Q$3:$U$90,5,),\" \")&IF(I16=\"\",\"\",\",\"&IFERROR(VLOOKUP($I16,【選択肢】!$Q$3:$U$90,5,),\" \")&IF(J16=\"\",\"\",\",\"&IFERROR(VLOOKUP($J16,【選択肢】!$Q$3:$U$90,5,),\" \")&IF(K16=\"\",\"\",\",\"&IFERROR(VLOOKUP($K16,【選択肢】!$Q$3:$U$90,5,),\" \")&IF(L16=\"\",\"\",\",\"&IFERROR(VLOOKUP($L16,【選択肢】!$Q$3:$U$90,5,),\" \"))))))))","v":""}]
[null,null,null,null,null,0,null,null,null,null,null,null,{"$f":"IF(G17=\"\",\"\",(IFERROR(VLOOKUP($G17,【選択肢】!$Q$3:$U$90,2,),\" \")&IF(H17=\"\",\"\",\",\"&IFERROR(VLOOKUP($H17,【選択肢】!$Q$3:$U$90,2,),\" \")&IF(I17=\"\",\"\",\",\"&IFERROR(VLOOKUP($I17,【選択肢】!$Q$3:$U$90,2,),\" \")&IF(J17=\"\",\"\",\",\"&IFERROR(VLOOKUP($J17,【選択肢】!$Q$3:$U$90,2,),\" \")&IF(K17=\"\",\"\",\",\"&IFERROR(VLOOKUP($K17,【選択肢】!$Q$3:$U$90,2,),\" \")&IF(L17=\"\",\"\",\",\"&IFERROR(VLOOKUP($L17,【選択肢】!$Q$3:$U$90,2,),\" \"))))))))","v":""},{"$f":"IF(G17=\"\",\"\",(IFERROR(VLOOKUP($G17,【選択肢】!$Q$3:$U$90,4,),\" \")&IF(H17=\"\",\"\",\",\"&IFERROR(VLOOKUP($H17,【選択肢】!$Q$3:$U$90,4,),\" \")&IF(I17=\"\",\"\",\",\"&IFERROR(VLOOKUP($I17,【選択肢】!$Q$3:$U$90,4,),\" \")&IF(J17=\"\",\"\",\",\"&IFERROR(VLOOKUP($J17,【選択肢】!$Q$3:$U$90,4,),\" \")&IF(K17=\"\",\"\",\",\"&IFERROR(VLOOKUP($K17,【選択肢】!$Q$3:$U$90,4,),\" \")&IF(L17=\"\",\"\",\",\"&IFERROR(VLOOKUP($L17,【選択肢】!$Q$3:$U$90,4,),\" \"))))))))","v":""},{"$f":"IF(G17=\"\",\"\",(IFERROR(VLOOKUP($G17,【選択肢】!$Q$3:$U$90,5,),\" \")&IF(H17=\"\",\"\",\",\"&IFERROR(VLOOKUP($H17,【選択肢】!$Q$3:$U$90,5,),\" \")&IF(I17=\"\",\"\",\",\"&IFERROR(VLOOKUP($I17,【選択肢】!$Q$3:$U$90,5,),\" \")&IF(J17=\"\",\"\",\",\"&IFERROR(VLOOKUP($J17,【選択肢】!$Q$3:$U$90,5,),\" \")&IF(K17=\"\",\"\",\",\"&IFERROR(VLOOKUP($K17,【選択肢】!$Q$3:$U$90,5,),\" \")&IF(L17=\"\",\"\",\",\"&IFERROR(VLOOKUP($L17,【選択肢】!$Q$3:$U$90,5,),\" \"))))))))","v":""}]
[null,null,null,null,null,0,null,null,null,null,null,null,{"$f":"IF(G18=\"\",\"\",(IFERROR(VLOOKUP($G18,【選択肢】!$Q$3:$U$90,2,),\" \")&IF(H18=\"\",\"\",\",\"&IFERROR(VLOOKUP($H18,【選択肢】!$Q$3:$U$90,2,),\" \")&IF(I18=\"\",\"\",\",\"&IFERROR(VLOOKUP($I18,【選択肢】!$Q$3:$U$90,2,),\" \")&IF(J18=\"\",\"\",\",\"&IFERROR(VLOOKUP($J18,【選択肢】!$Q$3:$U$90,2,),\" \")&IF(K18=\"\",\"\",\",\"&IFERROR(VLOOKUP($K18,【選択肢】!$Q$3:$U$90,2,),\" \")&IF(L18=\"\",\"\",\",\"&IFERROR(VLOOKUP($L18,【選択肢】!$Q$3:$U$90,2,),\" \"))))))))","v":""},{"$f":"IF(G18=\"\",\"\",(IFERROR(VLOOKUP($G18,【選択肢】!$Q$3:$U$90,4,),\" \")&IF(H18=\"\",\"\",\",\"&IFERROR(VLOOKUP($H18,【選択肢】!$Q$3:$U$90,4,),\" \")&IF(I18=\"\",\"\",\",\"&IFERROR(VLOOKUP($I18,【選択肢】!$Q$3:$U$90,4,),\" \")&IF(J18=\"\",\"\",\",\"&IFERROR(VLOOKUP($J18,【選択肢】!$Q$3:$U$90,4,),\" \")&IF(K18=\"\",\"\",\",\"&IFERROR(VLOOKUP($K18,【選択肢】!$Q$3:$U$90,4,),\" \")&IF(L18=\"\",\"\",\",\"&IFERROR(VLOOKUP($L18,【選択肢】!$Q$3:$U$90,4,),\" \"))))))))","v":""},{"$f":"IF(G18=\"\",\"\",(IFERROR(VLOOKUP($G18,【選択肢】!$Q$3:$U$90,5,),\" \")&IF(H18=\"\",\"\",\",\"&IFERROR(VLOOKUP($H18,【選択肢】!$Q$3:$U$90,5,),\" \")&IF(I18=\"\",\"\",\",\"&IFERROR(VLOOKUP($I18,【選択肢】!$Q$3:$U$90,5,),\" \")&IF(J18=\"\",\"\",\",\"&IFERROR(VLOOKUP($J18,【選択肢】!$Q$3:$U$90,5,),\" \")&IF(K18=\"\",\"\",\",\"&IFERROR(VLOOKUP($K18,【選択肢】!$Q$3:$U$90,5,),\" \")&IF(L18=\"\",\"\",\",\"&IFERROR(VLOOKUP($L18,【選択肢】!$Q$3:$U$90,5,),\" \"))))))))","v":""}]
[null,null,null,null,null,0,null,null,null,null,null,null,{"$f":"IF(G19=\"\",\"\",(IFERROR(VLOOKUP($G19,【選択肢】!$Q$3:$U$90,2,),\" \")&IF(H19=\"\",\"\",\",\"&IFERROR(VLOOKUP($H19,【選択肢】!$Q$3:$U$90,2,),\" \")&IF(I19=\"\",\"\",\",\"&IFERROR(VLOOKUP($I19,【選択肢】!$Q$3:$U$90,2,),\" \")&IF(J19=\"\",\"\",\",\"&IFERROR(VLOOKUP($J19,【選択肢】!$Q$3:$U$90,2,),\" \")&IF(K19=\"\",\"\",\",\"&IFERROR(VLOOKUP($K19,【選択肢】!$Q$3:$U$90,2,),\" \")&IF(L19=\"\",\"\",\",\"&IFERROR(VLOOKUP($L19,【選択肢】!$Q$3:$U$90,2,),\" \"))))))))","v":""},{"$f":"IF(G19=\"\",\"\",(IFERROR(VLOOKUP($G19,【選択肢】!$Q$3:$U$90,4,),\" \")&IF(H19=\"\",\"\",\",\"&IFERROR(VLOOKUP($H19,【選択肢】!$Q$3:$U$90,4,),\" \")&IF(I19=\"\",\"\",\",\"&IFERROR(VLOOKUP($I19,【選択肢】!$Q$3:$U$90,4,),\" \")&IF(J19=\"\",\"\",\",\"&IFERROR(VLOOKUP($J19,【選択肢】!$Q$3:$U$90,4,),\" \")&IF(K19=\"\",\"\",\",\"&IFERROR(VLOOKUP($K19,【選択肢】!$Q$3:$U$90,4,),\" \")&IF(L19=\"\",\"\",\",\"&IFERROR(VLOOKUP($L19,【選択肢】!$Q$3:$U$90,4,),\" \"))))))))","v":""},{"$f":"IF(G19=\"\",\"\",(IFERROR(VLOOKUP($G19,【選択肢】!$Q$3:$U$90,5,),\" \")&IF(H19=\"\",\"\",\",\"&IFERROR(VLOOKUP($H19,【選択肢】!$Q$3:$U$90,5,),\" \")&IF(I19=\"\",\"\",\",\"&IFERROR(VLOOKUP($I19,【選択肢】!$Q$3:$U$90,5,),\" \")&IF(J19=\"\",\"\",\",\"&IFERROR(VLOOKUP($J19,【選択肢】!$Q$3:$U$90,5,),\" \")&IF(K19=\"\",\"\",\",\"&IFERROR(VLOOKUP($K19,【選択肢】!$Q$3:$U$90,5,),\" \")&IF(L19=\"\",\"\",\",\"&IFERROR(VLOOKUP($L19,【選択肢】!$Q$3:$U$90,5,),\" \"))))))))","v":""}]
[null,null,null,null,null,0,null,null,null,null,null,null,{"$f":"IF(G20=\"\",\"\",(IFERROR(VLOOKUP($G20,【選択肢】!$Q$3:$U$90,2,),\" \")&IF(H20=\"\",\"\",\",\"&IFERROR(VLOOKUP($H20,【選択肢】!$Q$3:$U$90,2,),\" \")&IF(I20=\"\",\"\",\",\"&IFERROR(VLOOKUP($I20,【選択肢】!$Q$3:$U$90,2,),\" \")&IF(J20=\"\",\"\",\",\"&IFERROR(VLOOKUP($J20,【選択肢】!$Q$3:$U$90,2,),\" \")&IF(K20=\"\",\"\",\",\"&IFERROR(VLOOKUP($K20,【選択肢】!$Q$3:$U$90,2,),\" \")&IF(L20=\"\",\"\",\",\"&IFERROR(VLOOKUP($L20,【選択肢】!$Q$3:$U$90,2,),\" \"))))))))","v":""},{"$f":"IF(G20=\"\",\"\",(IFERROR(VLOOKUP($G20,【選択肢】!$Q$3:$U$90,4,),\" \")&IF(H20=\"\",\"\",\",\"&IFERROR(VLOOKUP($H20,【選択肢】!$Q$3:$U$90,4,),\" \")&IF(I20=\"\",\"\",\",\"&IFERROR(VLOOKUP($I20,【選択肢】!$Q$3:$U$90,4,),\" \")&IF(J20=\"\",\"\",\",\"&IFERROR(VLOOKUP($J20,【選択肢】!$Q$3:$U$90,4,),\" \")&IF(K20=\"\",\"\",\",\"&IFERROR(VLOOKUP($K20,【選択肢】!$Q$3:$U$90,4,),\" \")&IF(L20=\"\",\"\",\",\"&IFERROR(VLOOKUP($L20,【選択肢】!$Q$3:$U$90,4,),\" \"))))))))","v":""},{"$f":"IF(G20=\"\",\"\",(IFERROR(VLOOKUP($G20,【選択肢】!$Q$3:$U$90,5,),\" \")&IF(H20=\"\",\"\",\",\"&IFERROR(VLOOKUP($H20,【選択肢】!$Q$3:$U$90,5,),\" \")&IF(I20=\"\",\"\",\",\"&IFERROR(VLOOKUP($I20,【選択肢】!$Q$3:$U$90,5,),\" \")&IF(J20=\"\",\"\",\",\"&IFERROR(VLOOKUP($J20,【選択肢】!$Q$3:$U$90,5,),\" \")&IF(K20=\"\",\"\",\",\"&IFERROR(VLOOKUP($K20,【選択肢】!$Q$3:$U$90,5,),\" \")&IF(L20=\"\",\"\",\",\"&IFERROR(VLOOKUP($L20,【選択肢】!$Q$3:$U$90,5,),\" \"))))))))","v":""}]
[null,null,null,null,null,0,null,null,null,null,null,null,{"$f":"IF(G21=\"\",\"\",(IFERROR(VLOOKUP($G21,【選択肢】!$Q$3:$U$90,2,),\" \")&IF(H21=\"\",\"\",\",\"&IFERROR(VLOOKUP($H21,【選択肢】!$Q$3:$U$90,2,),\" \")&IF(I21=\"\",\"\",\",\"&IFERROR(VLOOKUP($I21,【選択肢】!$Q$3:$U$90,2,),\" \")&IF(J21=\"\",\"\",\",\"&IFERROR(VLOOKUP($J21,【選択肢】!$Q$3:$U$90,2,),\" \")&IF(K21=\"\",\"\",\",\"&IFERROR(VLOOKUP($K21,【選択肢】!$Q$3:$U$90,2,),\" \")&IF(L21=\"\",\"\",\",\"&IFERROR(VLOOKUP($L21,【選択肢】!$Q$3:$U$90,2,),\" \"))))))))","v":""},{"$f":"IF(G21=\"\",\"\",(IFERROR(VLOOKUP($G21,【選択肢】!$Q$3:$U$90,4,),\" \")&IF(H21=\"\",\"\",\",\"&IFERROR(VLOOKUP($H21,【選択肢】!$Q$3:$U$90,4,),\" \")&IF(I21=\"\",\"\",\",\"&IFERROR(VLOOKUP($I21,【選択肢】!$Q$3:$U$90,4,),\" \")&IF(J21=\"\",\"\",\",\"&IFERROR(VLOOKUP($J21,【選択肢】!$Q$3:$U$90,4,),\" \")&IF(K21=\"\",\"\",\",\"&IFERROR(VLOOKUP($K21,【選択肢】!$Q$3:$U$90,4,),\" \")&IF(L21=\"\",\"\",\",\"&IFERROR(VLOOKUP($L21,【選択肢】!$Q$3:$U$90,4,),\" \"))))))))","v":""},{"$f":"IF(G21=\"\",\"\",(IFERROR(VLOOKUP($G21,【選択肢】!$Q$3:$U$90,5,),\" \")&IF(H21=\"\",\"\",\",\"&IFERROR(VLOOKUP($H21,【選択肢】!$Q$3:$U$90,5,),\" \")&IF(I21=\"\",\"\",\",\"&IFERROR(VLOOKUP($I21,【選択肢】!$Q$3:$U$90,5,),\" \")&IF(J21=\"\",\"\",\",\"&IFERROR(VLOOKUP($J21,【選択肢】!$Q$3:$U$90,5,),\" \")&IF(K21=\"\",\"\",\",\"&IFERROR(VLOOKUP($K21,【選択肢】!$Q$3:$U$90,5,),\" \")&IF(L21=\"\",\"\",\",\"&IFERROR(VLOOKUP($L21,【選択肢】!$Q$3:$U$90,5,),\" \"))))))))","v":""}]
[null,null,null,null,null,0,null,null,null,null,null,null,{"$f":"IF(G22=\"\",\"\",(IFERROR(VLOOKUP($G22,【選択肢】!$Q$3:$U$90,2,),\" \")&IF(H22=\"\",\"\",\",\"&IFERROR(VLOOKUP($H22,【選択肢】!$Q$3:$U$90,2,),\" \")&IF(I22=\"\",\"\",\",\"&IFERROR(VLOOKUP($I22,【選択肢】!$Q$3:$U$90,2,),\" \")&IF(J22=\"\",\"\",\",\"&IFERROR(VLOOKUP($J22,【選択肢】!$Q$3:$U$90,2,),\" \")&IF(K22=\"\",\"\",\",\"&IFERROR(VLOOKUP($K22,【選択肢】!$Q$3:$U$90,2,),\" \")&IF(L22=\"\",\"\",\",\"&IFERROR(VLOOKUP($L22,【選択肢】!$Q$3:$U$90,2,),\" \"))))))))","v":""},{"$f":"IF(G22=\"\",\"\",(IFERROR(VLOOKUP($G22,【選択肢】!$Q$3:$U$90,4,),\" \")&IF(H22=\"\",\"\",\",\"&IFERROR(VLOOKUP($H22,【選択肢】!$Q$3:$U$90,4,),\" \")&IF(I22=\"\",\"\",\",\"&IFERROR(VLOOKUP($I22,【選択肢】!$Q$3:$U$90,4,),\" \")&IF(J22=\"\",\"\",\",\"&IFERROR(VLOOKUP($J22,【選択肢】!$Q$3:$U$90,4,),\" \")&IF(K22=\"\",\"\",\",\"&IFERROR(VLOOKUP($K22,【選択肢】!$Q$3:$U$90,4,),\" \")&IF(L22=\"\",\"\",\",\"&IFERROR(VLOOKUP($L22,【選択肢】!$Q$3:$U$90,4,),\" \"))))))))","v":""},{"$f":"IF(G22=\"\",\"\",(IFERROR(VLOOKUP($G22,【選択肢】!$Q$3:$U$90,5,),\" \")&IF(H22=\"\",\"\",\",\"&IFERROR(VLOOKUP($H22,【選択肢】!$Q$3:$U$90,5,),\" \")&IF(I22=\"\",\"\",\",\"&IFERROR(VLOOKUP($I22,【選択肢】!$Q$3:$U$90,5,),\" \")&IF(J22=\"\",\"\",\",\"&IFERROR(VLOOKUP($J22,【選択肢】!$Q$3:$U$90,5,),\" \")&IF(K22=\"\",\"\",\",\"&IFERROR(VLOOKUP($K22,【選択肢】!$Q$3:$U$90,5,),\" \")&IF(L22=\"\",\"\",\",\"&IFERROR(VLOOKUP($L22,【選択肢】!$Q$3:$U$90,5,),\" \"))))))))","v":""}]
[null,null,null,null,null,0,null,null,null,null,null,null,{"$f":"IF(G23=\"\",\"\",(IFERROR(VLOOKUP($G23,【選択肢】!$Q$3:$U$90,2,),\" \")&IF(H23=\"\",\"\",\",\"&IFERROR(VLOOKUP($H23,【選択肢】!$Q$3:$U$90,2,),\" \")&IF(I23=\"\",\"\",\",\"&IFERROR(VLOOKUP($I23,【選択肢】!$Q$3:$U$90,2,),\" \")&IF(J23=\"\",\"\",\",\"&IFERROR(VLOOKUP($J23,【選択肢】!$Q$3:$U$90,2,),\" \")&IF(K23=\"\",\"\",\",\"&IFERROR(VLOOKUP($K23,【選択肢】!$Q$3:$U$90,2,),\" \")&IF(L23=\"\",\"\",\",\"&IFERROR(VLOOKUP($L23,【選択肢】!$Q$3:$U$90,2,),\" \"))))))))","v":""},{"$f":"IF(G23=\"\",\"\",(IFERROR(VLOOKUP($G23,【選択肢】!$Q$3:$U$90,4,),\" \")&IF(H23=\"\",\"\",\",\"&IFERROR(VLOOKUP($H23,【選択肢】!$Q$3:$U$90,4,),\" \")&IF(I23=\"\",\"\",\",\"&IFERROR(VLOOKUP($I23,【選択肢】!$Q$3:$U$90,4,),\" \")&IF(J23=\"\",\"\",\",\"&IFERROR(VLOOKUP($J23,【選択肢】!$Q$3:$U$90,4,),\" \")&IF(K23=\"\",\"\",\",\"&IFERROR(VLOOKUP($K23,【選択肢】!$Q$3:$U$90,4,),\" \")&IF(L23=\"\",\"\",\",\"&IFERROR(VLOOKUP($L23,【選択肢】!$Q$3:$U$90,4,),\" \"))))))))","v":""},{"$f":"IF(G23=\"\",\"\",(IFERROR(VLOOKUP($G23,【選択肢】!$Q$3:$U$90,5,),\" \")&IF(H23=\"\",\"\",\",\"&IFERROR(VLOOKUP($H23,【選択肢】!$Q$3:$U$90,5,),\" \")&IF(I23=\"\",\"\",\",\"&IFERROR(VLOOKUP($I23,【選択肢】!$Q$3:$U$90,5,),\" \")&IF(J23=\"\",\"\",\",\"&IFERROR(VLOOKUP($J23,【選択肢】!$Q$3:$U$90,5,),\" \")&IF(K23=\"\",\"\",\",\"&IFERROR(VLOOKUP($K23,【選択肢】!$Q$3:$U$90,5,),\" \")&IF(L23=\"\",\"\",\",\"&IFERROR(VLOOKUP($L23,【選択肢】!$Q$3:$U$90,5,),\" \"))))))))","v":""}]
[null,null,null,null,null,0,null,null,null,null,null,null,{"$f":"IF(G24=\"\",\"\",(IFERROR(VLOOKUP($G24,【選択肢】!$Q$3:$U$90,2,),\" \")&IF(H24=\"\",\"\",\",\"&IFERROR(VLOOKUP($H24,【選択肢】!$Q$3:$U$90,2,),\" \")&IF(I24=\"\",\"\",\",\"&IFERROR(VLOOKUP($I24,【選択肢】!$Q$3:$U$90,2,),\" \")&IF(J24=\"\",\"\",\",\"&IFERROR(VLOOKUP($J24,【選択肢】!$Q$3:$U$90,2,),\" \")&IF(K24=\"\",\"\",\",\"&IFERROR(VLOOKUP($K24,【選択肢】!$Q$3:$U$90,2,),\" \")&IF(L24=\"\",\"\",\",\"&IFERROR(VLOOKUP($L24,【選択肢】!$Q$3:$U$90,2,),\" \"))))))))","v":""},{"$f":"IF(G24=\"\",\"\",(IFERROR(VLOOKUP($G24,【選択肢】!$Q$3:$U$90,4,),\" \")&IF(H24=\"\",\"\",\",\"&IFERROR(VLOOKUP($H24,【選択肢】!$Q$3:$U$90,4,),\" \")&IF(I24=\"\",\"\",\",\"&IFERROR(VLOOKUP($I24,【選択肢】!$Q$3:$U$90,4,),\" \")&IF(J24=\"\",\"\",\",\"&IFERROR(VLOOKUP($J24,【選択肢】!$Q$3:$U$90,4,),\" \")&IF(K24=\"\",\"\",\",\"&IFERROR(VLOOKUP($K24,【選択肢】!$Q$3:$U$90,4,),\" \")&IF(L24=\"\",\"\",\",\"&IFERROR(VLOOKUP($L24,【選択肢】!$Q$3:$U$90,4,),\" \"))))))))","v":""},{"$f":"IF(G24=\"\",\"\",(IFERROR(VLOOKUP($G24,【選択肢】!$Q$3:$U$90,5,),\" \")&IF(H24=\"\",\"\",\",\"&IFERROR(VLOOKUP($H24,【選択肢】!$Q$3:$U$90,5,),\" \")&IF(I24=\"\",\"\",\",\"&IFERROR(VLOOKUP($I24,【選択肢】!$Q$3:$U$90,5,),\" \")&IF(J24=\"\",\"\",\",\"&IFERROR(VLOOKUP($J24,【選択肢】!$Q$3:$U$90,5,),\" \")&IF(K24=\"\",\"\",\",\"&IFERROR(VLOOKUP($K24,【選択肢】!$Q$3:$U$90,5,),\" \")&IF(L24=\"\",\"\",\",\"&IFERROR(VLOOKUP($L24,【選択肢】!$Q$3:$U$90,5,),\" \"))))))))","v":""}]
[null,null,null,null,null,0,null,null,null,null,null,null,{"$f":"IF(G25=\"\",\"\",(IFERROR(VLOOKUP($G25,【選択肢】!$Q$3:$U$90,2,),\" \")&IF(H25=\"\",\"\",\",\"&IFERROR(VLOOKUP($H25,【選択肢】!$Q$3:$U$90,2,),\" \")&IF(I25=\"\",\"\",\",\"&IFERROR(VLOOKUP($I25,【選択肢】!$Q$3:$U$90,2,),\" \")&IF(J25=\"\",\"\",\",\"&IFERROR(VLOOKUP($J25,【選択肢】!$Q$3:$U$90,2,),\" \")&IF(K25=\"\",\"\",\",\"&IFERROR(VLOOKUP($K25,【選択肢】!$Q$3:$U$90,2,),\" \")&IF(L25=\"\",\"\",\",\"&IFERROR(VLOOKUP($L25,【選択肢】!$Q$3:$U$90,2,),\" \"))))))))","v":""},{"$f":"IF(G25=\"\",\"\",(IFERROR(VLOOKUP($G25,【選択肢】!$Q$3:$U$90,4,),\" \")&IF(H25=\"\",\"\",\",\"&IFERROR(VLOOKUP($H25,【選択肢】!$Q$3:$U$90,4,),\" \")&IF(I25=\"\",\"\",\",\"&IFERROR(VLOOKUP($I25,【選択肢】!$Q$3:$U$90,4,),\" \")&IF(J25=\"\",\"\",\",\"&IFERROR(VLOOKUP($J25,【選択肢】!$Q$3:$U$90,4,),\" \")&IF(K25=\"\",\"\",\",\"&IFERROR(VLOOKUP($K25,【選択肢】!$Q$3:$U$90,4,),\" \")&IF(L25=\"\",\"\",\",\"&IFERROR(VLOOKUP($L25,【選択肢】!$Q$3:$U$90,4,),\" \"))))))))","v":""},{"$f":"IF(G25=\"\",\"\",(IFERROR(VLOOKUP($G25,【選択肢】!$Q$3:$U$90,5,),\" \")&IF(H25=\"\",\"\",\",\"&IFERROR(VLOOKUP($H25,【選択肢】!$Q$3:$U$90,5,),\" \")&IF(I25=\"\",\"\",\",\"&IFERROR(VLOOKUP($I25,【選択肢】!$Q$3:$U$90,5,),\" \")&IF(J25=\"\",\"\",\",\"&IFERROR(VLOOKUP($J25,【選択肢】!$Q$3:$U$90,5,),\" \")&IF(K25=\"\",\"\",\",\"&IFERROR(VLOOKUP($K25,【選択肢】!$Q$3:$U$90,5,),\" \")&IF(L25=\"\",\"\",\",\"&IFERROR(VLOOKUP($L25,【選択肢】!$Q$3:$U$90,5,),\" \"))))))))","v":""}]
[null,null,null,null,null,0,null,null,null,null,null,null,{"$f":"IF(G26=\"\",\"\",(IFERROR(VLOOKUP($G26,【選択肢】!$Q$3:$U$90,2,),\" \")&IF(H26=\"\",\"\",\",\"&IFERROR(VLOOKUP($H26,【選択肢】!$Q$3:$U$90,2,),\" \")&IF(I26=\"\",\"\",\",\"&IFERROR(VLOOKUP($I26,【選択肢】!$Q$3:$U$90,2,),\" \")&IF(J26=\"\",\"\",\",\"&IFERROR(VLOOKUP($J26,【選択肢】!$Q$3:$U$90,2,),\" \")&IF(K26=\"\",\"\",\",\"&IFERROR(VLOOKUP($K26,【選択肢】!$Q$3:$U$90,2,),\" \")&IF(L26=\"\",\"\",\",\"&IFERROR(VLOOKUP($L26,【選択肢】!$Q$3:$U$90,2,),\" \"))))))))","v":""},{"$f":"IF(G26=\"\",\"\",(IFERROR(VLOOKUP($G26,【選択肢】!$Q$3:$U$90,4,),\" \")&IF(H26=\"\",\"\",\",\"&IFERROR(VLOOKUP($H26,【選択肢】!$Q$3:$U$90,4,),\" \")&IF(I26=\"\",\"\",\",\"&IFERROR(VLOOKUP($I26,【選択肢】!$Q$3:$U$90,4,),\" \")&IF(J26=\"\",\"\",\",\"&IFERROR(VLOOKUP($J26,【選択肢】!$Q$3:$U$90,4,),\" \")&IF(K26=\"\",\"\",\",\"&IFERROR(VLOOKUP($K26,【選択肢】!$Q$3:$U$90,4,),\" \")&IF(L26=\"\",\"\",\",\"&IFERROR(VLOOKUP($L26,【選択肢】!$Q$3:$U$90,4,),\" \"))))))))","v":""},{"$f":"IF(G26=\"\",\"\",(IFERROR(VLOOKUP($G26,【選択肢】!$Q$3:$U$90,5,),\" \")&IF(H26=\"\",\"\",\",\"&IFERROR(VLOOKUP($H26,【選択肢】!$Q$3:$U$90,5,),\" \")&IF(I26=\"\",\"\",\",\"&IFERROR(VLOOKUP($I26,【選択肢】!$Q$3:$U$90,5,),\" \")&IF(J26=\"\",\"\",\",\"&IFERROR(VLOOKUP($J26,【選択肢】!$Q$3:$U$90,5,),\" \")&IF(K26=\"\",\"\",\",\"&IFERROR(VLOOKUP($K26,【選択肢】!$Q$3:$U$90,5,),\" \")&IF(L26=\"\",\"\",\",\"&IFERROR(VLOOKUP($L26,【選択肢】!$Q$3:$U$90,5,),\" \"))))))))","v":""}]
[null,null,null,null,null,"この線より上に行を挿入してください。"]
[null,"参加人数各合計",null,{"$f":"SUM(D8:D27)","v":0},{"$f":"SUM(E8:E27)","v":0}]

{"sheet":"【選択肢】","index":1,"n_rows":245,"n_cols":24,"rows_kept":245,"cut":false,"hidden":false,"merged":[[20,23,21,25],[16,2,16,6],[0,0,0,13],[0,16,0,20],[0,21,1,21],[0,22,1,22],[1,18,1,19],[1,5,1,9]]}
[null,null,null,null,null,null,null,null,null,null,null,null,null,null,null,null,"活動記録で選択された取組番号から、区分、項目、取組を自動入力するための表",null,null,null,null,"実施回数のカウント","←活動記録に取組番号が入力された回数をカウントし、これをもとに実施状況報告書の「実施欄」の○、×を判定しています。","都道府県の要綱基本方針において取組を追加した場合の設定方法（県の担当者が作業してください）"]
["A.■か□","B.○か空白","C.○か－か×","D.農村環境保全活動のテーマ","E.高度な保全活動","F.施設（長寿命化）",null,null,null,null,"G.単位","H.構成員一覧の分類","I.金銭出納簿の区分","J.金銭出納簿の収支の分類",null,"プルダウン用","番号","支払区分","活動項目",null,"取組",null,null,"要綱基本方針において取組を追加した場合、以下の方法により修正することができます。"]
["■","○","○","生態系保全","循環かんがいによる水質保全","水路","61　水路の補修","62　水路の更新等",null,null,"km","１.農業者個人",1,"１.前年度持越",null,"○",200,"-","事務処理","事務処理","200 事務処理",null,null,"●共通：活動記録で、追加した取組番号を入力できるようにする"]
["□",null,"－","水質保全","浄化水路による水質保全","農道","63　農道の補修","64　農道の更新等",null,null,"箇所","２.農事組合法人",2,"２.交付金",null,"○",300,"-","会議","会議","300 会議",null,null,"　１）「取組番号早見表シート」及び「取組番号シート」に番号、支払区分、活動項目、取組を追加する。"]
[null,null,"×","景観形成・生活環境保全","地下水かん養","ため池","65　ため池の補修","66　ため池（附帯施設）の更新等",null,null,null,"３.営農組合",null,"３.利子等",null,"○",null,null,null,null,null,null,null,"　２）「選択肢」シートのP列～T列の74行以降に行を挿入し、追加した取組番号、支払区分、活動項目、取組を入力する。"]
[null,null,null,"水田貯留・地下水かん養","持続的な水管理",null,null,null,null,null,null,"４.その他の農業者団体",null,"４.日当",null,"○",1,"農地維持","点検・計画策定","点検","1 点検",{"$f":"COUNTIF(活動記録!$G$8:$L$27,【選択肢】!Q6)","v":0},null,"　３）「選択肢」シートU列の74行以降にU73セル（活動記録に入力された回数のカウントを行う数式）をコピーする。　"]
[null,null,null,"資源循環","土壌流出防止",null,null,null,null,null,null,"５.農業者以外個人",null,"５.外注費",null,"○",2,"農地維持","点検・計画策定","計画策定","2 年度活動計画の策定",{"$f":"COUNTIF(活動記録!$G$8:$L$27,【選択肢】!Q7)","v":0},null,"　　　（この作業により、活動記録に取組番号が入力された回数がＰ列に入力され、これをもとに実施状況報告書の「実施欄」の○、×を判定します。）"]
[null,null,null,null,"生物多様性の回復",null,null,null,null,null,null,"６.自治会",null,"６.その他支出",null,"○",3,"農地維持","研修","研修","3 事務・組織運営等に関する研修、機械の安全使用に関する研修",{"$f":"COUNTIF(活動記録!$G$8:$L$27,【選択肢】!Q8)","v":0}]
[null,null,null,null,"水環境の回復",null,null,null,null,null,null,"７.女性会",null,"７.返還",null,"○",4,"農地維持","実践活動","農用地","4 遊休農地発生防止のための保全管理",{"$f":"COUNTIF(活動記録!$G$8:$L$27,【選択肢】!Q9)","v":0},null,"●農村環境保全活動、多面的機能の増進を図る活動、長寿命化のための活動を追加する場合は以下の設定を行う"]
[null,null,null,null,"持続的な畦畔管理",null,null,null,null,null,null,"８.子供会",null,null,null,"○",5,"農地維持","実践活動","農用地","5 畦畔・法面・防風林の草刈り",{"$f":"COUNTIF(活動記録!$G$8:$L$27,【選択肢】!Q10)","v":0},null,"①農村環境保全活動の項目を追加する場合"]
[null,null,null,null,"専門家の指導",null,null,null,null,null,null,"９.土地改良区",null,null,null,"○",6,"農地維持","実践活動","農用地","6 鳥獣害防護柵等の保守管理",{"$f":"COUNTIF(活動記録!$G$8:$L$27,【選択肢】!Q11)","v":0},null,"活動計画書３（２）１）で実践活動を選択する際に、追加した項目を選択できるようにする"]
[null,null,null,null,null,null,null,null,null,null,null,"10.JA",null,null,null,"○",7,"農地維持","実践活動","水路","7 水路の草刈り",{"$f":"COUNTIF(活動記録!$G$8:$L$27,【選択肢】!Q12)","v":0},null,"　１）「選択肢」シートのV列の「50　地域資源の活用・資源循環活動（資源循環）」の下に取組名を入力する。"]
[null,null,null,null,null,null,null,null,null,null,null,"11.学校・PTA",null,null,null,"○",8,"農地維持","実践活動","水路","8 水路の泥上げ",{"$f":"COUNTIF(活動記録!$G$8:$L$27,【選択肢】!Q13)","v":0},null,"　　　　このとき、「●共通」で入力した取組名と同じになるように注意してください。"]
[null,null,null,null,null,null,null,null,null,null,null,"12.NPO",null,null,null,"○",9,"農地維持","実践活動","水路","9 水路附帯施設の保守管理",{"$f":"COUNTIF(活動記録!$G$8:$L$27,【選択肢】!Q14)","v":0},null,"　２）「数式」タブの「名前の管理」を選択し、リストの中から「K.農村環境保全活動」を選択し、「参照範囲」の右のアイコンをクリック"]
[null,null,null,null,null,null,null,null,null,null,null,"13.その他の農業者以外団体",null,null,null,"○",10,"農地維持","実践活動","農道","10 農道の草刈り",{"$f":"COUNTIF(活動記録!$G$8:$L$27,【選択肢】!Q15)","v":0},null,"　３）参照範囲に追加した取組を含むよう範囲を選択し直し、確定する。"]
[null,null,null,null,null,null,null,null,null,null,null,null,null,null,null,"○",11,"農地維持","実践活動","農道","11 農道側溝の泥上げ",{"$f":"COUNTIF(活動記録!$G$8:$L$27,【選択肢】!Q16)","v":0}]
["N.月","O.環境負荷低減の取組","作物",null,null,null,null,"P.時間","Q.チェック",null,null,null,null,null,null,"○",12,"農地維持","実践活動","農道","12 路面の維持",{"$f":"COUNTIF(活動記録!$G$8:$L$27,【選択肢】!Q17)","v":0},null,"②多面的機能の増進を図る活動の項目を追加する場合"]
[1,"長期中干し","水稲",null,null,null,null,0.5,"☑",null,null,null,null,null,null,"○",13,"農地維持","実践活動","ため池","13 ため池の草刈り",{"$f":"COUNTIF(活動記録!$G$8:$L$27,【選択肢】!Q18)","v":0},null,"②-1　活動計画書３（２）２）で都道府県、市町村が認める具体的な活動の内容を入力できるようにする"]
[2,"冬期湛水","水稲",null,null,null,null,1,"□",null,null,null,null,null,null,"○",14,"農地維持","実践活動","ため池","14 ため池の泥上げ",{"$f":"COUNTIF(活動記録!$G$8:$L$27,【選択肢】!Q19)","v":0},null,"　１）「活動計画書」シートの147行目の「59　都道府県、市町村が特に認める活動」の下に行を挿入し、取組名を入力する。"]
[3,"夏期湛水","野菜","イモ類","麦類","豆類","なたね類",1.5,null,null,null,null,null,null,null,"○",15,"農地維持","実践活動","ため池","15 ため池附帯施設の保守管理",{"$f":"COUNTIF(活動記録!$G$8:$L$27,【選択肢】!Q20)","v":0},null,"　　　　このとき、「●共通」で入力した取組名と同じになるように注意してください。"]
[4,"中干し延期","水稲",null,null,null,null,2,null,null,null,null,null,null,null,"○",16,"農地維持","実践活動","共通","16 異常気象時の対応",{"$f":"COUNTIF(活動記録!$G$8:$L$27,【選択肢】!Q21)","v":0},null,"　　　　２）報告書においても同様に活動項目「59　都道府県、市町村が特に認める活動」の下に行を挿入して取組名を入力し、\n　　　　　　　「計画」「実施」欄については、「59　都道府県、市町村が特に認める活動」の「計画」「実施」欄にある数式をコピーする。"]
[5,"江の設置_作溝実施","水稲",null,null,null,null,2.5,null,null,null,null,null,null,null,"○",17,"農地維持","推進活動","推進活動","17 農業者の検討会の開催",{"$f":"COUNTIF(活動記録!$G$8:$L$27,【選択肢】!Q22)","v":0}]
[6,"江の設置_作溝未実施","水稲",null,null,null,null,3,null,null,null,null,null,null,null,"○",18,"農地維持","推進活動","推進活動","18 農業者に対する意向調査、現地調査",{"$f":"COUNTIF(活動記録!$G$8:$L$27,【選択肢】!Q23)","v":0}]
[7,null,null,null,null,null,null,3.5,null,null,null,null,null,null,null,"○",19,"農地維持","推進活動","推進活動","19 不在村地主との連絡体制の整備等",{"$f":"COUNTIF(活動記録!$G$8:$L$27,【選択肢】!Q24)","v":0},null,"②-2　活動計画書４（１）の加算措置の適用条件の確認ができるようにする"]
[8,null,null,null,null,null,null,4,null,null,null,null,null,null,null,"○",20,"農地維持","推進活動","推進活動","20 集落外住民や地域住民との意見交換等",{"$f":"COUNTIF(活動記録!$G$8:$L$27,【選択肢】!Q25)","v":0},null,"　　　「加算措置（みどり加算以外）」シートの「多面的機能の更なる増進に向けた活動への支援」の適用条件の確認欄についても同様に"]
[9,null,null,null,null,null,null,4.5,null,null,null,null,null,null,null,"○",21,"農地維持","推進活動","推進活動","21 地域住民等に対する意向調査等",{"$f":"COUNTIF(活動記録!$G$8:$L$27,【選択肢】!Q26)","v":0},null,"　　　「59　都道府県、市町村が特に認める活動」の下に行を挿入し、取組名を入力する。"]
[10,null,null,null,null,null,null,5,null,null,null,null,null,null,null,"○",22,"農地維持","推進活動","推進活動","22 有識者等による研修会、検討会の開催",{"$f":"COUNTIF(活動記録!$G$8:$L$27,【選択肢】!Q27)","v":0},null,"　　　「本事業計画の活動」の欄については、「59　都道府県、市町村が特に認める活動」の欄にある数式をコピーする。"]
[11,null,null,null,null,null,null,5.5,null,null,null,null,null,null,null,"○",23,"農地維持","推進活動","推進活動","23 その他",{"$f":"COUNTIF(活動記録!$G$8:$L$27,【選択肢】!Q28)","v":0}]
[12,null,null,null,null,null,null,6,null,null,null,null,null,null,null,"○",24,"共同","機能診断・計画策定","機能診断","24 農用地の機能診断",{"$f":"COUNTIF(活動記録!$G$8:$L$27,【選択肢】!Q29)","v":0},null,"③長寿命化の項目を追加する場合"]
[null,null,null,null,null,null,null,6.5,null,null,null,null,null,null,null,"○",25,"共同","機能診断・計画策定","機能診断","25 水路の機能診断",{"$f":"COUNTIF(活動記録!$G$8:$L$27,【選択肢】!Q30)","v":0},null,"活動計画書３（３）で実践活動を選択する際に、追加した項目を選択できるようにする"]
[null,null,null,null,null,null,null,7,null,null,null,null,null,null,null,"○",26,"共同","機能診断・計画策定","機能診断","26 農道の機能診断",{"$f":"COUNTIF(活動記録!$G$8:$L$27,【選択肢】!Q31)","v":0},null,"　１）対象施設を追加する場合は、「選択肢」シートのF6セルに追加する対象施設名を入力する。"]
[null,null,null,null,null,null,null,7.5,null,null,null,null,null,null,null,"○",27,"共同","機能診断・計画策定","機能診断","27 ため池の機能診断",{"$f":"COUNTIF(活動記録!$G$8:$L$27,【選択肢】!Q32)","v":0},null,"　　　次に、水路を対象とした取組であればH3セルより右のセルに、農道を対象とした取組であればH4セルより右のセルに、といった要領で番号と取組名"]
[null,null,null,null,null,null,null,8,null,null,null,null,null,null,null,"○",28,"共同","機能診断・計画策定","計画策定","28 年度活動計画の策定",{"$f":"COUNTIF(活動記録!$G$8:$L$27,【選択肢】!Q33)","v":0},null,"　　　を入力する。このとき、「●共通」で入力した取組名と同じになるように注意してください。"]
[null,null,null,null,null,null,null,8.5,null,null,null,null,null,null,null,"○",29,"共同","研修","研修","29 機能診断・補修技術等に関する研修",{"$f":"COUNTIF(活動記録!$G$8:$L$27,【選択肢】!Q34)","v":0},null,"　２）新たに対象施設を追加した場合は、その施設名を名称とし、参照範囲を「G6:J6」とした名前を定義する。"]
[null,null,null,null,null,null,null,9,null,null,null,null,null,null,null,"○",30,"共同","実践活動","農用地","30 農用地の軽微な補修等",{"$f":"COUNTIF(活動記録!$G$8:$L$27,【選択肢】!Q35)","v":0}]
[null,null,null,null,null,null,null,9.5,null,null,null,null,null,null,null,"○",31,"共同","実践活動","水路","31 水路の軽微な補修等",{"$f":"COUNTIF(活動記録!$G$8:$L$27,【選択肢】!Q36)","v":0}]
[null,null,null,null,null,null,null,10,null,null,null,null,null,null,null,"○",32,"共同","実践活動","農道","32 農道の軽微な補修等",{"$f":"COUNTIF(活動記録!$G$8:$L$27,【選択肢】!Q37)","v":0}]
[null,null,null,null,null,null,null,10.5,null,null,null,null,null,null,null,"○",33,"共同","実践活動","ため池","33 ため池の軽微な補修等",{"$f":"COUNTIF(活動記録!$G$8:$L$27,【選択肢】!Q38)","v":0}]
[null,null,null,null,null,null,null,11,null,null,null,null,null,null,null,"○",34,"共同","計画策定","生態系保全","34 生物多様性保全計画の策定",{"$f":"COUNTIF(活動記録!$G$8:$L$27,【選択肢】!Q39)","v":0}]
[null,null,null,null,null,null,null,11.5,null,null,null,null,null,null,null,"○",35,"共同","計画策定","水質保全","35 水質保全計画、農地保全計画の策定",{"$f":"COUNTIF(活動記録!$G$8:$L$27,【選択肢】!Q40)","v":0}]
[null,null,null,null,null,null,null,12,null,null,null,null,null,null,null,"○",36,"共同","計画策定","景観形成・生活環境保全","36 景観形成計画、生活環境保全計画の策定",{"$f":"COUNTIF(活動記録!$G$8:$L$27,【選択肢】!Q41)","v":0}]
[null,null,null,null,null,null,null,null,null,null,null,null,null,null,null,"○",37,"共同","計画策定","水田貯留・地下水かん養","37 水田貯留計画、地下水かん養計画の策定",{"$f":"COUNTIF(活動記録!$G$8:$L$27,【選択肢】!Q42)","v":0},"活動計画書、実施状況報告書のプルダウン選択用"]
[null,null,null,null,null,null,null,null,null,null,null,null,null,null,null,"○",38,"共同","計画策定","資源循環","38 資源循環計画の策定",{"$f":"COUNTIF(活動記録!$G$8:$L$27,【選択肢】!Q43)","v":0},"Ｋ.農村環境保全活動"]
[null,null,null,null,null,null,null,null,null,null,null,null,null,null,null,"○",39,"共同","実践活動","生態系保全","39 生物の生息状況の把握（生態系保全）",{"$f":"COUNTIF(活動記録!$G$8:$L$27,【選択肢】!Q44)","v":0},"39 生物の生息状況の把握（生態系保全）"]
[null,null,null,null,null,null,null,null,null,null,null,null,null,null,null,"○",40,"共同","実践活動","生態系保全","40 外来種の駆除（生態系保全）",{"$f":"COUNTIF(活動記録!$G$8:$L$27,【選択肢】!Q45)","v":0},"40 外来種の駆除（生態系保全）"]
[null,null,null,null,null,null,null,null,null,null,null,null,null,null,null,"○",41,"共同","実践活動","生態系保全","41 その他（生態系保全）",{"$f":"COUNTIF(活動記録!$G$8:$L$27,【選択肢】!Q46)","v":0},"41 その他（生態系保全）"]
[null,null,null,null,null,null,null,null,null,null,null,null,null,null,null,"○",42,"共同","実践活動","水質保全","42 水質モニタリングの実施・記録管理（水質保全）",{"$f":"COUNTIF(活動記録!$G$8:$L$27,【選択肢】!Q47)","v":0},"42 水質モニタリングの実施・記録管理（水質保全）"]
[null,null,null,null,null,null,null,null,null,null,null,null,null,null,null,"○",43,"共同","実践活動","水質保全","43 畑からの土砂流出対策（水質保全）",{"$f":"COUNTIF(活動記録!$G$8:$L$27,【選択肢】!Q48)","v":0},"43 畑からの土砂流出対策（水質保全）"]
[null,null,null,null,null,null,null,null,null,null,null,null,null,null,null,"○",44,"共同","実践活動","水質保全","44 その他（水質保全）",{"$f":"COUNTIF(活動記録!$G$8:$L$27,【選択肢】!Q49)","v":0},"44 その他（水質保全）"]
[null,null,null,null,null,null,null,null,null,null,null,null,null,null,null,"○",45,"共同","実践活動","景観形成・生活環境保全","45 植栽等の景観形成活動（景観形成・生活環境保全）",{"$f":"COUNTIF(活動記録!$G$8:$L$27,【選択肢】!Q50)","v":0},"45 植栽等の景観形成活動（景観形成・生活環境保全）"]
[null,null,null,null,null,null,null,null,null,null,null,null,null,null,null,"○",46,"共同","実践活動","景観形成・生活環境保全","46 施設等の定期的な巡回点検・清掃（景観形成・生活環境保全）",{"$f":"COUNTIF(活動記録!$G$8:$L$27,【選択肢】!Q51)","v":0},"46 施設等の定期的な巡回点検・清掃（景観形成・生活環境保全）"]
[null,null,null,null,null,null,null,null,null,null,null,null,null,null,null,"○",47,"共同","実践活動","景観形成・生活環境保全","47 その他（景観形成・生活環境保全）",{"$f":"COUNTIF(活動記録!$G$8:$L$27,【選択肢】!Q52)","v":0},"47 その他（景観形成・生活環境保全）"]
[null,null,null,null,null,null,null,null,null,null,null,null,null,null,null,"○",48,"共同","実践活動","水田貯留・地下水かん養","48 水田の貯留機能向上活動（水田貯留機能増進・地下水かん養）",{"$f":"COUNTIF(活動記録!$G$8:$L$27,【選択肢】!Q53)","v":0},"48 水田の貯留機能向上活動（水田貯留機能増進・地下水かん養）"]
[null,null,null,null,null,null,null,null,null,null,null,null,null,null,null,"○",49,"共同","実践活動","水田貯留・地下水かん養","49 地下水かん養活動、水源かん養林の保全（水田貯留機能増進・地下水かん養）",{"$f":"COUNTIF(活動記録!$G$8:$L$27,【選択肢】!Q54)","v":0},"49 地下水かん養活動、水源かん養林の保全（水田貯留機能増進・地下水かん養）"]
[null,null,null,null,null,null,null,null,null,null,null,null,null,null,null,"○",50,"共同","実践活動","資源循環","50 地域資源の活用・資源循環活動（資源循環）",{"$f":"COUNTIF(活動記録!$G$8:$L$27,【選択肢】!Q55)","v":0},"50 地域資源の活用・資源循環活動（資源循環）"]
[null,null,null,null,null,null,null,null,null,null,null,null,null,null,null,"○",51,"共同","啓発・普及","啓発・普及","51 啓発・普及活動",{"$f":"COUNTIF(活動記録!$G$8:$L$27,【選択肢】!Q56)","v":0}]
[null,null,null,null,null,null,null,null,null,null,null,null,null,null,null,"○",52,"共同","増進活動","増進活動","52 遊休農地の有効活用",{"$f":"COUNTIF(活動記録!$G$8:$L$27,【選択肢】!Q57)","v":0}]
[null,null,null,null,null,null,null,null,null,null,null,null,null,null,null,"○",53,"共同","増進活動","増進活動","53 鳥獣被害防止対策及び環境改善活動の強化",{"$f":"COUNTIF(活動記録!$G$8:$L$27,【選択肢】!Q58)","v":0}]
[null,null,null,null,null,null,null,null,null,null,null,null,null,null,null,"○",54,"共同","増進活動","増進活動","54 地域住民による直営施工",{"$f":"COUNTIF(活動記録!$G$8:$L$27,【選択肢】!Q59)","v":0}]
[null,null,null,null,null,null,null,null,null,null,null,null,null,null,null,"○",55,"共同","増進活動","増進活動","55 防災・減災力の強化",{"$f":"COUNTIF(活動記録!$G$8:$L$27,【選択肢】!Q60)","v":0}]
[null,null,null,null,null,null,null,null,null,null,null,null,null,null,null,"○",56,"共同","増進活動","増進活動","56 農村環境保全活動の幅広い展開",{"$f":"COUNTIF(活動記録!$G$8:$L$27,【選択肢】!Q61)","v":0}]
[null,null,null,null,null,null,null,null,null,null,null,null,null,null,null,"○",57,"共同","増進活動","増進活動","57 やすらぎ・福祉及び教育機能の活用",{"$f":"COUNTIF(活動記録!$G$8:$L$27,【選択肢】!Q62)","v":0}]
[null,null,null,null,null,null,null,null,null,null,null,null,null,null,null,"○",58,"共同","増進活動","増進活動","58 農村文化の伝承を通じた農村コミュニティの強化",{"$f":"COUNTIF(活動記録!$G$8:$L$27,【選択肢】!Q63)","v":0}]
[null,null,null,null,null,null,null,null,null,null,null,null,null,null,null,"○","58-2","共同","増進活動","増進活動","58-2 広域活動組織における活動支援班による活動の実施",{"$f":"COUNTIF(活動記録!$G$8:$L$27,【選択肢】!Q64)","v":0}]
[null,null,null,null,null,null,null,null,null,null,null,null,null,null,null,"○","58-3","共同","増進活動","増進活動","58-3 水管理を通じた環境負荷低減活動の強化",{"$f":"COUNTIF(活動記録!$G$8:$L$27,【選択肢】!Q65)","v":0}]
[null,null,null,null,null,null,null,null,null,null,null,null,null,null,null,"○",59,"共同","増進活動","増進活動","59 都道府県、市町村が特に認める活動",{"$f":"COUNTIF(活動記録!$G$8:$L$27,【選択肢】!Q66)","v":0}]
[null,null,null,null,null,null,null,null,null,null,null,null,null,null,null,"○",60,"共同","増進活動","増進活動","60 広報活動・農村関係人口の拡大",{"$f":"COUNTIF(活動記録!$G$8:$L$27,【選択肢】!Q67)","v":0}]
[null,null,null,null,null,null,null,null,null,null,null,null,null,null,null,"○",61,"長寿命化","実践活動","水路","61 水路の補修",{"$f":"COUNTIF(活動記録!$G$8:$L$27,【選択肢】!Q68)","v":0}]
[null,null,null,null,null,null,null,null,null,null,null,null,null,null,null,"○",62,"長寿命化","実践活動","水路","62 水路の更新等",{"$f":"COUNTIF(活動記録!$G$8:$L$27,【選択肢】!Q69)","v":0}]
[null,null,null,null,null,null,null,null,null,null,null,null,null,null,null,"○",63,"長寿命化","実践活動","農道","63 農道の補修",{"$f":"COUNTIF(活動記録!$G$8:$L$27,【選択肢】!Q70)","v":0}]
[null,null,null,null,null,null,null,null,null,null,null,null,null,null,null,"○",64,"長寿命化","実践活動","農道","64 農道の更新等",{"$f":"COUNTIF(活動記録!$G$8:$L$27,【選択肢】!Q71)","v":0}]
[null,null,null,null,null,null,null,null,null,null,null,null,null,null,null,"○",65,"長寿命化","実践活動","ため池","65 ため池の補修",{"$f":"COUNTIF(活動記録!$G$8:$L$27,【選択肢】!Q72)","v":0}]
[null,null,null,null,null,null,null,null,null,null,null,null,null,null,null,"○",66,"長寿命化","実践活動","ため池","66 ため池（附帯施設）の更新等",{"$f":"COUNTIF(活動記録!$G$8:$L$27,【選択肢】!Q73)","v":0}]
[]
[]
[]
[]
[]
[]
[]
[]
[]
[]
[]
[]
[]
[]
[]
[]
[null,null,null,null,null,null,null,null,null,null,null,null,null,null,null,null,null,null,"この線より上に行を挿入してください。"]
[]
[]
[]
[]
[]
[]
[]
[]
[]
[]
[]
[]
[]
[null,null,null,null,null,null,null,null,null,null,null,null,null,null,null,null,"P列に○がついている項目のみを抽出"]
[null,null,null,null,null,null,null,null,null,null,null,null,null,null,null,null,{"$f":"IFERROR(INDEX($Q$3:$U$89, SMALL(IF($P$3:$P$89=\"○\", ROW($P$3:$P$89)-ROW($P$3)+1), ROW(A1)), COLUMNS($Q$3:Q3)), \"\")","v":200},{"$f":"IFERROR(INDEX($Q$3:$U$89, SMALL(IF($P$3:$P$89=\"○\", ROW($P$3:$P$89)-ROW($P$3)+1), ROW(B1)), COLUMNS($Q$3:R3)), \"\")","v":"-"},{"$f":"IFERROR(INDEX($Q$3:$U$89, SMALL(IF($P$3:$P$89=\"○\", ROW($P$3:$P$89)-ROW($P$3)+1), ROW(C1)), COLUMNS($Q$3:S3)), \"\")","v":"事務処理"},{"$f":"IFERROR(INDEX($Q$3:$U$89, SMALL(IF($P$3:$P$89=\"○\", ROW($P$3:$P$89)-ROW($P$3)+1), ROW(D1)), COLUMNS($Q$3:T3)), \"\")","v":"事務処理"},{"$f":"IFERROR(INDEX($Q$3:$U$89, SMALL(IF($P$3:$P$89=\"○\", ROW($P$3:$P$89)-ROW($P$3)+1), ROW(E1)), COLUMNS($Q$3:U3)), \"\")","v":"200 事務処理"}]
[null,null,null,null,null,null,null,null,null,null,null,null,null,null,null,null,{"$f":"IFERROR(INDEX($Q$3:$U$89, SMALL(IF($P$3:$P$89=\"○\", ROW($P$3:$P$89)-ROW($P$3)+1), ROW(A2)), COLUMNS($Q$3:Q4)), \"\")","v":300},{"$f":"IFERROR(INDEX($Q$3:$U$89, SMALL(IF($P$3:$P$89=\"○\", ROW($P$3:$P$89)-ROW($P$3)+1), ROW(B2)), COLUMNS($Q$3:R4)), \"\")","v":"-"},{"$f":"IFERROR(INDEX($Q$3:$U$89, SMALL(IF($P$3:$P$89=\"○\", ROW($P$3:$P$89)-ROW($P$3)+1), ROW(C2)), COLUMNS($Q$3:S4)), \"\")","v":"会議"},{"$f":"IFERROR(INDEX($Q$3:$U$89, SMALL(IF($P$3:$P$89=\"○\", ROW($P$3:$P$89)-ROW($P$3)+1), ROW(D2)), COLUMNS($Q$3:T4)), \"\")","v":"会議"},{"$f":"IFERROR(INDEX($Q$3:$U$89, SMALL(IF($P$3:$P$89=\"○\", ROW($P$3:$P$89)-ROW($P$3)+1), ROW(E2)), COLUMNS($Q$3:U4)), \"\")","v":"300 会議"}]
[null,null,null,null,null,null,null,null,null,null,null,null,null,null,null,null,{"$f":"IFERROR(INDEX($Q$3:$U$89, SMALL(IF($P$3:$P$89=\"○\", ROW($P$3:$P$89)-ROW($P$3)+1), ROW(A3)), COLUMNS($Q$3:Q5)), \"\")","v":0},{"$f":"IFERROR(INDEX($Q$3:$U$89, SMALL(IF($P$3:$P$89=\"○\", ROW($P$3:$P$89)-ROW($P$3)+1), ROW(B3)), COLUMNS($Q$3:R5)), \"\")","v":0},{"$f":"IFERROR(INDEX($Q$3:$U$89, SMALL(IF($P$3:$P$89=\"○\", ROW($P$3:$P$89)-ROW($P$3)+1), ROW(C3)), COLUMNS($Q$3:S5)), \"\")","v":0},{"$f":"IFERROR(INDEX($Q$3:$U$89, SMALL(IF($P$3:$P$89=\"○\", ROW($P$3:$P$89)-ROW($P$3)+1), ROW(D3)), COLUMNS($Q$3:T5)), \"\")","v":0},{"$f":"IFERROR(INDEX($Q$3:$U$89, SMALL(IF($P$3:$P$89=\"○\", ROW($P$3:$P$89)-ROW($P$3)+1), ROW(E3)), COLUMNS($Q$3:U5)), \"\")","v":0}]
[null,null,null,null,null,null,null,null,null,null,null,null,null,null,null,null,{"$f":"IFERROR(INDEX($Q$3:$U$89, SMALL(IF($P$3:$P$89=\"○\", ROW($P$3:$P$89)-ROW($P$3)+1), ROW(A4)), COLUMNS($Q$3:Q6)), \"\")","v":1},{"$f":"IFERROR(INDEX($Q$3:$U$89, SMALL(IF($P$3:$P$89=\"○\", ROW($P$3:$P$89)-ROW($P$3)+1), ROW(B4)), COLUMNS($Q$3:R6)), \"\")","v":"農地維持"},{"$f":"IFERROR(INDEX($Q$3:$U$89, SMALL(IF($P$3:$P$89=\"○\", ROW($P$3:$P$89)-ROW($P$3)+1), ROW(C4)), COLUMNS($Q$3:S6)), \"\")","v":"点検・計画策定"},{"$f":"IFERROR(INDEX($Q$3:$U$89, SMALL(IF($P$3:$P$89=\"○\", ROW($P$3:$P$89)-ROW($P$3)+1), ROW(D4)), COLUMNS($Q$3:T6)), \"\")","v":"点検"},{"$f":"IFERROR(INDEX($Q$3:$U$89, SMALL(IF($P$3:$P$89=\"○\", ROW($P$3:$P$89)-ROW($P$3)+1), ROW(E4)), COLUMNS($Q$3:U6)), \"\")","v":"1 点検"}]
[null,null,null,null,null,null,null,null,null,null,null,null,null,null,null,null,{"$f":"IFERROR(INDEX($Q$3:$U$89, SMALL(IF($P$3:$P$89=\"○\", ROW($P$3:$P$89)-ROW($P$3)+1), ROW(A5)), COLUMNS($Q$3:Q7)), \"\")","v":2},{"$f":"IFERROR(INDEX($Q$3:$U$89, SMALL(IF($P$3:$P$89=\"○\", ROW($P$3:$P$89)-ROW($P$3)+1), ROW(B5)), COLUMNS($Q$3:R7)), \"\")","v":"農地維持"},{"$f":"IFERROR(INDEX($Q$3:$U$89, SMALL(IF($P$3:$P$89=\"○\", ROW($P$3:$P$89)-ROW($P$3)+1), ROW(C5)), COLUMNS($Q$3:S7)), \"\")","v":"点検・計画策定"},{"$f":"IFERROR(INDEX($Q$3:$U$89, SMALL(IF($P$3:$P$89=\"○\", ROW($P$3:$P$89)-ROW($P$3)+1), ROW(D5)), COLUMNS($Q$3:T7)), \"\")","v":"計画策定"},{"$f":"IFERROR(INDEX($Q$3:$U$89, SMALL(IF($P$3:$P$89=\"○\", ROW($P$3:$P$89)-ROW($P$3)+1), ROW(E5)), COLUMNS($Q$3:U7)), \"\")","v":"2 年度活動計画の策定"}]
[null,null,null,null,null,null,null,null,null,null,null,null,null,null,null,null,{"$f":"IFERROR(INDEX($Q$3:$U$89, SMALL(IF($P$3:$P$89=\"○\", ROW($P$3:$P$89)-ROW($P$3)+1), ROW(A6)), COLUMNS($Q$3:Q8)), \"\")","v":3},{"$f":"IFERROR(INDEX($Q$3:$U$89, SMALL(IF($P$3:$P$89=\"○\", ROW($P$3:$P$89)-ROW($P$3)+1), ROW(B6)), COLUMNS($Q$3:R8)), \"\")","v":"農地維持"},{"$f":"IFERROR(INDEX($Q$3:$U$89, SMALL(IF($P$3:$P$89=\"○\", ROW($P$3:$P$89)-ROW($P$3)+1), ROW(C6)), COLUMNS($Q$3:S8)), \"\")","v":"研修"},{"$f":"IFERROR(INDEX($Q$3:$U$89, SMALL(IF($P$3:$P$89=\"○\", ROW($P$3:$P$89)-ROW($P$3)+1), ROW(D6)), COLUMNS($Q$3:T8)), \"\")","v":"研修"},{"$f":"IFERROR(INDEX($Q$3:$U$89, SMALL(IF($P$3:$P$89=\"○\", ROW($P$3:$P$89)-ROW($P$3)+1), ROW(E6)), COLUMNS($Q$3:U8)), \"\")","v":"3 事務・組織運営等に関する研修、機械の安全使用に関する研修"}]
[null,null,null,null,null,null,null,null,null,null,null,null,null,null,null,null,{"$f":"IFERROR(INDEX($Q$3:$U$89, SMALL(IF($P$3:$P$89=\"○\", ROW($P$3:$P$89)-ROW($P$3)+1), ROW(A7)), COLUMNS($Q$3:Q9)), \"\")","v":4},{"$f":"IFERROR(INDEX($Q$3:$U$89, SMALL(IF($P$3:$P$89=\"○\", ROW($P$3:$P$89)-ROW($P$3)+1), ROW(B7)), COLUMNS($Q$3:R9)), \"\")","v":"農地維持"},{"$f":"IFERROR(INDEX($Q$3:$U$89, SMALL(IF($P$3:$P$89=\"○\", ROW($P$3:$P$89)-ROW($P$3)+1), ROW(C7)), COLUMNS($Q$3:S9)), \"\")","v":"実践活動"},{"$f":"IFERROR(INDEX($Q$3:$U$89, SMALL(IF($P$3:$P$89=\"○\", ROW($P$3:$P$89)-ROW($P$3)+1), ROW(D7)), COLUMNS($Q$3:T9)), \"\")","v":"農用地"},{"$f":"IFERROR(INDEX($Q$3:$U$89, SMALL(IF($P$3:$P$89=\"○\", ROW($P$3:$P$89)-ROW($P$3)+1), ROW(E7)), COLUMNS($Q$3:U9)), \"\")","v":"4 遊休農地発生防止のための保全管理"}]
[null,null,null,null,null,null,null,null,null,null,null,null,null,null,null,null,{"$f":"IFERROR(INDEX($Q$3:$U$89, SMALL(IF($P$3:$P$89=\"○\", ROW($P$3:$P$89)-ROW($P$3)+1), ROW(A8)), COLUMNS($Q$3:Q10)), \"\")","v":5},{"$f":"IFERROR(INDEX($Q$3:$U$89, SMALL(IF($P$3:$P$89=\"○\", ROW($P$3:$P$89)-ROW($P$3)+1), ROW(B8)), COLUMNS($Q$3:R10)), \"\")","v":"農地維持"},{"$f":"IFERROR(INDEX($Q$3:$U$89, SMALL(IF($P$3:$P$89=\"○\", ROW($P$3:$P$89)-ROW($P$3)+1), ROW(C8)), COLUMNS($Q$3:S10)), \"\")","v":"実践活動"},{"$f":"IFERROR(INDEX($Q$3:$U$89, SMALL(IF($P$3:$P$89=\"○\", ROW($P$3:$P$89)-ROW($P$3)+1), ROW(D8)), COLUMNS($Q$3:T10)), \"\")","v":"農用地"},{"$f":"IFERROR(INDEX($Q$3:$U$89, SMALL(IF($P$3:$P$89=\"○\", ROW($P$3:$P$89)-ROW($P$3)+1), ROW(E8)), COLUMNS($Q$3:U10)), \"\")","v":"5 畦畔・法面・防風林の草刈り"}]
[null,null,null,null,null,null,null,null,null,null,null,null,null,null,null,null,{"$f":"IFERROR(INDEX($Q$3:$U$89, SMALL(IF($P$3:$P$89=\"○\", ROW($P$3:$P$89)-ROW($P$3)+1), ROW(A9)), COLUMNS($Q$3:Q11)), \"\")","v":6},{"$f":"IFERROR(INDEX($Q$3:$U$89, SMALL(IF($P$3:$P$89=\"○\", ROW($P$3:$P$89)-ROW($P$3)+1), ROW(B9)), COLUMNS($Q$3:R11)), \"\")","v":"農地維持"},{"$f":"IFERROR(INDEX($Q$3:$U$89, SMALL(IF($P$3:$P$89=\"○\", ROW($P$3:$P$89)-ROW($P$3)+1), ROW(C9)), COLUMNS($Q$3:S11)), \"\")","v":"実践活動"},{"$f":"IFERROR(INDEX($Q$3:$U$89, SMALL(IF($P$3:$P$89=\"○\", ROW($P$3:$P$89)-ROW($P$3)+1), ROW(D9)), COLUMNS($Q$3:T11)), \"\")","v":"農用地"},{"$f":"IFERROR(INDEX($Q$3:$U$89, SMALL(IF($P$3:$P$89=\"○\", ROW($P$3:$P$89)-ROW($P$3)+1), ROW(E9)), COLUMNS($Q$3:U11)), \"\")","v":"6 鳥獣害防護柵等の保守管理"}]
[null,null,null,null,null,null,null,null,null,null,null,null,null,null,null,null,{"$f":"IFERROR(INDEX($Q$3:$U$89, SMALL(IF($P$3:$P$89=\"○\", ROW($P$3:$P$89)-ROW($P$3)+1), ROW(A10)), COLUMNS($Q$3:Q12)), \"\")","v":7},{"$f":"IFERROR(INDEX($Q$3:$U$89, SMALL(IF($P$3:$P$89=\"○\", ROW($P$3:$P$89)-ROW($P$3)+1), ROW(B10)), COLUMNS($Q$3:R12)), \"\")","v":"農地維持"},{"$f":"IFERROR(INDEX($Q$3:$U$89, SMALL(IF($P$3:$P$89=\"○\", ROW($P$3:$P$89)-ROW($P$3)+1), ROW(C10)), COLUMNS($Q$3:S12)), \"\")","v":"実践活動"},{"$f":"IFERROR(INDEX($Q$3:$U$89, SMALL(IF($P$3:$P$89=\"○\", ROW($P$3:$P$89)-ROW($P$3)+1), ROW(D10)), COLUMNS($Q$3:T12)), \"\")","v":"水路"},{"$f":"IFERROR(INDEX($Q$3:$U$89, SMALL(IF($P$3:$P$89=\"○\", ROW($P$3:$P$89)-ROW($P$3)+1), ROW(E10)), COLUMNS($Q$3:U12)), \"\")","v":"7 水路の草刈り"}]
[null,null,null,null,null,null,null,null,null,null,null,null,null,null,null,null,{"$f":"IFERROR(INDEX($Q$3:$U$89, SMALL(IF($P$3:$P$89=\"○\", ROW($P$3:$P$89)-ROW($P$3)+1), ROW(A11)), COLUMNS($Q$3:Q13)), \"\")","v":8},{"$f":"IFERROR(INDEX($Q$3:$U$89, SMALL(IF($P$3:$P$89=\"○\", ROW($P$3:$P$89)-ROW($P$3)+1), ROW(B11)), COLUMNS($Q$3:R13)), \"\")","v":"農地維持"},{"$f":"IFERROR(INDEX($Q$3:$U$89, SMALL(IF($P$3:$P$89=\"○\", ROW($P$3:$P$89)-ROW($P$3)+1), ROW(C11)), COLUMNS($Q$3:S13)), \"\")","v":"実践活動"},{"$f":"IFERROR(INDEX($Q$3:$U$89, SMALL(IF($P$3:$P$89=\"○\", ROW($P$3:$P$89)-ROW($P$3)+1), ROW(D11)), COLUMNS($Q$3:T13)), \"\")","v":"水路"},{"$f":"IFERROR(INDEX($Q$3:$U$89, SMALL(IF($P$3:$P$89=\"○\", ROW($P$3:$P$89)-ROW($P$3)+1), ROW(E11)), COLUMNS($Q$3:U13)), \"\")","v":"8 水路の泥上げ"}]
[null,null,null,null,null,null,null,null,null,null,null,null,null,null,null,null,{"$f":"IFERROR(INDEX($Q$3:$U$89, SMALL(IF($P$3:$P$89=\"○\", ROW($P$3:$P$89)-ROW($P$3)+1), ROW(A12)), COLUMNS($Q$3:Q14)), \"\")","v":9},{"$f":"IFERROR(INDEX($Q$3:$U$89, SMALL(IF($P$3:$P$89=\"○\", ROW($P$3:$P$89)-ROW($P$3)+1), ROW(B12)), COLUMNS($Q$3:R14)), \"\")","v":"農地維持"},{"$f":"IFERROR(INDEX($Q$3:$U$89, SMALL(IF($P$3:$P$89=\"○\", ROW($P$3:$P$89)-ROW($P$3)+1), ROW(C12)), COLUMNS($Q$3:S14)), \"\")","v":"実践活動"},{"$f":"IFERROR(INDEX($Q$3:$U$89, SMALL(IF($P$3:$P$89=\"○\", ROW($P$3:$P$89)-ROW($P$3)+1), ROW(D12)), COLUMNS($Q$3:T14)), \"\")","v":"水路"},{"$f":"IFERROR(INDEX($Q$3:$U$89, SMALL(IF($P$3:$P$89=\"○\", ROW($P$3:$P$89)-ROW($P$3)+1), ROW(E12)), COLUMNS($Q$3:U14)), \"\")","v":"9 水路附帯施設の保守管理"}]
[null,null,null,null,null,null,null,null,null,null,null,null,null,null,null,null,{"$f":"IFERROR(INDEX($Q$3:$U$89, SMALL(IF($P$3:$P$89=\"○\", ROW($P$3:$P$89)-ROW($P$3)+1), ROW(A13)), COLUMNS($Q$3:Q15)), \"\")","v":10},{"$f":"IFERROR(INDEX($Q$3:$U$89, SMALL(IF($P$3:$P$89=\"○\", ROW($P$3:$P$89)-ROW($P$3)+1), ROW(B13)), COLUMNS($Q$3:R15)), \"\")","v":"農地維持"},{"$f":"IFERROR(INDEX($Q$3:$U$89, SMALL(IF($P$3:$P$89=\"○\", ROW($P$3:$P$89)-ROW($P$3)+1), ROW(C13)), COLUMNS($Q$3:S15)), \"\")","v":"実践活動"},{"$f":"IFERROR(INDEX($Q$3:$U$89, SMALL(IF($P$3:$P$89=\"○\", ROW($P$3:$P$89)-ROW($P$3)+1), ROW(D13)), COLUMNS($Q$3:T15)), \"\")","v":"農道"},{"$f":"IFERROR(INDEX($Q$3:$U$89, SMALL(IF($P$3:$P$89=\"○\", ROW($P$3:$P$89)-ROW($P$3)+1), ROW(E13)), COLUMNS($Q$3:U15)), \"\")","v":"10 農道の草刈り"}]
[null,null,null,null,null,null,null,null,null,null,null,null,null,null,null,null,{"$f":"IFERROR(INDEX($Q$3:$U$89, SMALL(IF($P$3:$P$89=\"○\", ROW($P$3:$P$89)-ROW($P$3)+1), ROW(A14)), COLUMNS($Q$3:Q16)), \"\")","v":11},{"$f":"IFERROR(INDEX($Q$3:$U$89, SMALL(IF($P$3:$P$89=\"○\", ROW($P$3:$P$89)-ROW($P$3)+1), ROW(B14)), COLUMNS($Q$3:R16)), \"\")","v":"農地維持"},{"$f":"IFERROR(INDEX($Q$3:$U$89, SMALL(IF($P$3:$P$89=\"○\", ROW($P$3:$P$89)-ROW($P$3)+1), ROW(C14)), COLUMNS($Q$3:S16)), \"\")","v":"実践活動"},{"$f":"IFERROR(INDEX($Q$3:$U$89, SMALL(IF($P$3:$P$89=\"○\", ROW($P$3:$P$89)-ROW($P$3)+1), ROW(D14)), COLUMNS($Q$3:T16)), \"\")","v":"農道"},{"$f":"IFERROR(INDEX($Q$3:$U$89, SMALL(IF($P$3:$P$89=\"○\", ROW($P$3:$P$89)-ROW($P$3)+1), ROW(E14)), COLUMNS($Q$3:U16)), \"\")","v":"11 農道側溝の泥上げ"}]
[null,null,null,null,null,null,null,null,null,null,null,null,null,null,null,null,{"$f":"IFERROR(INDEX($Q$3:$U$89, SMALL(IF($P$3:$P$89=\"○\", ROW($P$3:$P$89)-ROW($P$3)+1), ROW(A15)), COLUMNS($Q$3:Q17)), \"\")","v":12},{"$f":"IFERROR(INDEX($Q$3:$U$89, SMALL(IF($P$3:$P$89=\"○\", ROW($P$3:$P$89)-ROW($P$3)+1), ROW(B15)), COLUMNS($Q$3:R17)), \"\")","v":"農地維持"},{"$f":"IFERROR(INDEX($Q$3:$U$89, SMALL(IF($P$3:$P$89=\"○\", ROW($P$3:$P$89)-ROW($P$3)+1), ROW(C15)), COLUMNS($Q$3:S17)), \"\")","v":"実践活動"},{"$f":"IFERROR(INDEX($Q$3:$U$89, SMALL(IF($P$3:$P$89=\"○\", ROW($P$3:$P$89)-ROW($P$3)+1), ROW(D15)), COLUMNS($Q$3:T17)), \"\")","v":"農道"},{"$f":"IFERROR(INDEX($Q$3:$U$89, SMALL(IF($P$3:$P$89=\"○\", ROW($P$3:$P$89)-ROW($P$3)+1), ROW(E15)), COLUMNS($Q$3:U17)), \"\")","v":"12 路面の維持"}]
[null,null,null,null,null,null,null,null,null,null,null,null,null,null,null,null,{"$f":"IFERROR(INDEX($Q$3:$U$89, SMALL(IF($P$3:$P$89=\"○\", ROW($P$3:$P$89)-ROW($P$3)+1), ROW(A16)), COLUMNS($Q$3:Q18)), \"\")","v":13},{"$f":"IFERROR(INDEX($Q$3:$U$89, SMALL(IF($P$3:$P$89=\"○\", ROW($P$3:$P$89)-ROW($P$3)+1), ROW(B16)), COLUMNS($Q$3:R18)), \"\")","v":"農地維持"},{"$f":"IFERROR(INDEX($Q$3:$U$89, SMALL(IF($P$3:$P$89=\"○\", ROW($P$3:$P$89)-ROW($P$3)+1), ROW(C16)), COLUMNS($Q$3:S18)), \"\")","v":"実践活動"},{"$f":"IFERROR(INDEX($Q$3:$U$89, SMALL(IF($P$3:$P$89=\"○\", ROW($P$3:$P$89)-ROW($P$3)+1), ROW(D16)), COLUMNS($Q$3:T18)), \"\")","v":"ため池"},{"$f":"IFERROR(INDEX($Q$3:$U$89, SMALL(IF($P$3:$P$89=\"○\", ROW($P$3:$P$89)-ROW($P$3)+1), ROW(E16)), COLUMNS($Q$3:U18)), \"\")","v":"13 ため池の草刈り"}]
[null,null,null,null,null,null,null,null,null,null,null,null,null,null,null,null,{"$f":"IFERROR(INDEX($Q$3:$U$89, SMALL(IF($P$3:$P$89=\"○\", ROW($P$3:$P$89)-ROW($P$3)+1), ROW(A17)), COLUMNS($Q$3:Q19)), \"\")","v":14},{"$f":"IFERROR(INDEX($Q$3:$U$89, SMALL(IF($P$3:$P$89=\"○\", ROW($P$3:$P$89)-ROW($P$3)+1), ROW(B17)), COLUMNS($Q$3:R19)), \"\")","v":"農地維持"},{"$f":"IFERROR(INDEX($Q$3:$U$89, SMALL(IF($P$3:$P$89=\"○\", ROW($P$3:$P$89)-ROW($P$3)+1), ROW(C17)), COLUMNS($Q$3:S19)), \"\")","v":"実践活動"},{"$f":"IFERROR(INDEX($Q$3:$U$89, SMALL(IF($P$3:$P$89=\"○\", ROW($P$3:$P$89)-ROW($P$3)+1), ROW(D17)), COLUMNS($Q$3:T19)), \"\")","v":"ため池"},{"$f":"IFERROR(INDEX($Q$3:$U$89, SMALL(IF($P$3:$P$89=\"○\", ROW($P$3:$P$89)-ROW($P$3)+1), ROW(E17)), COLUMNS($Q$3:U19)), \"\")","v":"14 ため池の泥上げ"}]
[null,null,null,null,null,null,null,null,null,null,null,null,null,null,null,null,{"$f":"IFERROR(INDEX($Q$3:$U$89, SMALL(IF($P$3:$P$89=\"○\", ROW($P$3:$P$89)-ROW($P$3)+1), ROW(A18)), COLUMNS($Q$3:Q20)), \"\")","v":15},{"$f":"IFERROR(INDEX($Q$3:$U$89, SMALL(IF($P$3:$P$89=\"○\", ROW($P$3:$P$89)-ROW($P$3)+1), ROW(B18)), COLUMNS($Q$3:R20)), \"\")","v":"農地維持"},{"$f":"IFERROR(INDEX($Q$3:$U$89, SMALL(IF($P$3:$P$89=\"○\", ROW($P$3:$P$89)-ROW($P$3)+1), ROW(C18)), COLUMNS($Q$3:S20)), \"\")","v":"実践活動"},{"$f":"IFERROR(INDEX($Q$3:$U$89, SMALL(IF($P$3:$P$89=\"○\", ROW($P$3:$P$89)-ROW($P$3)+1), ROW(D18)), COLUMNS($Q$3:T20)), \"\")","v":"ため池"},{"$f":"IFERROR(INDEX($Q$3:$U$89, SMALL(IF($P$3:$P$89=\"○\", ROW($P$3:$P$89)-ROW($P$3)+1), ROW(E18)), COLUMNS($Q$3:U20)), \"\")","v":"15 ため池附帯施設の保守管理"}]
[null,null,null,null,null,null,null,null,null,null,null,null,null,null,null,null,{"$f":"IFERROR(INDEX($Q$3:$U$89, SMALL(IF($P$3:$P$89=\"○\", ROW($P$3:$P$89)-ROW($P$3)+1), ROW(A19)), COLUMNS($Q$3:Q21)), \"\")","v":16},{"$f":"IFERROR(INDEX($Q$3:$U$89, SMALL(IF($P$3:$P$89=\"○\", ROW($P$3:$P$89)-ROW($P$3)+1), ROW(B19)), COLUMNS($Q$3:R21)), \"\")","v":"農地維持"},{"$f":"IFERROR(INDEX($Q$3:$U$89, SMALL(IF($P$3:$P$89=\"○\", ROW($P$3:$P$89)-ROW($P$3)+1), ROW(C19)), COLUMNS($Q$3:S21)), \"\")","v":"実践活動"},{"$f":"IFERROR(INDEX($Q$3:$U$89, SMALL(IF($P$3:$P$89=\"○\", ROW($P$3:$P$89)-ROW($P$3)+1), ROW(D19)), COLUMNS($Q$3:T21)), \"\")","v":"共通"},{"$f":"IFERROR(INDEX($Q$3:$U$89, SMALL(IF($P$3:$P$89=\"○\", ROW($P$3:$P$89)-ROW($P$3)+1), ROW(E19)), COLUMNS($Q$3:U21)), \"\")","v":"16 異常気象時の対応"}]
[null,null,null,null,null,null,null,null,null,null,null,null,null,null,null,null,{"$f":"IFERROR(INDEX($Q$3:$U$89, SMALL(IF($P$3:$P$89=\"○\", ROW($P$3:$P$89)-ROW($P$3)+1), ROW(A20)), COLUMNS($Q$3:Q22)), \"\")","v":17},{"$f":"IFERROR(INDEX($Q$3:$U$89, SMALL(IF($P$3:$P$89=\"○\", ROW($P$3:$P$89)-ROW($P$3)+1), ROW(B20)), COLUMNS($Q$3:R22)), \"\")","v":"農地維持"},{"$f":"IFERROR(INDEX($Q$3:$U$89, SMALL(IF($P$3:$P$89=\"○\", ROW($P$3:$P$89)-ROW($P$3)+1), ROW(C20)), COLUMNS($Q$3:S22)), \"\")","v":"推進活動"},{"$f":"IFERROR(INDEX($Q$3:$U$89, SMALL(IF($P$3:$P$89=\"○\", ROW($P$3:$P$89)-ROW($P$3)+1), ROW(D20)), COLUMNS($Q$3:T22)), \"\")","v":"推進活動"},{"$f":"IFERROR(INDEX($Q$3:$U$89, SMALL(IF($P$3:$P$89=\"○\", ROW($P$3:$P$89)-ROW($P$3)+1), ROW(E20)), COLUMNS($Q$3:U22)), \"\")","v":"17 農業者の検討会の開催"}]
[null,null,null,null,null,null,null,null,null,null,null,null,null,null,null,null,{"$f":"IFERROR(INDEX($Q$3:$U$89, SMALL(IF($P$3:$P$89=\"○\", ROW($P$3:$P$89)-ROW($P$3)+1), ROW(A21)), COLUMNS($Q$3:Q23)), \"\")","v":18},{"$f":"IFERROR(INDEX($Q$3:$U$89, SMALL(IF($P$3:$P$89=\"○\", ROW($P$3:$P$89)-ROW($P$3)+1), ROW(B21)), COLUMNS($Q$3:R23)), \"\")","v":"農地維持"},{"$f":"IFERROR(INDEX($Q$3:$U$89, SMALL(IF($P$3:$P$89=\"○\", ROW($P$3:$P$89)-ROW($P$3)+1), ROW(C21)), COLUMNS($Q$3:S23)), \"\")","v":"推進活動"},{"$f":"IFERROR(INDEX($Q$3:$U$89, SMALL(IF($P$3:$P$89=\"○\", ROW($P$3:$P$89)-ROW($P$3)+1), ROW(D21)), COLUMNS($Q$3:T23)), \"\")","v":"推進活動"},{"$f":"IFERROR(INDEX($Q$3:$U$89, SMALL(IF($P$3:$P$89=\"○\", ROW($P$3:$P$89)-ROW($P$3)+1), ROW(E21)), COLUMNS($Q$3:U23)), \"\")","v":"18 農業者に対する意向調査、現地調査"}]
[null,null,null,null,null,null,null,null,null,null,null,null,null,null,null,null,{"$f":"IFERROR(INDEX($Q$3:$U$89, SMALL(IF($P$3:$P$89=\"○\", ROW($P$3:$P$89)-ROW($P$3)+1), ROW(A22)), COLUMNS($Q$3:Q24)), \"\")","v":19},{"$f":"IFERROR(INDEX($Q$3:$U$89, SMALL(IF($P$3:$P$89=\"○\", ROW($P$3:$P$89)-ROW($P$3)+1), ROW(B22)), COLUMNS($Q$3:R24)), \"\")","v":"農地維持"},{"$f":"IFERROR(INDEX($Q$3:$U$89, SMALL(IF($P$3:$P$89=\"○\", ROW($P$3:$P$89)-ROW($P$3)+1), ROW(C22)), COLUMNS($Q$3:S24)), \"\")","v":"推進活動"},{"$f":"IFERROR(INDEX($Q$3:$U$89, SMALL(IF($P$3:$P$89=\"○\", ROW($P$3:$P$89)-ROW($P$3)+1), ROW(D22)), COLUMNS($Q$3:T24)), \"\")","v":"推進活動"},{"$f":"IFERROR(INDEX($Q$3:$U$89, SMALL(IF($P$3:$P$89=\"○\", ROW($P$3:$P$89)-ROW($P$3)+1), ROW(E22)), COLUMNS($Q$3:U24)), \"\")","v":"19 不在村地主との連絡体制の整備等"}]
[null,null,null,null,null,null,null,null,null,null,null,null,null,null,null,null,{"$f":"IFERROR(INDEX($Q$3:$U$89, SMALL(IF($P$3:$P$89=\"○\", ROW($P$3:$P$89)-ROW($P$3)+1), ROW(A23)), COLUMNS($Q$3:Q25)), \"\")","v":20},{"$f":"IFERROR(INDEX($Q$3:$U$89, SMALL(IF($P$3:$P$89=\"○\", ROW($P$3:$P$89)-ROW($P$3)+1), ROW(B23)), COLUMNS($Q$3:R25)), \"\")","v":"農地維持"},{"$f":"IFERROR(INDEX($Q$3:$U$89, SMALL(IF($P$3:$P$89=\"○\", ROW($P$3:$P$89)-ROW($P$3)+1), ROW(C23)), COLUMNS($Q$3:S25)), \"\")","v":"推進活動"},{"$f":"IFERROR(INDEX($Q$3:$U$89, SMALL(IF($P$3:$P$89=\"○\", ROW($P$3:$P$89)-ROW($P$3)+1), ROW(D23)), COLUMNS($Q$3:T25)), \"\")","v":"推進活動"},{"$f":"IFERROR(INDEX($Q$3:$U$89, SMALL(IF($P$3:$P$89=\"○\", ROW($P$3:$P$89)-ROW($P$3)+1), ROW(E23)), COLUMNS($Q$3:U25)), \"\")","v":"20 集落外住民や地域住民との意見交換等"}]
[null,null,null,null,null,null,null,null,null,null,null,null,null,null,null,null,{"$f":"IFERROR(INDEX($Q$3:$U$89, SMALL(IF($P$3:$P$89=\"○\", ROW($P$3:$P$89)-ROW($P$3)+1), ROW(A24)), COLUMNS($Q$3:Q26)), \"\")","v":21},{"$f":"IFERROR(INDEX($Q$3:$U$89, SMALL(IF($P$3:$P$89=\"○\", ROW($P$3:$P$89)-ROW($P$3)+1), ROW(B24)), COLUMNS($Q$3:R26)), \"\")","v":"農地維持"},{"$f":"IFERROR(INDEX($Q$3:$U$89, SMALL(IF($P$3:$P$89=\"○\", ROW($P$3:$P$89)-ROW($P$3)+1), ROW(C24)), COLUMNS($Q$3:S26)), \"\")","v":"推進活動"},{"$f":"IFERROR(INDEX($Q$3:$U$89, SMALL(IF($P$3:$P$89=\"○\", ROW($P$3:$P$89)-ROW($P$3)+1), ROW(D24)), COLUMNS($Q$3:T26)), \"\")","v":"推進活動"},{"$f":"IFERROR(INDEX($Q$3:$U$89, SMALL(IF($P$3:$P$89=\"○\", ROW($P$3:$P$89)-ROW($P$3)+1), ROW(E24)), COLUMNS($Q$3:U26)), \"\")","v":"21 地域住民等に対する意向調査等"}]
[null,null,null,null,null,null,null,null,null,null,null,null,null,null,null,null,{"$f":"IFERROR(INDEX($Q$3:$U$89, SMALL(IF($P$3:$P$89=\"○\", ROW($P$3:$P$89)-ROW($P$3)+1), ROW(A25)), COLUMNS($Q$3:Q27)), \"\")","v":22},{"$f":"IFERROR(INDEX($Q$3:$U$89, SMALL(IF($P$3:$P$89=\"○\", ROW($P$3:$P$89)-ROW($P$3)+1), ROW(B25)), COLUMNS($Q$3:R27)), \"\")","v":"農地維持"},{"$f":"IFERROR(INDEX($Q$3:$U$89, SMALL(IF($P$3:$P$89=\"○\", ROW($P$3:$P$89)-ROW($P$3)+1), ROW(C25)), COLUMNS($Q$3:S27)), \"\")","v":"推進活動"},{"$f":"IFERROR(INDEX($Q$3:$U$89, SMALL(IF($P$3:$P$89=\"○\", ROW($P$3:$P$89)-ROW($P$3)+1), ROW(D25)), COLUMNS($Q$3:T27)), \"\")","v":"推進活動"},{"$f":"IFERROR(INDEX($Q$3:$U$89, SMALL(IF($P$3:$P$89=\"○\", ROW($P$3:$P$89)-ROW($P$3)+1), ROW(E25)), COLUMNS($Q$3:U27)), \"\")","v":"22 有識者等による研修会、検討会の開催"}]
[null,null,null,null,null,null,null,null,null,null,null,null,null,null,null,null,{"$f":"IFERROR(INDEX($Q$3:$U$89, SMALL(IF($P$3:$P$89=\"○\", ROW($P$3:$P$89)-ROW($P$3)+1), ROW(A26)), COLUMNS($Q$3:Q28)), \"\")","v":23},{"$f":"IFERROR(INDEX($Q$3:$U$89, SMALL(IF($P$3:$P$89=\"○\", ROW($P$3:$P$89)-ROW($P$3)+1), ROW(B26)), COLUMNS($Q$3:R28)), \"\")","v":"農地維持"},{"$f":"IFERROR(INDEX($Q$3:$U$89, SMALL(IF($P$3:$P$89=\"○\", ROW($P$3:$P$89)-ROW($P$3)+1), ROW(C26)), COLUMNS($Q$3:S28)), \"\")","v":"推進活動"},{"$f":"IFERROR(INDEX($Q$3:$U$89, SMALL(IF($P$3:$P$89=\"○\", ROW($P$3:$P$89)-ROW($P$3)+1), ROW(D26)), COLUMNS($Q$3:T28)), \"\")","v":"推進活動"},{"$f":"IFERROR(INDEX($Q$3:$U$89, SMALL(IF($P$3:$P$89=\"○\", ROW($P$3:$P$89)-ROW($P$3)+1), ROW(E26)), COLUMNS($Q$3:U28)), \"\")","v":"23 その他"}]
[null,null,null,null,null,null,null,null,null,null,null,null,null,null,null,null,{"$f":"IFERROR(INDEX($Q$3:$U$89, SMALL(IF($P$3:$P$89=\"○\", ROW($P$3:$P$89)-ROW($P$3)+1), ROW(A27)), COLUMNS($Q$3:Q29)), \"\")","v":24},{"$f":"IFERROR(INDEX($Q$3:$U$89, SMALL(IF($P$3:$P$89=\"○\", ROW($P$3:$P$89)-ROW($P$3)+1), ROW(B27)), COLUMNS($Q$3:R29)), \"\")","v":"共同"},{"$f":"IFERROR(INDEX($Q$3:$U$89, SMALL(IF($P$3:$P$89=\"○\", ROW($P$3:$P$89)-ROW($P$3)+1), ROW(C27)), COLUMNS($Q$3:S29)), \"\")","v":"機能診断・計画策定"},{"$f":"IFERROR(INDEX($Q$3:$U$89, SMALL(IF($P$3:$P$89=\"○\", ROW($P$3:$P$89)-ROW($P$3)+1), ROW(D27)), COLUMNS($Q$3:T29)), \"\")","v":"機能診断"},{"$f":"IFERROR(INDEX($Q$3:$U$89, SMALL(IF($P$3:$P$89=\"○\", ROW($P$3:$P$89)-ROW($P$3)+1), ROW(E27)), COLUMNS($Q$3:U29)), \"\")","v":"24 農用地の機能診断"}]
[null,null,null,null,null,null,null,null,null,null,null,null,null,null,null,null,{"$f":"IFERROR(INDEX($Q$3:$U$89, SMALL(IF($P$3:$P$89=\"○\", ROW($P$3:$P$89)-ROW($P$3)+1), ROW(A28)), COLUMNS($Q$3:Q30)), \"\")","v":25},{"$f":"IFERROR(INDEX($Q$3:$U$89, SMALL(IF($P$3:$P$89=\"○\", ROW($P$3:$P$89)-ROW($P$3)+1), ROW(B28)), COLUMNS($Q$3:R30)), \"\")","v":"共同"},{"$f":"IFERROR(INDEX($Q$3:$U$89, SMALL(IF($P$3:$P$89=\"○\", ROW($P$3:$P$89)-ROW($P$3)+1), ROW(C28)), COLUMNS($Q$3:S30)), \"\")","v":"機能診断・計画策定"},{"$f":"IFERROR(INDEX($Q$3:$U$89, SMALL(IF($P$3:$P$89=\"○\", ROW($P$3:$P$89)-ROW($P$3)+1), ROW(D28)), COLUMNS($Q$3:T30)), \"\")","v":"機能診断"},{"$f":"IFERROR(INDEX($Q$3:$U$89, SMALL(IF($P$3:$P$89=\"○\", ROW($P$3:$P$89)-ROW($P$3)+1), ROW(E28)), COLUMNS($Q$3:U30)), \"\")","v":"25 水路の機能診断"}]
[null,null,null,null,null,null,null,null,null,null,null,null,null,null,null,null,{"$f":"IFERROR(INDEX($Q$3:$U$89, SMALL(IF($P$3:$P$89=\"○\", ROW($P$3:$P$89)-ROW($P$3)+1), ROW(A29)), COLUMNS($Q$3:Q31)), \"\")","v":26},{"$f":"IFERROR(INDEX($Q$3:$U$89, SMALL(IF($P$3:$P$89=\"○\", ROW($P$3:$P$89)-ROW($P$3)+1), ROW(B29)), COLUMNS($Q$3:R31)), \"\")","v":"共同"},{"$f":"IFERROR(INDEX($Q$3:$U$89, SMALL(IF($P$3:$P$89=\"○\", ROW($P$3:$P$89)-ROW($P$3)+1), ROW(C29)), COLUMNS($Q$3:S31)), \"\")","v":"機能診断・計画策定"},{"$f":"IFERROR(INDEX($Q$3:$U$89, SMALL(IF($P$3:$P$89=\"○\", ROW($P$3:$P$89)-ROW($P$3)+1), ROW(D29)), COLUMNS($Q$3:T31)), \"\")","v":"機能診断"},{"$f":"IFERROR(INDEX($Q$3:$U$89, SMALL(IF($P$3:$P$89=\"○\", ROW($P$3:$P$89)-ROW($P$3)+1), ROW(E29)), COLUMNS($Q$3:U31)), \"\")","v":"26 農道の機能診断"}]
[null,null,null,null,null,null,null,null,null,null,null,null,null,null,null,null,{"$f":"IFERROR(INDEX($Q$3:$U$89, SMALL(IF($P$3:$P$89=\"○\", ROW($P$3:$P$89)-ROW($P$3)+1), ROW(A30)), COLUMNS($Q$3:Q32)), \"\")","v":27},{"$f":"IFERROR(INDEX($Q$3:$U$89, SMALL(IF($P$3:$P$89=\"○\", ROW($P$3:$P$89)-ROW($P$3)+1), ROW(B30)), COLUMNS($Q$3:R32)), \"\")","v":"共同"},{"$f":"IFERROR(INDEX($Q$3:$U$89, SMALL(IF($P$3:$P$89=\"○\", ROW($P$3:$P$89)-ROW($P$3)+1), ROW(C30)), COLUMNS($Q$3:S32)), \"\")","v":"機能診断・計画策定"},{"$f":"IFERROR(INDEX($Q$3:$U$89, SMALL(IF($P$3:$P$89=\"○\", ROW($P$3:$P$89)-ROW($P$3)+1), ROW(D30)), COLUMNS($Q$3:T32)), \"\")","v":"機能診断"},{"$f":"IFERROR(INDEX($Q$3:$U$89, SMALL(IF($P$3:$P$89=\"○\", ROW($P$3:$P$89)-ROW($P$3)+1), ROW(E30)), COLUMNS($Q$3:U32)), \"\")","v":"27 ため池の機能診断"}]
[null,null,null,null,null,null,null,null,null,null,null,null,null,null,null,null,{"$f":"IFERROR(INDEX($Q$3:$U$89, SMALL(IF($P$3:$P$89=\"○\", ROW($P$3:$P$89)-ROW($P$3)+1), ROW(A31)), COLUMNS($Q$3:Q33)), \"\")","v":28},{"$f":"IFERROR(INDEX($Q$3:$U$89, SMALL(IF($P$3:$P$89=\"○\", ROW($P$3:$P$89)-ROW($P$3)+1), ROW(B31)), COLUMNS($Q$3:R33)), \"\")","v":"共同"},{"$f":"IFERROR(INDEX($Q$3:$U$89, SMALL(IF($P$3:$P$89=\"○\", ROW($P$3:$P$89)-ROW($P$3)+1), ROW(C31)), COLUMNS($Q$3:S33)), \"\")","v":"機能診断・計画策定"},{"$f":"IFERROR(INDEX($Q$3:$U$89, SMALL(IF($P$3:$P$89=\"○\", ROW($P$3:$P$89)-ROW($P$3)+1), ROW(D31)), COLUMNS($Q$3:T33)), \"\")","v":"計画策定"},{"$f":"IFERROR(INDEX($Q$3:$U$89, SMALL(IF($P$3:$P$89=\"○\", ROW($P$3:$P$89)-ROW($P$3)+1), ROW(E31)), COLUMNS($Q$3:U33)), \"\")","v":"28 年度活動計画の策定"}]
[null,null,null,null,null,null,null,null,null,null,null,null,null,null,null,null,{"$f":"IFERROR(INDEX($Q$3:$U$89, SMALL(IF($P$3:$P$89=\"○\", ROW($P$3:$P$89)-ROW($P$3)+1), ROW(A32)), COLUMNS($Q$3:Q34)), \"\")","v":29},{"$f":"IFERROR(INDEX($Q$3:$U$89, SMALL(IF($P$3:$P$89=\"○\", ROW($P$3:$P$89)-ROW($P$3)+1), ROW(B32)), COLUMNS($Q$3:R34)), \"\")","v":"共同"},{"$f":"IFERROR(INDEX($Q$3:$U$89, SMALL(IF($P$3:$P$89=\"○\", ROW($P$3:$P$89)-ROW($P$3)+1), ROW(C32)), COLUMNS($Q$3:S34)), \"\")","v":"研修"},{"$f":"IFERROR(INDEX($Q$3:$U$89, SMALL(IF($P$3:$P$89=\"○\", ROW($P$3:$P$89)-ROW($P$3)+1), ROW(D32)), COLUMNS($Q$3:T34)), \"\")","v":"研修"},{"$f":"IFERROR(INDEX($Q$3:$U$89, SMALL(IF($P$3:$P$89=\"○\", ROW($P$3:$P$89)-ROW($P$3)+1), ROW(E32)), COLUMNS($Q$3:U34)), \"\")","v":"29 機能診断・補修技術等に関する研修"}]
[null,null,null,null,null,null,null,null,null,null,null,null,null,null,null,null,{"$f":"IFERROR(INDEX($Q$3:$U$89, SMALL(IF($P$3:$P$89=\"○\", ROW($P$3:$P$89)-ROW($P$3)+1), ROW(A33)), COLUMNS($Q$3:Q35)), \"\")","v":30},{"$f":"IFERROR(INDEX($Q$3:$U$89, SMALL(IF($P$3:$P$89=\"○\", ROW($P$3:$P$89)-ROW($P$3)+1), ROW(B33)), COLUMNS($Q$3:R35)), \"\")","v":"共同"},{"$f":"IFERROR(INDEX($Q$3:$U$89, SMALL(IF($P$3:$P$89=\"○\", ROW($P$3:$P$89)-ROW($P$3)+1), ROW(C33)), COLUMNS($Q$3:S35)), \"\")","v":"実践活動"},{"$f":"IFERROR(INDEX($Q$3:$U$89, SMALL(IF($P$3:$P$89=\"○\", ROW($P$3:$P$89)-ROW($P$3)+1), ROW(D33)), COLUMNS($Q$3:T35)), \"\")","v":"農用地"},{"$f":"IFERROR(INDEX($Q$3:$U$89, SMALL(IF($P$3:$P$89=\"○\", ROW($P$3:$P$89)-ROW($P$3)+1), ROW(E33)), COLUMNS($Q$3:U35)), \"\")","v":"30 農用地の軽微な補修等"}]
[null,null,null,null,null,null,null,null,null,null,null,null,null,null,null,null,{"$f":"IFERROR(INDEX($Q$3:$U$89, SMALL(IF($P$3:$P$89=\"○\", ROW($P$3:$P$89)-ROW($P$3)+1), ROW(A34)), COLUMNS($Q$3:Q36)), \"\")","v":31},{"$f":"IFERROR(INDEX($Q$3:$U$89, SMALL(IF($P$3:$P$89=\"○\", ROW($P$3:$P$89)-ROW($P$3)+1), ROW(B34)), COLUMNS($Q$3:R36)), \"\")","v":"共同"},{"$f":"IFERROR(INDEX($Q$3:$U$89, SMALL(IF($P$3:$P$89=\"○\", ROW($P$3:$P$89)-ROW($P$3)+1), ROW(C34)), COLUMNS($Q$3:S36)), \"\")","v":"実践活動"},{"$f":"IFERROR(INDEX($Q$3:$U$89, SMALL(IF($P$3:$P$89=\"○\", ROW($P$3:$P$89)-ROW($P$3)+1), ROW(D34)), COLUMNS($Q$3:T36)), \"\")","v":"水路"},{"$f":"IFERROR(INDEX($Q$3:$U$89, SMALL(IF($P$3:$P$89=\"○\", ROW($P$3:$P$89)-ROW($P$3)+1), ROW(E34)), COLUMNS($Q$3:U36)), \"\")","v":"31 水路の軽微な補修等"}]
[null,null,null,null,null,null,null,null,null,null,null,null,null,null,null,null,{"$f":"IFERROR(INDEX($Q$3:$U$89, SMALL(IF($P$3:$P$89=\"○\", ROW($P$3:$P$89)-ROW($P$3)+1), ROW(A35)), COLUMNS($Q$3:Q37)), \"\")","v":32},{"$f":"IFERROR(INDEX($Q$3:$U$89, SMALL(IF($P$3:$P$89=\"○\", ROW($P$3:$P$89)-ROW($P$3)+1), ROW(B35)), COLUMNS($Q$3:R37)), \"\")","v":"共同"},{"$f":"IFERROR(INDEX($Q$3:$U$89, SMALL(IF($P$3:$P$89=\"○\", ROW($P$3:$P$89)-ROW($P$3)+1), ROW(C35)), COLUMNS($Q$3:S37)), \"\")","v":"実践活動"},{"$f":"IFERROR(INDEX($Q$3:$U$89, SMALL(IF($P$3:$P$89=\"○\", ROW($P$3:$P$89)-ROW($P$3)+1), ROW(D35)), COLUMNS($Q$3:T37)), \"\")","v":"農道"},{"$f":"IFERROR(INDEX($Q$3:$U$89, SMALL(IF($P$3:$P$89=\"○\", ROW($P$3:$P$89)-ROW($P$3)+1), ROW(E35)), COLUMNS($Q$3:U37)), \"\")","v":"32 農道の軽微な補修等"}]
[null,null,null,null,null,null,null,null,null,null,null,null,null,null,null,null,{"$f":"IFERROR(INDEX($Q$3:$U$89, SMALL(IF($P$3:$P$89=\"○\", ROW($P$3:$P$89)-ROW($P$3)+1), ROW(A36)), COLUMNS($Q$3:Q38)), \"\")","v":33},{"$f":"IFERROR(INDEX($Q$3:$U$89, SMALL(IF($P$3:$P$89=\"○\", ROW($P$3:$P$89)-ROW($P$3)+1), ROW(B36)), COLUMNS($Q$3:R38)), \"\")","v":"共同"},{"$f":"IFERROR(INDEX($Q$3:$U$89, SMALL(IF($P$3:$P$89=\"○\", ROW($P$3:$P$89)-ROW($P$3)+1), ROW(C36)), COLUMNS($Q$3:S38)), \"\")","v":"実践活動"},{"$f":"IFERROR(INDEX($Q$3:$U$89, SMALL(IF($P$3:$P$89=\"○\", ROW($P$3:$P$89)-ROW($P$3)+1), ROW(D36)), COLUMNS($Q$3:T38)), \"\")","v":"ため池"},{"$f":"IFERROR(INDEX($Q$3:$U$89, SMALL(IF($P$3:$P$89=\"○\", ROW($P$3:$P$89)-ROW($P$3)+1), ROW(E36)), COLUMNS($Q$3:U38)), \"\")","v":"33 ため池の軽微な補修等"}]
[null,null,null,null,null,null,null,null,null,null,null,null,null,null,null,null,{"$f":"IFERROR(INDEX($Q$3:$U$89, SMALL(IF($P$3:$P$89=\"○\", ROW($P$3:$P$89)-ROW($P$3)+1), ROW(A37)), COLUMNS($Q$3:Q39)), \"\")","v":34},{"$f":"IFERROR(INDEX($Q$3:$U$89, SMALL(IF($P$3:$P$89=\"○\", ROW($P$3:$P$89)-ROW($P$3)+1), ROW(B37)), COLUMNS($Q$3:R39)), \"\")","v":"共同"},{"$f":"IFERROR(INDEX($Q$3:$U$89, SMALL(IF($P$3:$P$89=\"○\", ROW($P$3:$P$89)-ROW($P$3)+1), ROW(C37)), COLUMNS($Q$3:S39)), \"\")","v":"計画策定"},{"$f":"IFERROR(INDEX($Q$3:$U$89, SMALL(IF($P$3:$P$89=\"○\", ROW($P$3:$P$89)-ROW($P$3)+1), ROW(D37)), COLUMNS($Q$3:T39)), \"\")","v":"生態系保全"},{"$f":"IFERROR(INDEX($Q$3:$U$89, SMALL(IF($P$3:$P$89=\"○\", ROW($P$3:$P$89)-ROW($P$3)+1), ROW(E37)), COLUMNS($Q$3:U39)), \"\")","v":"34 生物多様性保全計画の策定"}]
[null,null,null,null,null,null,null,null,null,null,null,null,null,null,null,null,{"$f":"IFERROR(INDEX($Q$3:$U$89, SMALL(IF($P$3:$P$89=\"○\", ROW($P$3:$P$89)-ROW($P$3)+1), ROW(A38)), COLUMNS($Q$3:Q40)), \"\")","v":35},{"$f":"IFERROR(INDEX($Q$3:$U$89, SMALL(IF($P$3:$P$89=\"○\", ROW($P$3:$P$89)-ROW($P$3)+1), ROW(B38)), COLUMNS($Q$3:R40)), \"\")","v":"共同"},{"$f":"IFERROR(INDEX($Q$3:$U$89, SMALL(IF($P$3:$P$89=\"○\", ROW($P$3:$P$89)-ROW($P$3)+1), ROW(C38)), COLUMNS($Q$3:S40)), \"\")","v":"計画策定"},{"$f":"IFERROR(INDEX($Q$3:$U$89, SMALL(IF($P$3:$P$89=\"○\", ROW($P$3:$P$89)-ROW($P$3)+1), ROW(D38)), COLUMNS($Q$3:T40)), \"\")","v":"水質保全"},{"$f":"IFERROR(INDEX($Q$3:$U$89, SMALL(IF($P$3:$P$89=\"○\", ROW($P$3:$P$89)-ROW($P$3)+1), ROW(E38)), COLUMNS($Q$3:U40)), \"\")","v":"35 水質保全計画、農地保全計画の策定"}]
[null,null,null,null,null,null,null,null,null,null,null,null,null,null,null,null,{"$f":"IFERROR(INDEX($Q$3:$U$89, SMALL(IF($P$3:$P$89=\"○\", ROW($P$3:$P$89)-ROW($P$3)+1), ROW(A39)), COLUMNS($Q$3:Q41)), \"\")","v":36},{"$f":"IFERROR(INDEX($Q$3:$U$89, SMALL(IF($P$3:$P$89=\"○\", ROW($P$3:$P$89)-ROW($P$3)+1), ROW(B39)), COLUMNS($Q$3:R41)), \"\")","v":"共同"},{"$f":"IFERROR(INDEX($Q$3:$U$89, SMALL(IF($P$3:$P$89=\"○\", ROW($P$3:$P$89)-ROW($P$3)+1), ROW(C39)), COLUMNS($Q$3:S41)), \"\")","v":"計画策定"},{"$f":"IFERROR(INDEX($Q$3:$U$89, SMALL(IF($P$3:$P$89=\"○\", ROW($P$3:$P$89)-ROW($P$3)+1), ROW(D39)), COLUMNS($Q$3:T41)), \"\")","v":"景観形成・生活環境保全"},{"$f":"IFERROR(INDEX($Q$3:$U$89, SMALL(IF($P$3:$P$89=\"○\", ROW($P$3:$P$89)-ROW($P$3)+1), ROW(E39)), COLUMNS($Q$3:U41)), \"\")","v":"36 景観形成計画、生活環境保全計画の策定"}]
[null,null,null,null,null,null,null,null,null,null,null,null,null,null,null,null,{"$f":"IFERROR(INDEX($Q$3:$U$89, SMALL(IF($P$3:$P$89=\"○\", ROW($P$3:$P$89)-ROW($P$3)+1), ROW(A40)), COLUMNS($Q$3:Q42)), \"\")","v":37},{"$f":"IFERROR(INDEX($Q$3:$U$89, SMALL(IF($P$3:$P$89=\"○\", ROW($P$3:$P$89)-ROW($P$3)+1), ROW(B40)), COLUMNS($Q$3:R42)), \"\")","v":"共同"},{"$f":"IFERROR(INDEX($Q$3:$U$89, SMALL(IF($P$3:$P$89=\"○\", ROW($P$3:$P$89)-ROW($P$3)+1), ROW(C40)), COLUMNS($Q$3:S42)), \"\")","v":"計画策定"},{"$f":"IFERROR(INDEX($Q$3:$U$89, SMALL(IF($P$3:$P$89=\"○\", ROW($P$3:$P$89)-ROW($P$3)+1), ROW(D40)), COLUMNS($Q$3:T42)), \"\")","v":"水田貯留・地下水かん養"},{"$f":"IFERROR(INDEX($Q$3:$U$89, SMALL(IF($P$3:$P$89=\"○\", ROW($P$3:$P$89)-ROW($P$3)+1), ROW(E40)), COLUMNS($Q$3:U42)), \"\")","v":"37 水田貯留計画、地下水かん養計画の策定"}]
[null,null,null,null,null,null,null,null,null,null,null,null,null,null,null,null,{"$f":"IFERROR(INDEX($Q$3:$U$89, SMALL(IF($P$3:$P$89=\"○\", ROW($P$3:$P$89)-ROW($P$3)+1), ROW(A41)), COLUMNS($Q$3:Q43)), \"\")","v":38},{"$f":"IFERROR(INDEX($Q$3:$U$89, SMALL(IF($P$3:$P$89=\"○\", ROW($P$3:$P$89)-ROW($P$3)+1), ROW(B41)), COLUMNS($Q$3:R43)), \"\")","v":"共同"},{"$f":"IFERROR(INDEX($Q$3:$U$89, SMALL(IF($P$3:$P$89=\"○\", ROW($P$3:$P$89)-ROW($P$3)+1), ROW(C41)), COLUMNS($Q$3:S43)), \"\")","v":"計画策定"},{"$f":"IFERROR(INDEX($Q$3:$U$89, SMALL(IF($P$3:$P$89=\"○\", ROW($P$3:$P$89)-ROW($P$3)+1), ROW(D41)), COLUMNS($Q$3:T43)), \"\")","v":"資源循環"},{"$f":"IFERROR(INDEX($Q$3:$U$89, SMALL(IF($P$3:$P$89=\"○\", ROW($P$3:$P$89)-ROW($P$3)+1), ROW(E41)), COLUMNS($Q$3:U43)), \"\")","v":"38 資源循環計画の策定"}]
[null,null,null,null,null,null,null,null,null,null,null,null,null,null,null,null,{"$f":"IFERROR(INDEX($Q$3:$U$89, SMALL(IF($P$3:$P$89=\"○\", ROW($P$3:$P$89)-ROW($P$3)+1), ROW(A42)), COLUMNS($Q$3:Q44)), \"\")","v":39},{"$f":"IFERROR(INDEX($Q$3:$U$89, SMALL(IF($P$3:$P$89=\"○\", ROW($P$3:$P$89)-ROW($P$3)+1), ROW(B42)), COLUMNS($Q$3:R44)), \"\")","v":"共同"},{"$f":"IFERROR(INDEX($Q$3:$U$89, SMALL(IF($P$3:$P$89=\"○\", ROW($P$3:$P$89)-ROW($P$3)+1), ROW(C42)), COLUMNS($Q$3:S44)), \"\")","v":"実践活動"},{"$f":"IFERROR(INDEX($Q$3:$U$89, SMALL(IF($P$3:$P$89=\"○\", ROW($P$3:$P$89)-ROW($P$3)+1), ROW(D42)), COLUMNS($Q$3:T44)), \"\")","v":"生態系保全"},{"$f":"IFERROR(INDEX($Q$3:$U$89, SMALL(IF($P$3:$P$89=\"○\", ROW($P$3:$P$89)-ROW($P$3)+1), ROW(E42)), COLUMNS($Q$3:U44)), \"\")","v":"39 生物の生息状況の把握（生態系保全）"}]
[null,null,null,null,null,null,null,null,null,null,null,null,null,null,null,null,{"$f":"IFERROR(INDEX($Q$3:$U$89, SMALL(IF($P$3:$P$89=\"○\", ROW($P$3:$P$89)-ROW($P$3)+1), ROW(A43)), COLUMNS($Q$3:Q45)), \"\")","v":40},{"$f":"IFERROR(INDEX($Q$3:$U$89, SMALL(IF($P$3:$P$89=\"○\", ROW($P$3:$P$89)-ROW($P$3)+1), ROW(B43)), COLUMNS($Q$3:R45)), \"\")","v":"共同"},{"$f":"IFERROR(INDEX($Q$3:$U$89, SMALL(IF($P$3:$P$89=\"○\", ROW($P$3:$P$89)-ROW($P$3)+1), ROW(C43)), COLUMNS($Q$3:S45)), \"\")","v":"実践活動"},{"$f":"IFERROR(INDEX($Q$3:$U$89, SMALL(IF($P$3:$P$89=\"○\", ROW($P$3:$P$89)-ROW($P$3)+1), ROW(D43)), COLUMNS($Q$3:T45)), \"\")","v":"生態系保全"},{"$f":"IFERROR(INDEX($Q$3:$U$89, SMALL(IF($P$3:$P$89=\"○\", ROW($P$3:$P$89)-ROW($P$3)+1), ROW(E43)), COLUMNS($Q$3:U45)), \"\")","v":"40 外来種の駆除（生態系保全）"}]
[null,null,null,null,null,null,null,null,null,null,null,null,null,null,null,null,{"$f":"IFERROR(INDEX($Q$3:$U$89, SMALL(IF($P$3:$P$89=\"○\", ROW($P$3:$P$89)-ROW($P$3)+1), ROW(A44)), COLUMNS($Q$3:Q46)), \"\")","v":41},{"$f":"IFERROR(INDEX($Q$3:$U$89, SMALL(IF($P$3:$P$89=\"○\", ROW($P$3:$P$89)-ROW($P$3)+1), ROW(B44)), COLUMNS($Q$3:R46)), \"\")","v":"共同"},{"$f":"IFERROR(INDEX($Q$3:$U$89, SMALL(IF($P$3:$P$89=\"○\", ROW($P$3:$P$89)-ROW($P$3)+1), ROW(C44)), COLUMNS($Q$3:S46)), \"\")","v":"実践活動"},{"$f":"IFERROR(INDEX($Q$3:$U$89, SMALL(IF($P$3:$P$89=\"○\", ROW($P$3:$P$89)-ROW($P$3)+1), ROW(D44)), COLUMNS($Q$3:T46)), \"\")","v":"生態系保全"},{"$f":"IFERROR(INDEX($Q$3:$U$89, SMALL(IF($P$3:$P$89=\"○\", ROW($P$3:$P$89)-ROW($P$3)+1), ROW(E44)), COLUMNS($Q$3:U46)), \"\")","v":"41 その他（生態系保全）"}]
[null,null,null,null,null,null,null,null,null,null,null,null,null,null,null,null,{"$f":"IFERROR(INDEX($Q$3:$U$89, SMALL(IF($P$3:$P$89=\"○\", ROW($P$3:$P$89)-ROW($P$3)+1), ROW(A45)), COLUMNS($Q$3:Q47)), \"\")","v":42},{"$f":"IFERROR(INDEX($Q$3:$U$89, SMALL(IF($P$3:$P$89=\"○\", ROW($P$3:$P$89)-ROW($P$3)+1), ROW(B45)), COLUMNS($Q$3:R47)), \"\")","v":"共同"},{"$f":"IFERROR(INDEX($Q$3:$U$89, SMALL(IF($P$3:$P$89=\"○\", ROW($P$3:$P$89)-ROW($P$3)+1), ROW(C45)), COLUMNS($Q$3:S47)), \"\")","v":"実践活動"},{"$f":"IFERROR(INDEX($Q$3:$U$89, SMALL(IF($P$3:$P$89=\"○\", ROW($P$3:$P$89)-ROW($P$3)+1), ROW(D45)), COLUMNS($Q$3:T47)), \"\")","v":"水質保全"},{"$f":"IFERROR(INDEX($Q$3:$U$89, SMALL(IF($P$3:$P$89=\"○\", ROW($P$3:$P$89)-ROW($P$3)+1), ROW(E45)), COLUMNS($Q$3:U47)), \"\")","v":"42 水質モニタリングの実施・記録管理（水質保全）"}]
[null,null,null,null,null,null,null,null,null,null,null,null,null,null,null,null,{"$f":"IFERROR(INDEX($Q$3:$U$89, SMALL(IF($P$3:$P$89=\"○\", ROW($P$3:$P$89)-ROW($P$3)+1), ROW(A46)), COLUMNS($Q$3:Q48)), \"\")","v":43},{"$f":"IFERROR(INDEX($Q$3:$U$89, SMALL(IF($P$3:$P$89=\"○\", ROW($P$3:$P$89)-ROW($P$3)+1), ROW(B46)), COLUMNS($Q$3:R48)), \"\")","v":"共同"},{"$f":"IFERROR(INDEX($Q$3:$U$89, SMALL(IF($P$3:$P$89=\"○\", ROW($P$3:$P$89)-ROW($P$3)+1), ROW(C46)), COLUMNS($Q$3:S48)), \"\")","v":"実践活動"},{"$f":"IFERROR(INDEX($Q$3:$U$89, SMALL(IF($P$3:$P$89=\"○\", ROW($P$3:$P$89)-ROW($P$3)+1), ROW(D46)), COLUMNS($Q$3:T48)), \"\")","v":"水質保全"},{"$f":"IFERROR(INDEX($Q$3:$U$89, SMALL(IF($P$3:$P$89=\"○\", ROW($P$3:$P$89)-ROW($P$3)+1), ROW(E46)), COLUMNS($Q$3:U48)), \"\")","v":"43 畑からの土砂流出対策（水質保全）"}]
[null,null,null,null,null,null,null,null,null,null,null,null,null,null,null,null,{"$f":"IFERROR(INDEX($Q$3:$U$89, SMALL(IF($P$3:$P$89=\"○\", ROW($P$3:$P$89)-ROW($P$3)+1), ROW(A47)), COLUMNS($Q$3:Q49)), \"\")","v":44},{"$f":"IFERROR(INDEX($Q$3:$U$89, SMALL(IF($P$3:$P$89=\"○\", ROW($P$3:$P$89)-ROW($P$3)+1), ROW(B47)), COLUMNS($Q$3:R49)), \"\")","v":"共同"},{"$f":"IFERROR(INDEX($Q$3:$U$89, SMALL(IF($P$3:$P$89=\"○\", ROW($P$3:$P$89)-ROW($P$3)+1), ROW(C47)), COLUMNS($Q$3:S49)), \"\")","v":"実践活動"},{"$f":"IFERROR(INDEX($Q$3:$U$89, SMALL(IF($P$3:$P$89=\"○\", ROW($P$3:$P$89)-ROW($P$3)+1), ROW(D47)), COLUMNS($Q$3:T49)), \"\")","v":"水質保全"},{"$f":"IFERROR(INDEX($Q$3:$U$89, SMALL(IF($P$3:$P$89=\"○\", ROW($P$3:$P$89)-ROW($P$3)+1), ROW(E47)), COLUMNS($Q$3:U49)), \"\")","v":"44 その他（水質保全）"}]
[null,null,null,null,null,null,null,null,null,null,null,null,null,null,null,null,{"$f":"IFERROR(INDEX($Q$3:$U$89, SMALL(IF($P$3:$P$89=\"○\", ROW($P$3:$P$89)-ROW($P$3)+1), ROW(A48)), COLUMNS($Q$3:Q50)), \"\")","v":45},{"$f":"IFERROR(INDEX($Q$3:$U$89, SMALL(IF($P$3:$P$89=\"○\", ROW($P$3:$P$89)-ROW($P$3)+1), ROW(B48)), COLUMNS($Q$3:R50)), \"\")","v":"共同"},{"$f":"IFERROR(INDEX($Q$3:$U$89, SMALL(IF($P$3:$P$89=\"○\", ROW($P$3:$P$89)-ROW($P$3)+1), ROW(C48)), COLUMNS($Q$3:S50)), \"\")","v":"実践活動"},{"$f":"IFERROR(INDEX($Q$3:$U$89, SMALL(IF($P$3:$P$89=\"○\", ROW($P$3:$P$89)-ROW($P$3)+1), ROW(D48)), COLUMNS($Q$3:T50)), \"\")","v":"景観形成・生活環境保全"},{"$f":"IFERROR(INDEX($Q$3:$U$89, SMALL(IF($P$3:$P$89=\"○\", ROW($P$3:$P$89)-ROW($P$3)+1), ROW(E48)), COLUMNS($Q$3:U50)), \"\")","v":"45 植栽等の景観形成活動（景観形成・生活環境保全）"}]
[null,null,null,null,null,null,null,null,null,null,null,null,null,null,null,null,{"$f":"IFERROR(INDEX($Q$3:$U$89, SMALL(IF($P$3:$P$89=\"○\", ROW($P$3:$P$89)-ROW($P$3)+1), ROW(A49)), COLUMNS($Q$3:Q51)), \"\")","v":46},{"$f":"IFERROR(INDEX($Q$3:$U$89, SMALL(IF($P$3:$P$89=\"○\", ROW($P$3:$P$89)-ROW($P$3)+1), ROW(B49)), COLUMNS($Q$3:R51)), \"\")","v":"共同"},{"$f":"IFERROR(INDEX($Q$3:$U$89, SMALL(IF($P$3:$P$89=\"○\", ROW($P$3:$P$89)-ROW($P$3)+1), ROW(C49)), COLUMNS($Q$3:S51)), \"\")","v":"実践活動"},{"$f":"IFERROR(INDEX($Q$3:$U$89, SMALL(IF($P$3:$P$89=\"○\", ROW($P$3:$P$89)-ROW($P$3)+1), ROW(D49)), COLUMNS($Q$3:T51)), \"\")","v":"景観形成・生活環境保全"},{"$f":"IFERROR(INDEX($Q$3:$U$89, SMALL(IF($P$3:$P$89=\"○\", ROW($P$3:$P$89)-ROW($P$3)+1), ROW(E49)), COLUMNS($Q$3:U51)), \"\")","v":"46 施設等の定期的な巡回点検・清掃（景観形成・生活環境保全）"}]
[null,null,null,null,null,null,null,null,null,null,null,null,null,null,null,null,{"$f":"IFERROR(INDEX($Q$3:$U$89, SMALL(IF($P$3:$P$89=\"○\", ROW($P$3:$P$89)-ROW($P$3)+1), ROW(A50)), COLUMNS($Q$3:Q52)), \"\")","v":47},{"$f":"IFERROR(INDEX($Q$3:$U$89, SMALL(IF($P$3:$P$89=\"○\", ROW($P$3:$P$89)-ROW($P$3)+1), ROW(B50)), COLUMNS($Q$3:R52)), \"\")","v":"共同"},{"$f":"IFERROR(INDEX($Q$3:$U$89, SMALL(IF($P$3:$P$89=\"○\", ROW($P$3:$P$89)-ROW($P$3)+1), ROW(C50)), COLUMNS($Q$3:S52)), \"\")","v":"実践活動"},{"$f":"IFERROR(INDEX($Q$3:$U$89, SMALL(IF($P$3:$P$89=\"○\", ROW($P$3:$P$89)-ROW($P$3)+1), ROW(D50)), COLUMNS($Q$3:T52)), \"\")","v":"景観形成・生活環境保全"},{"$f":"IFERROR(INDEX($Q$3:$U$89, SMALL(IF($P$3:$P$89=\"○\", ROW($P$3:$P$89)-ROW($P$3)+1), ROW(E50)), COLUMNS($Q$3:U52)), \"\")","v":"47 その他（景観形成・生活環境保全）"}]
[null,null,null,null,null,null,null,null,null,null,null,null,null,null,null,null,{"$f":"IFERROR(INDEX($Q$3:$U$89, SMALL(IF($P$3:$P$89=\"○\", ROW($P$3:$P$89)-ROW($P$3)+1), ROW(A51)), COLUMNS($Q$3:Q53)), \"\")","v":48},{"$f":"IFERROR(INDEX($Q$3:$U$89, SMALL(IF($P$3:$P$89=\"○\", ROW($P$3:$P$89)-ROW($P$3)+1), ROW(B51)), COLUMNS($Q$3:R53)), \"\")","v":"共同"},{"$f":"IFERROR(INDEX($Q$3:$U$89, SMALL(IF($P$3:$P$89=\"○\", ROW($P$3:$P$89)-ROW($P$3)+1), ROW(C51)), COLUMNS($Q$3:S53)), \"\")","v":"実践活動"},{"$f":"IFERROR(INDEX($Q$3:$U$89, SMALL(IF($P$3:$P$89=\"○\", ROW($P$3:$P$89)-ROW($P$3)+1), ROW(D51)), COLUMNS($Q$3:T53)), \"\")","v":"水田貯留・地下水かん養"},{"$f":"IFERROR(INDEX($Q$3:$U$89, SMALL(IF($P$3:$P$89=\"○\", ROW($P$3:$P$89)-ROW($P$3)+1), ROW(E51)), COLUMNS($Q$3:U53)), \"\")","v":"48 水田の貯留機能向上活動（水田貯留機能増進・地下水かん養）"}]
[null,null,null,null,null,null,null,null,null,null,null,null,null,null,null,null,{"$f":"IFERROR(INDEX($Q$3:$U$89, SMALL(IF($P$3:$P$89=\"○\", ROW($P$3:$P$89)-ROW($P$3)+1), ROW(A52)), COLUMNS($Q$3:Q54)), \"\")","v":49},{"$f":"IFERROR(INDEX($Q$3:$U$89, SMALL(IF($P$3:$P$89=\"○\", ROW($P$3:$P$89)-ROW($P$3)+1), ROW(B52)), COLUMNS($Q$3:R54)), \"\")","v":"共同"},{"$f":"IFERROR(INDEX($Q$3:$U$89, SMALL(IF($P$3:$P$89=\"○\", ROW($P$3:$P$89)-ROW($P$3)+1), ROW(C52)), COLUMNS($Q$3:S54)), \"\")","v":"実践活動"},{"$f":"IFERROR(INDEX($Q$3:$U$89, SMALL(IF($P$3:$P$89=\"○\", ROW($P$3:$P$89)-ROW($P$3)+1), ROW(D52)), COLUMNS($Q$3:T54)), \"\")","v":"水田貯留・地下水かん養"},{"$f":"IFERROR(INDEX($Q$3:$U$89, SMALL(IF($P$3:$P$89=\"○\", ROW($P$3:$P$89)-ROW($P$3)+1), ROW(E52)), COLUMNS($Q$3:U54)), \"\")","v":"49 地下水かん養活動、水源かん養林の保全（水田貯留機能増進・地下水かん養）"}]
[null,null,null,null,null,null,null,null,null,null,null,null,null,null,null,null,{"$f":"IFERROR(INDEX($Q$3:$U$89, SMALL(IF($P$3:$P$89=\"○\", ROW($P$3:$P$89)-ROW($P$3)+1), ROW(A53)), COLUMNS($Q$3:Q55)), \"\")","v":50},{"$f":"IFERROR(INDEX($Q$3:$U$89, SMALL(IF($P$3:$P$89=\"○\", ROW($P$3:$P$89)-ROW($P$3)+1), ROW(B53)), COLUMNS($Q$3:R55)), \"\")","v":"共同"},{"$f":"IFERROR(INDEX($Q$3:$U$89, SMALL(IF($P$3:$P$89=\"○\", ROW($P$3:$P$89)-ROW($P$3)+1), ROW(C53)), COLUMNS($Q$3:S55)), \"\")","v":"実践活動"},{"$f":"IFERROR(INDEX($Q$3:$U$89, SMALL(IF($P$3:$P$89=\"○\", ROW($P$3:$P$89)-ROW($P$3)+1), ROW(D53)), COLUMNS($Q$3:T55)), \"\")","v":"資源循環"},{"$f":"IFERROR(INDEX($Q$3:$U$89, SMALL(IF($P$3:$P$89=\"○\", ROW($P$3:$P$89)-ROW($P$3)+1), ROW(E53)), COLUMNS($Q$3:U55)), \"\")","v":"50 地域資源の活用・資源循環活動（資源循環）"}]
[null,null,null,null,null,null,null,null,null,null,null,null,null,null,null,null,{"$f":"IFERROR(INDEX($Q$3:$U$89, SMALL(IF($P$3:$P$89=\"○\", ROW($P$3:$P$89)-ROW($P$3)+1), ROW(A54)), COLUMNS($Q$3:Q56)), \"\")","v":51},{"$f":"IFERROR(INDEX($Q$3:$U$89, SMALL(IF($P$3:$P$89=\"○\", ROW($P$3:$P$89)-ROW($P$3)+1), ROW(B54)), COLUMNS($Q$3:R56)), \"\")","v":"共同"},{"$f":"IFERROR(INDEX($Q$3:$U$89, SMALL(IF($P$3:$P$89=\"○\", ROW($P$3:$P$89)-ROW($P$3)+1), ROW(C54)), COLUMNS($Q$3:S56)), \"\")","v":"啓発・普及"},{"$f":"IFERROR(INDEX($Q$3:$U$89, SMALL(IF($P$3:$P$89=\"○\", ROW($P$3:$P$89)-ROW($P$3)+1), ROW(D54)), COLUMNS($Q$3:T56)), \"\")","v":"啓発・普及"},{"$f":"IFERROR(INDEX($Q$3:$U$89, SMALL(IF($P$3:$P$89=\"○\", ROW($P$3:$P$89)-ROW($P$3)+1), ROW(E54)), COLUMNS($Q$3:U56)), \"\")","v":"51 啓発・普及活動"}]
[null,null,null,null,null,null,null,null,null,null,null,null,null,null,null,null,{"$f":"IFERROR(INDEX($Q$3:$U$89, SMALL(IF($P$3:$P$89=\"○\", ROW($P$3:$P$89)-ROW($P$3)+1), ROW(A55)), COLUMNS($Q$3:Q57)), \"\")","v":52},{"$f":"IFERROR(INDEX($Q$3:$U$89, SMALL(IF($P$3:$P$89=\"○\", ROW($P$3:$P$89)-ROW($P$3)+1), ROW(B55)), COLUMNS($Q$3:R57)), \"\")","v":"共同"},{"$f":"IFERROR(INDEX($Q$3:$U$89, SMALL(IF($P$3:$P$89=\"○\", ROW($P$3:$P$89)-ROW($P$3)+1), ROW(C55)), COLUMNS($Q$3:S57)), \"\")","v":"増進活動"},{"$f":"IFERROR(INDEX($Q$3:$U$89, SMALL(IF($P$3:$P$89=\"○\", ROW($P$3:$P$89)-ROW($P$3)+1), ROW(D55)), COLUMNS($Q$3:T57)), \"\")","v":"増進活動"},{"$f":"IFERROR(INDEX($Q$3:$U$89, SMALL(IF($P$3:$P$89=\"○\", ROW($P$3:$P$89)-ROW($P$3)+1), ROW(E55)), COLUMNS($Q$3:U57)), \"\")","v":"52 遊休農地の有効活用"}]
[null,null,null,null,null,null,null,null,null,null,null,null,null,null,null,null,{"$f":"IFERROR(INDEX($Q$3:$U$89, SMALL(IF($P$3:$P$89=\"○\", ROW($P$3:$P$89)-ROW($P$3)+1), ROW(A56)), COLUMNS($Q$3:Q58)), \"\")","v":53},{"$f":"IFERROR(INDEX($Q$3:$U$89, SMALL(IF($P$3:$P$89=\"○\", ROW($P$3:$P$89)-ROW($P$3)+1), ROW(B56)), COLUMNS($Q$3:R58)), \"\")","v":"共同"},{"$f":"IFERROR(INDEX($Q$3:$U$89, SMALL(IF($P$3:$P$89=\"○\", ROW($P$3:$P$89)-ROW($P$3)+1), ROW(C56)), COLUMNS($Q$3:S58)), \"\")","v":"増進活動"},{"$f":"IFERROR(INDEX($Q$3:$U$89, SMALL(IF($P$3:$P$89=\"○\", ROW($P$3:$P$89)-ROW($P$3)+1), ROW(D56)), COLUMNS($Q$3:T58)), \"\")","v":"増進活動"},{"$f":"IFERROR(INDEX($Q$3:$U$89, SMALL(IF($P$3:$P$89=\"○\", ROW($P$3:$P$89)-ROW($P$3)+1), ROW(E56)), COLUMNS($Q$3:U58)), \"\")","v":"53 鳥獣被害防止対策及び環境改善活動の強化"}]
[null,null,null,null,null,null,null,null,null,null,null,null,null,null,null,null,{"$f":"IFERROR(INDEX($Q$3:$U$89, SMALL(IF($P$3:$P$89=\"○\", ROW($P$3:$P$89)-ROW($P$3)+1), ROW(A57)), COLUMNS($Q$3:Q59)), \"\")","v":54},{"$f":"IFERROR(INDEX($Q$3:$U$89, SMALL(IF($P$3:$P$89=\"○\", ROW($P$3:$P$89)-ROW($P$3)+1), ROW(B57)), COLUMNS($Q$3:R59)), \"\")","v":"共同"},{"$f":"IFERROR(INDEX($Q$3:$U$89, SMALL(IF($P$3:$P$89=\"○\", ROW($P$3:$P$89)-ROW($P$3)+1), ROW(C57)), COLUMNS($Q$3:S59)), \"\")","v":"増進活動"},{"$f":"IFERROR(INDEX($Q$3:$U$89, SMALL(IF($P$3:$P$89=\"○\", ROW($P$3:$P$89)-ROW($P$3)+1), ROW(D57)), COLUMNS($Q$3:T59)), \"\")","v":"増進活動"},{"$f":"IFERROR(INDEX($Q$3:$U$89, SMALL(IF($P$3:$P$89=\"○\", ROW($P$3:$P$89)-ROW($P$3)+1), ROW(E57)), COLUMNS($Q$3:U59)), \"\")","v":"54 地域住民による直営施工"}]
[null,null,null,null,null,null,null,null,null,null,null,null,null,null,null,null,{"$f":"IFERROR(INDEX($Q$3:$U$89, SMALL(IF($P$3:$P$89=\"○\", ROW($P$3:$P$89)-ROW($P$3)+1), ROW(A58)), COLUMNS($Q$3:Q60)), \"\")","v":55},{"$f":"IFERROR(INDEX($Q$3:$U$89, SMALL(IF($P$3:$P$89=\"○\", ROW($P$3:$P$89)-ROW($P$3)+1), ROW(B58)), COLUMNS($Q$3:R60)), \"\")","v":"共同"},{"$f":"IFERROR(INDEX($Q$3:$U$89, SMALL(IF($P$3:$P$89=\"○\", ROW($P$3:$P$89)-ROW($P$3)+1), ROW(C58)), COLUMNS($Q$3:S60)), \"\")","v":"増進活動"},{"$f":"IFERROR(INDEX($Q$3:$U$89, SMALL(IF($P$3:$P$89=\"○\", ROW($P$3:$P$89)-ROW($P$3)+1), ROW(D58)), COLUMNS($Q$3:T60)), \"\")","v":"増進活動"},{"$f":"IFERROR(INDEX($Q$3:$U$89, SMALL(IF($P$3:$P$89=\"○\", ROW($P$3:$P$89)-ROW($P$3)+1), ROW(E58)), COLUMNS($Q$3:U60)), \"\")","v":"55 防災・減災力の強化"}]
[null,null,null,null,null,null,null,null,null,null,null,null,null,null,null,null,{"$f":"IFERROR(INDEX($Q$3:$U$89, SMALL(IF($P$3:$P$89=\"○\", ROW($P$3:$P$89)-ROW($P$3)+1), ROW(A59)), COLUMNS($Q$3:Q61)), \"\")","v":56},{"$f":"IFERROR(INDEX($Q$3:$U$89, SMALL(IF($P$3:$P$89=\"○\", ROW($P$3:$P$89)-ROW($P$3)+1), ROW(B59)), COLUMNS($Q$3:R61)), \"\")","v":"共同"},{"$f":"IFERROR(INDEX($Q$3:$U$89, SMALL(IF($P$3:$P$89=\"○\", ROW($P$3:$P$89)-ROW($P$3)+1), ROW(C59)), COLUMNS($Q$3:S61)), \"\")","v":"増進活動"},{"$f":"IFERROR(INDEX($Q$3:$U$89, SMALL(IF($P$3:$P$89=\"○\", ROW($P$3:$P$89)-ROW($P$3)+1), ROW(D59)), COLUMNS($Q$3:T61)), \"\")","v":"増進活動"},{"$f":"IFERROR(INDEX($Q$3:$U$89, SMALL(IF($P$3:$P$89=\"○\", ROW($P$3:$P$89)-ROW($P$3)+1), ROW(E59)), COLUMNS($Q$3:U61)), \"\")","v":"56 農村環境保全活動の幅広い展開"}]
[null,null,null,null,null,null,null,null,null,null,null,null,null,null,null,null,{"$f":"IFERROR(INDEX($Q$3:$U$89, SMALL(IF($P$3:$P$89=\"○\", ROW($P$3:$P$89)-ROW($P$3)+1), ROW(A60)), COLUMNS($Q$3:Q62)), \"\")","v":57},{"$f":"IFERROR(INDEX($Q$3:$U$89, SMALL(IF($P$3:$P$89=\"○\", ROW($P$3:$P$89)-ROW($P$3)+1), ROW(B60)), COLUMNS($Q$3:R62)), \"\")","v":"共同"},{"$f":"IFERROR(INDEX($Q$3:$U$89, SMALL(IF($P$3:$P$89=\"○\", ROW($P$3:$P$89)-ROW($P$3)+1), ROW(C60)), COLUMNS($Q$3:S62)), \"\")","v":"増進活動"},{"$f":"IFERROR(INDEX($Q$3:$U$89, SMALL(IF($P$3:$P$89=\"○\", ROW($P$3:$P$89)-ROW($P$3)+1), ROW(D60)), COLUMNS($Q$3:T62)), \"\")","v":"増進活動"},{"$f":"IFERROR(INDEX($Q$3:$U$89, SMALL(IF($P$3:$P$89=\"○\", ROW($P$3:$P$89)-ROW($P$3)+1), ROW(E60)), COLUMNS($Q$3:U62)), \"\")","v":"57 やすらぎ・福祉及び教育機能の活用"}]
[null,null,null,null,null,null,null,null,null,null,null,null,null,null,null,null,{"$f":"IFERROR(INDEX($Q$3:$U$89, SMALL(IF($P$3:$P$89=\"○\", ROW($P$3:$P$89)-ROW($P$3)+1), ROW(A61)), COLUMNS($Q$3:Q63)), \"\")","v":58},{"$f":"IFERROR(INDEX($Q$3:$U$89, SMALL(IF($P$3:$P$89=\"○\", ROW($P$3:$P$89)-ROW($P$3)+1), ROW(B61)), COLUMNS($Q$3:R63)), \"\")","v":"共同"},{"$f":"IFERROR(INDEX($Q$3:$U$89, SMALL(IF($P$3:$P$89=\"○\", ROW($P$3:$P$89)-ROW($P$3)+1), ROW(C61)), COLUMNS($Q$3:S63)), \"\")","v":"増進活動"},{"$f":"IFERROR(INDEX($Q$3:$U$89, SMALL(IF($P$3:$P$89=\"○\", ROW($P$3:$P$89)-ROW($P$3)+1), ROW(D61)), COLUMNS($Q$3:T63)), \"\")","v":"増進活動"},{"$f":"IFERROR(INDEX($Q$3:$U$89, SMALL(IF($P$3:$P$89=\"○\", ROW($P$3:$P$89)-ROW($P$3)+1), ROW(E61)), COLUMNS($Q$3:U63)), \"\")","v":"58 農村文化の伝承を通じた農村コミュニティの強化"}]
[null,null,null,null,null,null,null,null,null,null,null,null,null,null,null,null,{"$f":"IFERROR(INDEX($Q$3:$U$89, SMALL(IF($P$3:$P$89=\"○\", ROW($P$3:$P$89)-ROW($P$3)+1), ROW(A62)), COLUMNS($Q$3:Q64)), \"\")","v":"58-2"},{"$f":"IFERROR(INDEX($Q$3:$U$89, SMALL(IF($P$3:$P$89=\"○\", ROW($P$3:$P$89)-ROW($P$3)+1), ROW(B62)), COLUMNS($Q$3:R64)), \"\")","v":"共同"},{"$f":"IFERROR(INDEX($Q$3:$U$89, SMALL(IF($P$3:$P$89=\"○\", ROW($P$3:$P$89)-ROW($P$3)+1), ROW(C62)), COLUMNS($Q$3:S64)), \"\")","v":"増進活動"},{"$f":"IFERROR(INDEX($Q$3:$U$89, SMALL(IF($P$3:$P$89=\"○\", ROW($P$3:$P$89)-ROW($P$3)+1), ROW(D62)), COLUMNS($Q$3:T64)), \"\")","v":"増進活動"},{"$f":"IFERROR(INDEX($Q$3:$U$89, SMALL(IF($P$3:$P$89=\"○\", ROW($P$3:$P$89)-ROW($P$3)+1), ROW(E62)), COLUMNS($Q$3:U64)), \"\")","v":"58-2 広域活動組織における活動支援班による活動の実施"}]
[null,null,null,null,null,null,null,null,null,null,null,null,null,null,null,null,{"$f":"IFERROR(INDEX($Q$3:$U$89, SMALL(IF($P$3:$P$89=\"○\", ROW($P$3:$P$89)-ROW($P$3)+1), ROW(A63)), COLUMNS($Q$3:Q65)), \"\")","v":"58-3"},{"$f":"IFERROR(INDEX($Q$3:$U$89, SMALL(IF($P$3:$P$89=\"○\", ROW($P$3:$P$89)-ROW($P$3)+1), ROW(B63)), COLUMNS($Q$3:R65)), \"\")","v":"共同"},{"$f":"IFERROR(INDEX($Q$3:$U$89, SMALL(IF($P$3:$P$89=\"○\", ROW($P$3:$P$89)-ROW($P$3)+1), ROW(C63)), COLUMNS($Q$3:S65)), \"\")","v":"増進活動"},{"$f":"IFERROR(INDEX($Q$3:$U$89, SMALL(IF($P$3:$P$89=\"○\", ROW($P$3:$P$89)-ROW($P$3)+1), ROW(D63)), COLUMNS($Q$3:T65)), \"\")","v":"増進活動"},{"$f":"IFERROR(INDEX($Q$3:$U$89, SMALL(IF($P$3:$P$89=\"○\", ROW($P$3:$P$89)-ROW($P$3)+1), ROW(E63)), COLUMNS($Q$3:U65)), \"\")","v":"58-3 水管理を通じた環境負荷低減活動の強化"}]
[null,null,null,null,null,null,null,null,null,null,null,null,null,null,null,null,{"$f":"IFERROR(INDEX($Q$3:$U$89, SMALL(IF($P$3:$P$89=\"○\", ROW($P$3:$P$89)-ROW($P$3)+1), ROW(A64)), COLUMNS($Q$3:Q66)), \"\")","v":59},{"$f":"IFERROR(INDEX($Q$3:$U$89, SMALL(IF($P$3:$P$89=\"○\", ROW($P$3:$P$89)-ROW($P$3)+1), ROW(B64)), COLUMNS($Q$3:R66)), \"\")","v":"共同"},{"$f":"IFERROR(INDEX($Q$3:$U$89, SMALL(IF($P$3:$P$89=\"○\", ROW($P$3:$P$89)-ROW($P$3)+1), ROW(C64)), COLUMNS($Q$3:S66)), \"\")","v":"増進活動"},{"$f":"IFERROR(INDEX($Q$3:$U$89, SMALL(IF($P$3:$P$89=\"○\", ROW($P$3:$P$89)-ROW($P$3)+1), ROW(D64)), COLUMNS($Q$3:T66)), \"\")","v":"増進活動"},{"$f":"IFERROR(INDEX($Q$3:$U$89, SMALL(IF($P$3:$P$89=\"○\", ROW($P$3:$P$89)-ROW($P$3)+1), ROW(E64)), COLUMNS($Q$3:U66)), \"\")","v":"59 都道府県、市町村が特に認める活動"}]
[null,null,null,null,null,null,null,null,null,null,null,null,null,null,null,null,{"$f":"IFERROR(INDEX($Q$3:$U$89, SMALL(IF($P$3:$P$89=\"○\", ROW($P$3:$P$89)-ROW($P$3)+1), ROW(A65)), COLUMNS($Q$3:Q67)), \"\")","v":60},{"$f":"IFERROR(INDEX($Q$3:$U$89, SMALL(IF($P$3:$P$89=\"○\", ROW($P$3:$P$89)-ROW($P$3)+1), ROW(B65)), COLUMNS($Q$3:R67)), \"\")","v":"共同"},{"$f":"IFERROR(INDEX($Q$3:$U$89, SMALL(IF($P$3:$P$89=\"○\", ROW($P$3:$P$89)-ROW($P$3)+1), ROW(C65)), COLUMNS($Q$3:S67)), \"\")","v":"増進活動"},{"$f":"IFERROR(INDEX($Q$3:$U$89, SMALL(IF($P$3:$P$89=\"○\", ROW($P$3:$P$89)-ROW($P$3)+1), ROW(D65)), COLUMNS($Q$3:T67)), \"\")","v":"増進活動"},{"$f":"IFERROR(INDEX($Q$3:$U$89, SMALL(IF($P$3:$P$89=\"○\", ROW($P$3:$P$89)-ROW($P$3)+1), ROW(E65)), COLUMNS($Q$3:U67)), \"\")","v":"60 広報活動・農村関係人口の拡大"}]
[null,null,null,null,null,null,null,null,null,null,null,null,null,null,null,null,{"$f":"IFERROR(INDEX($Q$3:$U$89, SMALL(IF($P$3:$P$89=\"○\", ROW($P$3:$P$89)-ROW($P$3)+1), ROW(A66)), COLUMNS($Q$3:Q68)), \"\")","v":61},{"$f":"IFERROR(INDEX($Q$3:$U$89, SMALL(IF($P$3:$P$89=\"○\", ROW($P$3:$P$89)-ROW($P$3)+1), ROW(B66)), COLUMNS($Q$3:R68)), \"\")","v":"長寿命化"},{"$f":"IFERROR(INDEX($Q$3:$U$89, SMALL(IF($P$3:$P$89=\"○\", ROW($P$3:$P$89)-ROW($P$3)+1), ROW(C66)), COLUMNS($Q$3:S68)), \"\")","v":"実践活動"},{"$f":"IFERROR(INDEX($Q$3:$U$89, SMALL(IF($P$3:$P$89=\"○\", ROW($P$3:$P$89)-ROW($P$3)+1), ROW(D66)), COLUMNS($Q$3:T68)), \"\")","v":"水路"},{"$f":"IFERROR(INDEX($Q$3:$U$89, SMALL(IF($P$3:$P$89=\"○\", ROW($P$3:$P$89)-ROW($P$3)+1), ROW(E66)), COLUMNS($Q$3:U68)), \"\")","v":"61 水路の補修"}]
[null,null,null,null,null,null,null,null,null,null,null,null,null,null,null,null,{"$f":"IFERROR(INDEX($Q$3:$U$89, SMALL(IF($P$3:$P$89=\"○\", ROW($P$3:$P$89)-ROW($P$3)+1), ROW(A67)), COLUMNS($Q$3:Q69)), \"\")","v":62},{"$f":"IFERROR(INDEX($Q$3:$U$89, SMALL(IF($P$3:$P$89=\"○\", ROW($P$3:$P$89)-ROW($P$3)+1), ROW(B67)), COLUMNS($Q$3:R69)), \"\")","v":"長寿命化"},{"$f":"IFERROR(INDEX($Q$3:$U$89, SMALL(IF($P$3:$P$89=\"○\", ROW($P$3:$P$89)-ROW($P$3)+1), ROW(C67)), COLUMNS($Q$3:S69)), \"\")","v":"実践活動"},{"$f":"IFERROR(INDEX($Q$3:$U$89, SMALL(IF($P$3:$P$89=\"○\", ROW($P$3:$P$89)-ROW($P$3)+1), ROW(D67)), COLUMNS($Q$3:T69)), \"\")","v":"水路"},{"$f":"IFERROR(INDEX($Q$3:$U$89, SMALL(IF($P$3:$P$89=\"○\", ROW($P$3:$P$89)-ROW($P$3)+1), ROW(E67)), COLUMNS($Q$3:U69)), \"\")","v":"62 水路の更新等"}]
[null,null,null,null,null,null,null,null,null,null,null,null,null,null,null,null,{"$f":"IFERROR(INDEX($Q$3:$U$89, SMALL(IF($P$3:$P$89=\"○\", ROW($P$3:$P$89)-ROW($P$3)+1), ROW(A68)), COLUMNS($Q$3:Q70)), \"\")","v":63},{"$f":"IFERROR(INDEX($Q$3:$U$89, SMALL(IF($P$3:$P$89=\"○\", ROW($P$3:$P$89)-ROW($P$3)+1), ROW(B68)), COLUMNS($Q$3:R70)), \"\")","v":"長寿命化"},{"$f":"IFERROR(INDEX($Q$3:$U$89, SMALL(IF($P$3:$P$89=\"○\", ROW($P$3:$P$89)-ROW($P$3)+1), ROW(C68)), COLUMNS($Q$3:S70)), \"\")","v":"実践活動"},{"$f":"IFERROR(INDEX($Q$3:$U$89, SMALL(IF($P$3:$P$89=\"○\", ROW($P$3:$P$89)-ROW($P$3)+1), ROW(D68)), COLUMNS($Q$3:T70)), \"\")","v":"農道"},{"$f":"IFERROR(INDEX($Q$3:$U$89, SMALL(IF($P$3:$P$89=\"○\", ROW($P$3:$P$89)-ROW($P$3)+1), ROW(E68)), COLUMNS($Q$3:U70)), \"\")","v":"63 農道の補修"}]
[null,null,null,null,null,null,null,null,null,null,null,null,null,null,null,null,{"$f":"IFERROR(INDEX($Q$3:$U$89, SMALL(IF($P$3:$P$89=\"○\", ROW($P$3:$P$89)-ROW($P$3)+1), ROW(A69)), COLUMNS($Q$3:Q71)), \"\")","v":64},{"$f":"IFERROR(INDEX($Q$3:$U$89, SMALL(IF($P$3:$P$89=\"○\", ROW($P$3:$P$89)-ROW($P$3)+1), ROW(B69)), COLUMNS($Q$3:R71)), \"\")","v":"長寿命化"},{"$f":"IFERROR(INDEX($Q$3:$U$89, SMALL(IF($P$3:$P$89=\"○\", ROW($P$3:$P$89)-ROW($P$3)+1), ROW(C69)), COLUMNS($Q$3:S71)), \"\")","v":"実践活動"},{"$f":"IFERROR(INDEX($Q$3:$U$89, SMALL(IF($P$3:$P$89=\"○\", ROW($P$3:$P$89)-ROW($P$3)+1), ROW(D69)), COLUMNS($Q$3:T71)), \"\")","v":"農道"},{"$f":"IFERROR(INDEX($Q$3:$U$89, SMALL(IF($P$3:$P$89=\"○\", ROW($P$3:$P$89)-ROW($P$3)+1), ROW(E69)), COLUMNS($Q$3:U71)), \"\")","v":"64 農道の更新等"}]
[null,null,null,null,null,null,null,null,null,null,null,null,null,null,null,null,{"$f":"IFERROR(INDEX($Q$3:$U$89, SMALL(IF($P$3:$P$89=\"○\", ROW($P$3:$P$89)-ROW($P$3)+1), ROW(A70)), COLUMNS($Q$3:Q72)), \"\")","v":65},{"$f":"IFERROR(INDEX($Q$3:$U$89, SMALL(IF($P$3:$P$89=\"○\", ROW($P$3:$P$89)-ROW($P$3)+1), ROW(B70)), COLUMNS($Q$3:R72)), \"\")","v":"長寿命化"},{"$f":"IFERROR(INDEX($Q$3:$U$89, SMALL(IF($P$3:$P$89=\"○\", ROW($P$3:$P$89)-ROW($P$3)+1), ROW(C70)), COLUMNS($Q$3:S72)), \"\")","v":"実践活動"},{"$f":"IFERROR(INDEX($Q$3:$U$89, SMALL(IF($P$3:$P$89=\"○\", ROW($P$3:$P$89)-ROW($P$3)+1), ROW(D70)), COLUMNS($Q$3:T72)), \"\")","v":"ため池"},{"$f":"IFERROR(INDEX($Q$3:$U$89, SMALL(IF($P$3:$P$89=\"○\", ROW($P$3:$P$89)-ROW($P$3)+1), ROW(E70)), COLUMNS($Q$3:U72)), \"\")","v":"65 ため池の補修"}]
[null,null,null,null,null,null,null,null,null,null,null,null,null,null,null,null,{"$f":"IFERROR(INDEX($Q$3:$U$89, SMALL(IF($P$3:$P$89=\"○\", ROW($P$3:$P$89)-ROW($P$3)+1), ROW(A71)), COLUMNS($Q$3:Q73)), \"\")","v":66},{"$f":"IFERROR(INDEX($Q$3:$U$89, SMALL(IF($P$3:$P$89=\"○\", ROW($P$3:$P$89)-ROW($P$3)+1), ROW(B71)), COLUMNS($Q$3:R73)), \"\")","v":"長寿命化"},{"$f":"IFERROR(INDEX($Q$3:$U$89, SMALL(IF($P$3:$P$89=\"○\", ROW($P$3:$P$89)-ROW($P$3)+1), ROW(C71)), COLUMNS($Q$3:S73)), \"\")","v":"実践活動"},{"$f":"IFERROR(INDEX($Q$3:$U$89, SMALL(IF($P$3:$P$89=\"○\", ROW($P$3:$P$89)-ROW($P$3)+1), ROW(D71)), COLUMNS($Q$3:T73)), \"\")","v":"ため池"},{"$f":"IFERROR(INDEX($Q$3:$U$89, SMALL(IF($P$3:$P$89=\"○\", ROW($P$3:$P$89)-ROW($P$3)+1), ROW(E71)), COLUMNS($Q$3:U73)), \"\")","v":"66 ため池（附帯施設）の更新等"}]
[null,null,null,null,null,null,null,null,null,null,null,null,null,null,null,null,{"$f":"IFERROR(INDEX($Q$3:$U$89, SMALL(IF($P$3:$P$89=\"○\", ROW($P$3:$P$89)-ROW($P$3)+1), ROW(A72)), COLUMNS($Q$3:Q74)), \"\")","v":""},{"$f":"IFERROR(INDEX($Q$3:$U$89, SMALL(IF($P$3:$P$89=\"○\", ROW($P$3:$P$89)-ROW($P$3)+1), ROW(B72)), COLUMNS($Q$3:R74)), \"\")","v":""},{"$f":"IFERROR(INDEX($Q$3:$U$89, SMALL(IF($P$3:$P$89=\"○\", ROW($P$3:$P$89)-ROW($P$3)+1), ROW(C72)), COLUMNS($Q$3:S74)), \"\")","v":""},{"$f":"IFERROR(INDEX($Q$3:$U$89, SMALL(IF($P$3:$P$89=\"○\", ROW($P$3:$P$89)-ROW($P$3)+1), ROW(D72)), COLUMNS($Q$3:T74)), \"\")","v":""},{"$f":"IFERROR(INDEX($Q$3:$U$89, SMALL(IF($P$3:$P$89=\"○\", ROW($P$3:$P$89)-ROW($P$3)+1), ROW(E72)), COLUMNS($Q$3:U74)), \"\")","v":""}]
[null,null,null,null,null,null,null,null,null,null,null,null,null,null,null,null,{"$f":"IFERROR(INDEX($Q$3:$U$89, SMALL(IF($P$3:$P$89=\"○\", ROW($P$3:$P$89)-ROW($P$3)+1), ROW(A73)), COLUMNS($Q$3:Q75)), \"\")","v":""},{"$f":"IFERROR(INDEX($Q$3:$U$89, SMALL(IF($P$3:$P$89=\"○\", ROW($P$3:$P$89)-ROW($P$3)+1), ROW(B73)), COLUMNS($Q$3:R75)), \"\")","v":""},{"$f":"IFERROR(INDEX($Q$3:$U$89, SMALL(IF($P$3:$P$89=\"○\", ROW($P$3:$P$89)-ROW($P$3)+1), ROW(C73)), COLUMNS($Q$3:S75)), \"\")","v":""},{"$f":"IFERROR(INDEX($Q$3:$U$89, SMALL(IF($P$3:$P$89=\"○\", ROW($P$3:$P$89)-ROW($P$3)+1), ROW(D73)), COLUMNS($Q$3:T75)), \"\")","v":""},{"$f":"IFERROR(INDEX($Q$3:$U$89, SMALL(IF($P$3:$P$89=\"○\", ROW($P$3:$P$89)-ROW($P$3)+1), ROW(E73)), COLUMNS($Q$3:U75)), \"\")","v":""}]
[null,null,null,null,null,null,null,null,null,null,null,null,null,null,null,null,{"$f":"IFERROR(INDEX($Q$3:$U$89, SMALL(IF($P$3:$P$89=\"○\", ROW($P$3:$P$89)-ROW($P$3)+1), ROW(A74)), COLUMNS($Q$3:Q76)), \"\")","v":""},{"$f":"IFERROR(INDEX($Q$3:$U$89, SMALL(IF($P$3:$P$89=\"○\", ROW($P$3:$P$89)-ROW($P$3)+1), ROW(B74)), COLUMNS($Q$3:R76)), \"\")","v":""},{"$f":"IFERROR(INDEX($Q$3:$U$89, SMALL(IF($P$3:$P$89=\"○\", ROW($P$3:$P$89)-ROW($P$3)+1), ROW(C74)), COLUMNS($Q$3:S76)), \"\")","v":""},{"$f":"IFERROR(INDEX($Q$3:$U$89, SMALL(IF($P$3:$P$89=\"○\", ROW($P$3:$P$89)-ROW($P$3)+1), ROW(D74)), COLUMNS($Q$3:T76)), \"\")","v":""},{"$f":"IFERROR(INDEX($Q$3:$U$89, SMALL(IF($P$3:$P$89=\"○\", ROW($P$3:$P$89)-ROW($P$3)+1), ROW(E74)), COLUMNS($Q$3:U76)), \"\")","v":""}]
[null,null,null,null,null,null,null,null,null,null,null,null,null,null,null,null,{"$f":"IFERROR(INDEX($Q$3:$U$89, SMALL(IF($P$3:$P$89=\"○\", ROW($P$3:$P$89)-ROW($P$3)+1), ROW(A75)), COLUMNS($Q$3:Q77)), \"\")","v":""},{"$f":"IFERROR(INDEX($Q$3:$U$89, SMALL(IF($P$3:$P$89=\"○\", ROW($P$3:$P$89)-ROW($P$3)+1), ROW(B75)), COLUMNS($Q$3:R77)), \"\")","v":""},{"$f":"IFERROR(INDEX($Q$3:$U$89, SMALL(IF($P$3:$P$89=\"○\", ROW($P$3:$P$89)-ROW($P$3)+1), ROW(C75)), COLUMNS($Q$3:S77)), \"\")","v":""},{"$f":"IFERROR(INDEX($Q$3:$U$89, SMALL(IF($P$3:$P$89=\"○\", ROW($P$3:$P$89)-ROW($P$3)+1), ROW(D75)), COLUMNS($Q$3:T77)), \"\")","v":""},{"$f":"IFERROR(INDEX($Q$3:$U$89, SMALL(IF($P$3:$P$89=\"○\", ROW($P$3:$P$89)-ROW($P$3)+1), ROW(E75)), COLUMNS($Q$3:U77)), \"\")","v":""}]
[null,null,null,null,null,null,null,null,null,null,null,null,null,null,null,null,{"$f":"IFERROR(INDEX($Q$3:$U$89, SMALL(IF($P$3:$P$89=\"○\", ROW($P$3:$P$89)-ROW($P$3)+1), ROW(A76)), COLUMNS($Q$3:Q78)), \"\")","v":""},{"$f":"IFERROR(INDEX($Q$3:$U$89, SMALL(IF($P$3:$P$89=\"○\", ROW($P$3:$P$89)-ROW($P$3)+1), ROW(B76)), COLUMNS($Q$3:R78)), \"\")","v":""},{"$f":"IFERROR(INDEX($Q$3:$U$89, SMALL(IF($P$3:$P$89=\"○\", ROW($P$3:$P$89)-ROW($P$3)+1), ROW(C76)), COLUMNS($Q$3:S78)), \"\")","v":""},{"$f":"IFERROR(INDEX($Q$3:$U$89, SMALL(IF($P$3:$P$89=\"○\", ROW($P$3:$P$89)-ROW($P$3)+1), ROW(D76)), COLUMNS($Q$3:T78)), \"\")","v":""},{"$f":"IFERROR(INDEX($Q$3:$U$89, SMALL(IF($P$3:$P$89=\"○\", ROW($P$3:$P$89)-ROW($P$3)+1), ROW(E76)), COLUMNS($Q$3:U78)), \"\")","v":""}]
[null,null,null,null,null,null,null,null,null,null,null,null,null,null,null,null,{"$f":"IFERROR(INDEX($Q$3:$U$89, SMALL(IF($P$3:$P$89=\"○\", ROW($P$3:$P$89)-ROW($P$3)+1), ROW(A77)), COLUMNS($Q$3:Q79)), \"\")","v":""},{"$f":"IFERROR(INDEX($Q$3:$U$89, SMALL(IF($P$3:$P$89=\"○\", ROW($P$3:$P$89)-ROW($P$3)+1), ROW(B77)), COLUMNS($Q$3:R79)), \"\")","v":""},{"$f":"IFERROR(INDEX($Q$3:$U$89, SMALL(IF($P$3:$P$89=\"○\", ROW($P$3:$P$89)-ROW($P$3)+1), ROW(C77)), COLUMNS($Q$3:S79)), \"\")","v":""},{"$f":"IFERROR(INDEX($Q$3:$U$89, SMALL(IF($P$3:$P$89=\"○\", ROW($P$3:$P$89)-ROW($P$3)+1), ROW(D77)), COLUMNS($Q$3:T79)), \"\")","v":""},{"$f":"IFERROR(INDEX($Q$3:$U$89, SMALL(IF($P$3:$P$89=\"○\", ROW($P$3:$P$89)-ROW($P$3)+1), ROW(E77)), COLUMNS($Q$3:U79)), \"\")","v":""}]
[null,null,null,null,null,null,null,null,null,null,null,null,null,null,null,null,{"$f":"IFERROR(INDEX($Q$3:$U$89, SMALL(IF($P$3:$P$89=\"○\", ROW($P$3:$P$89)-ROW($P$3)+1), ROW(A78)), COLUMNS($Q$3:Q80)), \"\")","v":""},{"$f":"IFERROR(INDEX($Q$3:$U$89, SMALL(IF($P$3:$P$89=\"○\", ROW($P$3:$P$89)-ROW($P$3)+1), ROW(B78)), COLUMNS($Q$3:R80)), \"\")","v":""},{"$f":"IFERROR(INDEX($Q$3:$U$89, SMALL(IF($P$3:$P$89=\"○\", ROW($P$3:$P$89)-ROW($P$3)+1), ROW(C78)), COLUMNS($Q$3:S80)), \"\")","v":""},{"$f":"IFERROR(INDEX($Q$3:$U$89, SMALL(IF($P$3:$P$89=\"○\", ROW($P$3:$P$89)-ROW($P$3)+1), ROW(D78)), COLUMNS($Q$3:T80)), \"\")","v":""},{"$f":"IFERROR(INDEX($Q$3:$U$89, SMALL(IF($P$3:$P$89=\"○\", ROW($P$3:$P$89)-ROW($P$3)+1), ROW(E78)), COLUMNS($Q$3:U80)), \"\")","v":""}]
[null,null,null,null,null,null,null,null,null,null,null,null,null,null,null,null,{"$f":"IFERROR(INDEX($Q$3:$U$89, SMALL(IF($P$3:$P$89=\"○\", ROW($P$3:$P$89)-ROW($P$3)+1), ROW(A79)), COLUMNS($Q$3:Q81)), \"\")","v":""},{"$f":"IFERROR(INDEX($Q$3:$U$89, SMALL(IF($P$3:$P$89=\"○\", ROW($P$3:$P$89)-ROW($P$3)+1), ROW(B79)), COLUMNS($Q$3:R81)), \"\")","v":""},{"$f":"IFERROR(INDEX($Q$3:$U$89, SMALL(IF($P$3:$P$89=\"○\", ROW($P$3:$P$89)-ROW($P$3)+1), ROW(C79)), COLUMNS($Q$3:S81)), \"\")","v":""},{"$f":"IFERROR(INDEX($Q$3:$U$89, SMALL(IF($P$3:$P$89=\"○\", ROW($P$3:$P$89)-ROW($P$3)+1), ROW(D79)), COLUMNS($Q$3:T81)), \"\")","v":""},{"$f":"IFERROR(INDEX($Q$3:$U$89, SMALL(IF($P$3:$P$89=\"○\", ROW($P$3:$P$89)-ROW($P$3)+1), ROW(E79)), COLUMNS($Q$3:U81)), \"\")","v":""}]
[null,null,null,null,null,null,null,null,null,null,null,null,null,null,null,null,{"$f":"IFERROR(INDEX($Q$3:$U$89, SMALL(IF($P$3:$P$89=\"○\", ROW($P$3:$P$89)-ROW($P$3)+1), ROW(A80)), COLUMNS($Q$3:Q82)), \"\")","v":""},{"$f":"IFERROR(INDEX($Q$3:$U$89, SMALL(IF($P$3:$P$89=\"○\", ROW($P$3:$P$89)-ROW($P$3)+1), ROW(B80)), COLUMNS($Q$3:R82)), \"\")","v":""},{"$f":"IFERROR(INDEX($Q$3:$U$89, SMALL(IF($P$3:$P$89=\"○\", ROW($P$3:$P$89)-ROW($P$3)+1), ROW(C80)), COLUMNS($Q$3:S82)), \"\")","v":""},{"$f":"IFERROR(INDEX($Q$3:$U$89, SMALL(IF($P$3:$P$89=\"○\", ROW($P$3:$P$89)-ROW($P$3)+1), ROW(D80)), COLUMNS($Q$3:T82)), \"\")","v":""},{"$f":"IFERROR(INDEX($Q$3:$U$89, SMALL(IF($P$3:$P$89=\"○\", ROW($P$3:$P$89)-ROW($P$3)+1), ROW(E80)), COLUMNS($Q$3:U82)), \"\")","v":""}]
[null,null,null,null,null,null,null,null,null,null,null,null,null,null,null,null,{"$f":"IFERROR(INDEX($Q$3:$U$89, SMALL(IF($P$3:$P$89=\"○\", ROW($P$3:$P$89)-ROW($P$3)+1), ROW(A81)), COLUMNS($Q$3:Q83)), \"\")","v":""},{"$f":"IFERROR(INDEX($Q$3:$U$89, SMALL(IF($P$3:$P$89=\"○\", ROW($P$3:$P$89)-ROW($P$3)+1), ROW(B81)), COLUMNS($Q$3:R83)), \"\")","v":""},{"$f":"IFERROR(INDEX($Q$3:$U$89, SMALL(IF($P$3:$P$89=\"○\", ROW($P$3:$P$89)-ROW($P$3)+1), ROW(C81)), COLUMNS($Q$3:S83)), \"\")","v":""},{"$f":"IFERROR(INDEX($Q$3:$U$89, SMALL(IF($P$3:$P$89=\"○\", ROW($P$3:$P$89)-ROW($P$3)+1), ROW(D81)), COLUMNS($Q$3:T83)), \"\")","v":""},{"$f":"IFERROR(INDEX($Q$3:$U$89, SMALL(IF($P$3:$P$89=\"○\", ROW($P$3:$P$89)-ROW($P$3)+1), ROW(E81)), COLUMNS($Q$3:U83)), \"\")","v":""}]
[null,null,null,null,null,null,null,null,null,null,null,null,null,null,null,null,{"$f":"IFERROR(INDEX($Q$3:$U$89, SMALL(IF($P$3:$P$89=\"○\", ROW($P$3:$P$89)-ROW($P$3)+1), ROW(A82)), COLUMNS($Q$3:Q84)), \"\")","v":""},{"$f":"IFERROR(INDEX($Q$3:$U$89, SMALL(IF($P$3:$P$89=\"○\", ROW($P$3:$P$89)-ROW($P$3)+1), ROW(B82)), COLUMNS($Q$3:R84)), \"\")","v":""},{"$f":"IFERROR(INDEX($Q$3:$U$89, SMALL(IF($P$3:$P$89=\"○\", ROW($P$3:$P$89)-ROW($P$3)+1), ROW(C82)), COLUMNS($Q$3:S84)), \"\")","v":""},{"$f":"IFERROR(INDEX($Q$3:$U$89, SMALL(IF($P$3:$P$89=\"○\", ROW($P$3:$P$89)-ROW($P$3)+1), ROW(D82)), COLUMNS($Q$3:T84)), \"\")","v":""},{"$f":"IFERROR(INDEX($Q$3:$U$89, SMALL(IF($P$3:$P$89=\"○\", ROW($P$3:$P$89)-ROW($P$3)+1), ROW(E82)), COLUMNS($Q$3:U84)), \"\")","v":""}]
[null,null,null,null,null,null,null,null,null,null,null,null,null,null,null,null,{"$f":"IFERROR(INDEX($Q$3:$U$89, SMALL(IF($P$3:$P$89=\"○\", ROW($P$3:$P$89)-ROW($P$3)+1), ROW(A83)), COLUMNS($Q$3:Q85)), \"\")","v":""},{"$f":"IFERROR(INDEX($Q$3:$U$89, SMALL(IF($P$3:$P$89=\"○\", ROW($P$3:$P$89)-ROW($P$3)+1), ROW(B83)), COLUMNS($Q$3:R85)), \"\")","v":""},{"$f":"IFERROR(INDEX($Q$3:$U$89, SMALL(IF($P$3:$P$89=\"○\", ROW($P$3:$P$89)-ROW($P$3)+1), ROW(C83)), COLUMNS($Q$3:S85)), \"\")","v":""},{"$f":"IFERROR(INDEX($Q$3:$U$89, SMALL(IF($P$3:$P$89=\"○\", ROW($P$3:$P$89)-ROW($P$3)+1), ROW(D83)), COLUMNS($Q$3:T85)), \"\")","v":""},{"$f":"IFERROR(INDEX($Q$3:$U$89, SMALL(IF($P$3:$P$89=\"○\", ROW($P$3:$P$89)-ROW($P$3)+1), ROW(E83)), COLUMNS($Q$3:U85)), \"\")","v":""}]
[null,null,null,null,null,null,null,null,null,null,null,null,null,null,null,null,{"$f":"IFERROR(INDEX($Q$3:$U$89, SMALL(IF($P$3:$P$89=\"○\", ROW($P$3:$P$89)-ROW($P$3)+1), ROW(A84)), COLUMNS($Q$3:Q86)), \"\")","v":""},{"$f":"IFERROR(INDEX($Q$3:$U$89, SMALL(IF($P$3:$P$89=\"○\", ROW($P$3:$P$89)-ROW($P$3)+1), ROW(B84)), COLUMNS($Q$3:R86)), \"\")","v":""},{"$f":"IFERROR(INDEX($Q$3:$U$89, SMALL(IF($P$3:$P$89=\"○\", ROW($P$3:$P$89)-ROW($P$3)+1), ROW(C84)), COLUMNS($Q$3:S86)), \"\")","v":""},{"$f":"IFERROR(INDEX($Q$3:$U$89, SMALL(IF($P$3:$P$89=\"○\", ROW($P$3:$P$89)-ROW($P$3)+1), ROW(D84)), COLUMNS($Q$3:T86)), \"\")","v":""},{"$f":"IFERROR(INDEX($Q$3:$U$89, SMALL(IF($P$3:$P$89=\"○\", ROW($P$3:$P$89)-ROW($P$3)+1), ROW(E84)), COLUMNS($Q$3:U86)), \"\")","v":""}]
[null,null,null,null,null,null,null,null,null,null,null,null,null,null,null,null,{"$f":"IFERROR(INDEX($Q$3:$U$89, SMALL(IF($P$3:$P$89=\"○\", ROW($P$3:$P$89)-ROW($P$3)+1), ROW(A85)), COLUMNS($Q$3:Q87)), \"\")","v":""},{"$f":"IFERROR(INDEX($Q$3:$U$89, SMALL(IF($P$3:$P$89=\"○\", ROW($P$3:$P$89)-ROW($P$3)+1), ROW(B85)), COLUMNS($Q$3:R87)), \"\")","v":""},{"$f":"IFERROR(INDEX($Q$3:$U$89, SMALL(IF($P$3:$P$89=\"○\", ROW($P$3:$P$89)-ROW($P$3)+1), ROW(C85)), COLUMNS($Q$3:S87)), \"\")","v":""},{"$f":"IFERROR(INDEX($Q$3:$U$89, SMALL(IF($P$3:$P$89=\"○\", ROW($P$3:$P$89)-ROW($P$3)+1), ROW(D85)), COLUMNS($Q$3:T87)), \"\")","v":""},{"$f":"IFERROR(INDEX($Q$3:$U$89, SMALL(IF($P$3:$P$89=\"○\", ROW($P$3:$P$89)-ROW($P$3)+1), ROW(E85)), COLUMNS($Q$3:U87)), \"\")","v":""}]
[null,null,null,null,null,null,null,null,null,null,null,null,null,null,null,null,{"$f":"IFERROR(INDEX($Q$3:$U$89, SMALL(IF($P$3:$P$89=\"○\", ROW($P$3:$P$89)-ROW($P$3)+1), ROW(A86)), COLUMNS($Q$3:Q88)), \"\")","v":""},{"$f":"IFERROR(INDEX($Q$3:$U$89, SMALL(IF($P$3:$P$89=\"○\", ROW($P$3:$P$89)-ROW($P$3)+1), ROW(B86)), COLUMNS($Q$3:R88)), \"\")","v":""},{"$f":"IFERROR(INDEX($Q$3:$U$89, SMALL(IF($P$3:$P$89=\"○\", ROW($P$3:$P$89)-ROW($P$3)+1), ROW(C86)), COLUMNS($Q$3:S88)), \"\")","v":""},{"$f":"IFERROR(INDEX($Q$3:$U$89, SMALL(IF($P$3:$P$89=\"○\", ROW($P$3:$P$89)-ROW($P$3)+1), ROW(D86)), COLUMNS($Q$3:T88)), \"\")","v":""},{"$f":"IFERROR(INDEX($Q$3:$U$89, SMALL(IF($P$3:$P$89=\"○\", ROW($P$3:$P$89)-ROW($P$3)+1), ROW(E86)), COLUMNS($Q$3:U88)), \"\")","v":""}]
[null,null,null,null,null,null,null,null,null,null,null,null,null,null,null,null,{"$f":"IFERROR(INDEX($Q$3:$U$89, SMALL(IF($P$3:$P$89=\"○\", ROW($P$3:$P$89)-ROW($P$3)+1), ROW(A87)), COLUMNS($Q$3:Q89)), \"\")","v":""},{"$f":"IFERROR(INDEX($Q$3:$U$89, SMALL(IF($P$3:$P$89=\"○\", ROW($P$3:$P$89)-ROW($P$3)+1), ROW(B87)), COLUMNS($Q$3:R89)), \"\")","v":""},{"$f":"IFERROR(INDEX($Q$3:$U$89, SMALL(IF($P$3:$P$89=\"○\", ROW($P$3:$P$89)-ROW($P$3)+1), ROW(C87)), COLUMNS($Q$3:S89)), \"\")","v":""},{"$f":"IFERROR(INDEX($Q$3:$U$89, SMALL(IF($P$3:$P$89=\"○\", ROW($P$3:$P$89)-ROW($P$3)+1), ROW(D87)), COLUMNS($Q$3:T89)), \"\")","v":""},{"$f":"IFERROR(INDEX($Q$3:$U$89, SMALL(IF($P$3:$P$89=\"○\", ROW($P$3:$P$89)-ROW($P$3)+1), ROW(E87)), COLUMNS($Q$3:U89)), \"\")","v":""}]
[null,null,null,null,null,null,null,null,null,null,null,null,null,null,null,null,{"$f":"IFERROR(INDEX($Q$3:$U$89, SMALL(IF($P$3:$P$89=\"○\", ROW($P$3:$P$89)-ROW($P$3)+1), ROW(A88)), COLUMNS($Q$3:Q90)), \"\")","v":""},{"$f":"IFERROR(INDEX($Q$3:$U$89, SMALL(IF($P$3:$P$89=\"○\", ROW($P$3:$P$89)-ROW($P$3)+1), ROW(B88)), COLUMNS($Q$3:R90)), \"\")","v":""},{"$f":"IFERROR(INDEX($Q$3:$U$89, SMALL(IF($P$3:$P$89=\"○\", ROW($P$3:$P$89)-ROW($P$3)+1), ROW(C88)), COLUMNS($Q$3:S90)), \"\")","v":""},{"$f":"IFERROR(INDEX($Q$3:$U$89, SMALL(IF($P$3:$P$89=\"○\", ROW($P$3:$P$89)-ROW($P$3)+1), ROW(D88)), COLUMNS($Q$3:T90)), \"\")","v":""},{"$f":"IFERROR(INDEX($Q$3:$U$89, SMALL(IF($P$3:$P$89=\"○\", ROW($P$3:$P$89)-ROW($P$3)+1), ROW(E88)), COLUMNS($Q$3:U90)), \"\")","v":""}]
[null,null,null,null,null,null,null,null,null,null,null,null,null,null,null,null,{"$f":"IFERROR(INDEX($Q$3:$U$89, SMALL(IF($P$3:$P$89=\"○\", ROW($P$3:$P$89)-ROW($P$3)+1), ROW(A89)), COLUMNS($Q$3:Q91)), \"\")","v":""},{"$f":"IFERROR(INDEX($Q$3:$U$89, SMALL(IF($P$3:$P$89=\"○\", ROW($P$3:$P$89)-ROW($P$3)+1), ROW(B89)), COLUMNS($Q$3:R91)), \"\")","v":""},{"$f":"IFERROR(INDEX($Q$3:$U$89, SMALL(IF($P$3:$P$89=\"○\", ROW($P$3:$P$89)-ROW($P$3)+1), ROW(C89)), COLUMNS($Q$3:S91)), \"\")","v":""},{"$f":"IFERROR(INDEX($Q$3:$U$89, SMALL(IF($P$3:$P$89=\"○\", ROW($P$3:$P$89)-ROW($P$3)+1), ROW(D89)), COLUMNS($Q$3:T91)), \"\")","v":""},{"$f":"IFERROR(INDEX($Q$3:$U$89, SMALL(IF($P$3:$P$89=\"○\", ROW($P$3:$P$89)-ROW($P$3)+1), ROW(E89)), COLUMNS($Q$3:U91)), \"\")","v":""}]
[null,null,null,null,null,null,null,null,null,null,null,null,null,null,null,null,{"$f":"IFERROR(INDEX($Q$3:$U$89, SMALL(IF($P$3:$P$89=\"○\", ROW($P$3:$P$89)-ROW($P$3)+1), ROW(A90)), COLUMNS($Q$3:Q92)), \"\")","v":""},{"$f":"IFERROR(INDEX($Q$3:$U$89, SMALL(IF($P$3:$P$89=\"○\", ROW($P$3:$P$89)-ROW($P$3)+1), ROW(B90)), COLUMNS($Q$3:R92)), \"\")","v":""},{"$f":"IFERROR(INDEX($Q$3:$U$89, SMALL(IF($P$3:$P$89=\"○\", ROW($P$3:$P$89)-ROW($P$3)+1), ROW(C90)), COLUMNS($Q$3:S92)), \"\")","v":""},{"$f":"IFERROR(INDEX($Q$3:$U$89, SMALL(IF($P$3:$P$89=\"○\", ROW($P$3:$P$89)-ROW($P$3)+1), ROW(D90)), COLUMNS($Q$3:T92)), \"\")","v":""},{"$f":"IFERROR(INDEX($Q$3:$U$89, SMALL(IF($P$3:$P$89=\"○\", ROW($P$3:$P$89)-ROW($P$3)+1), ROW(E90)), COLUMNS($Q$3:U92)), \"\")","v":""}]
[null,null,null,null,null,null,null,null,null,null,null,null,null,null,null,null,{"$f":"IFERROR(INDEX($Q$3:$U$89, SMALL(IF($P$3:$P$89=\"○\", ROW($P$3:$P$89)-ROW($P$3)+1), ROW(A91)), COLUMNS($Q$3:Q93)), \"\")","v":""},{"$f":"IFERROR(INDEX($Q$3:$U$89, SMALL(IF($P$3:$P$89=\"○\", ROW($P$3:$P$89)-ROW($P$3)+1), ROW(B91)), COLUMNS($Q$3:R93)), \"\")","v":""},{"$f":"IFERROR(INDEX($Q$3:$U$89, SMALL(IF($P$3:$P$89=\"○\", ROW($P$3:$P$89)-ROW($P$3)+1), ROW(C91)), COLUMNS($Q$3:S93)), \"\")","v":""},{"$f":"IFERROR(INDEX($Q$3:$U$89, SMALL(IF($P$3:$P$89=\"○\", ROW($P$3:$P$89)-ROW($P$3)+1), ROW(D91)), COLUMNS($Q$3:T93)), \"\")","v":""},{"$f":"IFERROR(INDEX($Q$3:$U$89, SMALL(IF($P$3:$P$89=\"○\", ROW($P$3:$P$89)-ROW($P$3)+1), ROW(E91)), COLUMNS($Q$3:U93)), \"\")","v":""}]
[null,null,null,null,null,null,null,null,null,null,null,null,null,null,null,null,{"$f":"IFERROR(INDEX($Q$3:$U$89, SMALL(IF($P$3:$P$89=\"○\", ROW($P$3:$P$89)-ROW($P$3)+1), ROW(A92)), COLUMNS($Q$3:Q94)), \"\")","v":""},{"$f":"IFERROR(INDEX($Q$3:$U$89, SMALL(IF($P$3:$P$89=\"○\", ROW($P$3:$P$89)-ROW($P$3)+1), ROW(B92)), COLUMNS($Q$3:R94)), \"\")","v":""},{"$f":"IFERROR(INDEX($Q$3:$U$89, SMALL(IF($P$3:$P$89=\"○\", ROW($P$3:$P$89)-ROW($P$3)+1), ROW(C92)), COLUMNS($Q$3:S94)), \"\")","v":""},{"$f":"IFERROR(INDEX($Q$3:$U$89, SMALL(IF($P$3:$P$89=\"○\", ROW($P$3:$P$89)-ROW($P$3)+1), ROW(D92)), COLUMNS($Q$3:T94)), \"\")","v":""},{"$f":"IFERROR(INDEX($Q$3:$U$89, SMALL(IF($P$3:$P$89=\"○\", ROW($P$3:$P$89)-ROW($P$3)+1), ROW(E92)), COLUMNS($Q$3:U94)), \"\")","v":""}]
[null,null,null,null,null,null,null,null,null,null,null,null,null,null,null,null,{"$f":"IFERROR(INDEX($Q$3:$U$89, SMALL(IF($P$3:$P$89=\"○\", ROW($P$3:$P$89)-ROW($P$3)+1), ROW(A93)), COLUMNS($Q$3:Q95)), \"\")","v":""},{"$f":"IFERROR(INDEX($Q$3:$U$89, SMALL(IF($P$3:$P$89=\"○\", ROW($P$3:$P$89)-ROW($P$3)+1), ROW(B93)), COLUMNS($Q$3:R95)), \"\")","v":""},{"$f":"IFERROR(INDEX($Q$3:$U$89, SMALL(IF($P$3:$P$89=\"○\", ROW($P$3:$P$89)-ROW($P$3)+1), ROW(C93)), COLUMNS($Q$3:S95)), \"\")","v":""},{"$f":"IFERROR(INDEX($Q$3:$U$89, SMALL(IF($P$3:$P$89=\"○\", ROW($P$3:$P$89)-ROW($P$3)+1), ROW(D93)), COLUMNS($Q$3:T95)), \"\")","v":""},{"$f":"IFERROR(INDEX($Q$3:$U$89, SMALL(IF($P$3:$P$89=\"○\", ROW($P$3:$P$89)-ROW($P$3)+1), ROW(E93)), COLUMNS($Q$3:U95)), \"\")","v":""}]
[null,null,null,null,null,null,null,null,null,null,null,null,null,null,null,null,{"$f":"IFERROR(INDEX($Q$3:$U$89, SMALL(IF($P$3:$P$89=\"○\", ROW($P$3:$P$89)-ROW($P$3)+1), ROW(A94)), COLUMNS($Q$3:Q96)), \"\")","v":""},{"$f":"IFERROR(INDEX($Q$3:$U$89, SMALL(IF($P$3:$P$89=\"○\", ROW($P$3:$P$89)-ROW($P$3)+1), ROW(B94)), COLUMNS($Q$3:R96)), \"\")","v":""},{"$f":"IFERROR(INDEX($Q$3:$U$89, SMALL(IF($P$3:$P$89=\"○\", ROW($P$3:$P$89)-ROW($P$3)+1), ROW(C94)), COLUMNS($Q$3:S96)), \"\")","v":""},{"$f":"IFERROR(INDEX($Q$3:$U$89, SMALL(IF($P$3:$P$89=\"○\", ROW($P$3:$P$89)-ROW($P$3)+1), ROW(D94)), COLUMNS($Q$3:T96)), \"\")","v":""},{"$f":"IFERROR(INDEX($Q$3:$U$89, SMALL(IF($P$3:$P$89=\"○\", ROW($P$3:$P$89)-ROW($P$3)+1), ROW(E94)), COLUMNS($Q$3:U96)), \"\")","v":""}]
[null,null,null,null,null,null,null,null,null,null,null,null,null,null,null,null,{"$f":"IFERROR(INDEX($Q$3:$U$89, SMALL(IF($P$3:$P$89=\"○\", ROW($P$3:$P$89)-ROW($P$3)+1), ROW(A95)), COLUMNS($Q$3:Q97)), \"\")","v":""},{"$f":"IFERROR(INDEX($Q$3:$U$89, SMALL(IF($P$3:$P$89=\"○\", ROW($P$3:$P$89)-ROW($P$3)+1), ROW(B95)), COLUMNS($Q$3:R97)), \"\")","v":""},{"$f":"IFERROR(INDEX($Q$3:$U$89, SMALL(IF($P$3:$P$89=\"○\", ROW($P$3:$P$89)-ROW($P$3)+1), ROW(C95)), COLUMNS($Q$3:S97)), \"\")","v":""},{"$f":"IFERROR(INDEX($Q$3:$U$89, SMALL(IF($P$3:$P$89=\"○\", ROW($P$3:$P$89)-ROW($P$3)+1), ROW(D95)), COLUMNS($Q$3:T97)), \"\")","v":""},{"$f":"IFERROR(INDEX($Q$3:$U$89, SMALL(IF($P$3:$P$89=\"○\", ROW($P$3:$P$89)-ROW($P$3)+1), ROW(E95)), COLUMNS($Q$3:U97)), \"\")","v":""}]
[null,null,null,null,null,null,null,null,null,null,null,null,null,null,null,null,{"$f":"IFERROR(INDEX($Q$3:$U$89, SMALL(IF($P$3:$P$89=\"○\", ROW($P$3:$P$89)-ROW($P$3)+1), ROW(A96)), COLUMNS($Q$3:Q98)), \"\")","v":""},{"$f":"IFERROR(INDEX($Q$3:$U$89, SMALL(IF($P$3:$P$89=\"○\", ROW($P$3:$P$89)-ROW($P$3)+1), ROW(B96)), COLUMNS($Q$3:R98)), \"\")","v":""},{"$f":"IFERROR(INDEX($Q$3:$U$89, SMALL(IF($P$3:$P$89=\"○\", ROW($P$3:$P$89)-ROW($P$3)+1), ROW(C96)), COLUMNS($Q$3:S98)), \"\")","v":""},{"$f":"IFERROR(INDEX($Q$3:$U$89, SMALL(IF($P$3:$P$89=\"○\", ROW($P$3:$P$89)-ROW($P$3)+1), ROW(D96)), COLUMNS($Q$3:T98)), \"\")","v":""},{"$f":"IFERROR(INDEX($Q$3:$U$89, SMALL(IF($P$3:$P$89=\"○\", ROW($P$3:$P$89)-ROW($P$3)+1), ROW(E96)), COLUMNS($Q$3:U98)), \"\")","v":""}]
[null,null,null,null,null,null,null,null,null,null,null,null,null,null,null,null,{"$f":"IFERROR(INDEX($Q$3:$U$89, SMALL(IF($P$3:$P$89=\"○\", ROW($P$3:$P$89)-ROW($P$3)+1), ROW(A97)), COLUMNS($Q$3:Q99)), \"\")","v":""},{"$f":"IFERROR(INDEX($Q$3:$U$89, SMALL(IF($P$3:$P$89=\"○\", ROW($P$3:$P$89)-ROW($P$3)+1), ROW(B97)), COLUMNS($Q$3:R99)), \"\")","v":""},{"$f":"IFERROR(INDEX($Q$3:$U$89, SMALL(IF($P$3:$P$89=\"○\", ROW($P$3:$P$89)-ROW($P$3)+1), ROW(C97)), COLUMNS($Q$3:S99)), \"\")","v":""},{"$f":"IFERROR(INDEX($Q$3:$U$89, SMALL(IF($P$3:$P$89=\"○\", ROW($P$3:$P$89)-ROW($P$3)+1), ROW(D97)), COLUMNS($Q$3:T99)), \"\")","v":""},{"$f":"IFERROR(INDEX($Q$3:$U$89, SMALL(IF($P$3:$P$89=\"○\", ROW($P$3:$P$89)-ROW($P$3)+1), ROW(E97)), COLUMNS($Q$3:U99)), \"\")","v":""}]
[null,null,null,null,null,null,null,null,null,null,null,null,null,null,null,null,{"$f":"IFERROR(INDEX($Q$3:$U$89, SMALL(IF($P$3:$P$89=\"○\", ROW($P$3:$P$89)-ROW($P$3)+1), ROW(A98)), COLUMNS($Q$3:Q100)), \"\")","v":""},{"$f":"IFERROR(INDEX($Q$3:$U$89, SMALL(IF($P$3:$P$89=\"○\", ROW($P$3:$P$89)-ROW($P$3)+1), ROW(B98)), COLUMNS($Q$3:R100)), \"\")","v":""},{"$f":"IFERROR(INDEX($Q$3:$U$89, SMALL(IF($P$3:$P$89=\"○\", ROW($P$3:$P$89)-ROW($P$3)+1), ROW(C98)), COLUMNS($Q$3:S100)), \"\")","v":""},{"$f":"IFERROR(INDEX($Q$3:$U$89, SMALL(IF($P$3:$P$89=\"○\", ROW($P$3:$P$89)-ROW($P$3)+1), ROW(D98)), COLUMNS($Q$3:T100)), \"\")","v":""},{"$f":"IFERROR(INDEX($Q$3:$U$89, SMALL(IF($P$3:$P$89=\"○\", ROW($P$3:$P$89)-ROW($P$3)+1), ROW(E98)), COLUMNS($Q$3:U100)), \"\")","v":""}]
[null,null,null,null,null,null,null,null,null,null,null,null,null,null,null,null,{"$f":"IFERROR(INDEX($Q$3:$U$89, SMALL(IF($P$3:$P$89=\"○\", ROW($P$3:$P$89)-ROW($P$3)+1), ROW(A99)), COLUMNS($Q$3:Q101)), \"\")","v":""},{"$f":"IFERROR(INDEX($Q$3:$U$89, SMALL(IF($P$3:$P$89=\"○\", ROW($P$3:$P$89)-ROW($P$3)+1), ROW(B99)), COLUMNS($Q$3:R101)), \"\")","v":""},{"$f":"IFERROR(INDEX($Q$3:$U$89, SMALL(IF($P$3:$P$89=\"○\", ROW($P$3:$P$89)-ROW($P$3)+1), ROW(C99)), COLUMNS($Q$3:S101)), \"\")","v":""},{"$f":"IFERROR(INDEX($Q$3:$U$89, SMALL(IF($P$3:$P$89=\"○\", ROW($P$3:$P$89)-ROW($P$3)+1), ROW(D99)), COLUMNS($Q$3:T101)), \"\")","v":""},{"$f":"IFERROR(INDEX($Q$3:$U$89, SMALL(IF($P$3:$P$89=\"○\", ROW($P$3:$P$89)-ROW($P$3)+1), ROW(E99)), COLUMNS($Q$3:U101)), \"\")","v":""}]
[null,null,null,null,null,null,null,null,null,null,null,null,null,null,null,null,{"$f":"IFERROR(INDEX($Q$3:$U$89, SMALL(IF($P$3:$P$89=\"○\", ROW($P$3:$P$89)-ROW($P$3)+1), ROW(A100)), COLUMNS($Q$3:Q102)), \"\")","v":""},{"$f":"IFERROR(INDEX($Q$3:$U$89, SMALL(IF($P$3:$P$89=\"○\", ROW($P$3:$P$89)-ROW($P$3)+1), ROW(B100)), COLUMNS($Q$3:R102)), \"\")","v":""},{"$f":"IFERROR(INDEX($Q$3:$U$89, SMALL(IF($P$3:$P$89=\"○\", ROW($P$3:$P$89)-ROW($P$3)+1), ROW(C100)), COLUMNS($Q$3:S102)), \"\")","v":""},{"$f":"IFERROR(INDEX($Q$3:$U$89, SMALL(IF($P$3:$P$89=\"○\", ROW($P$3:$P$89)-ROW($P$3)+1), ROW(D100)), COLUMNS($Q$3:T102)), \"\")","v":""},{"$f":"IFERROR(INDEX($Q$3:$U$89, SMALL(IF($P$3:$P$89=\"○\", ROW($P$3:$P$89)-ROW($P$3)+1), ROW(E100)), COLUMNS($Q$3:U102)), \"\")","v":""}]
[null,null,null,null,null,null,null,null,null,null,null,null,null,null,null,null,{"$f":"IFERROR(INDEX($Q$3:$U$89, SMALL(IF($P$3:$P$89=\"○\", ROW($P$3:$P$89)-ROW($P$3)+1), ROW(A101)), COLUMNS($Q$3:Q103)), \"\")","v":""},{"$f":"IFERROR(INDEX($Q$3:$U$89, SMALL(IF($P$3:$P$89=\"○\", ROW($P$3:$P$89)-ROW($P$3)+1), ROW(B101)), COLUMNS($Q$3:R103)), \"\")","v":""},{"$f":"IFERROR(INDEX($Q$3:$U$89, SMALL(IF($P$3:$P$89=\"○\", ROW($P$3:$P$89)-ROW($P$3)+1), ROW(C101)), COLUMNS($Q$3:S103)), \"\")","v":""},{"$f":"IFERROR(INDEX($Q$3:$U$89, SMALL(IF($P$3:$P$89=\"○\", ROW($P$3:$P$89)-ROW($P$3)+1), ROW(D101)), COLUMNS($Q$3:T103)), \"\")","v":""},{"$f":"IFERROR(INDEX($Q$3:$U$89, SMALL(IF($P$3:$P$89=\"○\", ROW($P$3:$P$89)-ROW($P$3)+1), ROW(E101)), COLUMNS($Q$3:U103)), \"\")","v":""}]
[null,null,null,null,null,null,null,null,null,null,null,null,null,null,null,null,{"$f":"IFERROR(INDEX($Q$3:$U$89, SMALL(IF($P$3:$P$89=\"○\", ROW($P$3:$P$89)-ROW($P$3)+1), ROW(A102)), COLUMNS($Q$3:Q104)), \"\")","v":""},{"$f":"IFERROR(INDEX($Q$3:$U$89, SMALL(IF($P$3:$P$89=\"○\", ROW($P$3:$P$89)-ROW($P$3)+1), ROW(B102)), COLUMNS($Q$3:R104)), \"\")","v":""},{"$f":"IFERROR(INDEX($Q$3:$U$89, SMALL(IF($P$3:$P$89=\"○\", ROW($P$3:$P$89)-ROW($P$3)+1), ROW(C102)), COLUMNS($Q$3:S104)), \"\")","v":""},{"$f":"IFERROR(INDEX($Q$3:$U$89, SMALL(IF($P$3:$P$89=\"○\", ROW($P$3:$P$89)-ROW($P$3)+1), ROW(D102)), COLUMNS($Q$3:T104)), \"\")","v":""},{"$f":"IFERROR(INDEX($Q$3:$U$89, SMALL(IF($P$3:$P$89=\"○\", ROW($P$3:$P$89)-ROW($P$3)+1), ROW(E102)), COLUMNS($Q$3:U104)), \"\")","v":""}]
[null,null,null,null,null,null,null,null,null,null,null,null,null,null,null,null,{"$f":"IFERROR(INDEX($Q$3:$U$89, SMALL(IF($P$3:$P$89=\"○\", ROW($P$3:$P$89)-ROW($P$3)+1), ROW(A103)), COLUMNS($Q$3:Q105)), \"\")","v":""},{"$f":"IFERROR(INDEX($Q$3:$U$89, SMALL(IF($P$3:$P$89=\"○\", ROW($P$3:$P$89)-ROW($P$3)+1), ROW(B103)), COLUMNS($Q$3:R105)), \"\")","v":""},{"$f":"IFERROR(INDEX($Q$3:$U$89, SMALL(IF($P$3:$P$89=\"○\", ROW($P$3:$P$89)-ROW($P$3)+1), ROW(C103)), COLUMNS($Q$3:S105)), \"\")","v":""},{"$f":"IFERROR(INDEX($Q$3:$U$89, SMALL(IF($P$3:$P$89=\"○\", ROW($P$3:$P$89)-ROW($P$3)+1), ROW(D103)), COLUMNS($Q$3:T105)), \"\")","v":""},{"$f":"IFERROR(INDEX($Q$3:$U$89, SMALL(IF($P$3:$P$89=\"○\", ROW($P$3:$P$89)-ROW($P$3)+1), ROW(E103)), COLUMNS($Q$3:U105)), \"\")","v":""}]
[null,null,null,null,null,null,null,null,null,null,null,null,null,null,null,null,{"$f":"IFERROR(INDEX($Q$3:$U$89, SMALL(IF($P$3:$P$89=\"○\", ROW($P$3:$P$89)-ROW($P$3)+1), ROW(A104)), COLUMNS($Q$3:Q106)), \"\")","v":""},{"$f":"IFERROR(INDEX($Q$3:$U$89, SMALL(IF($P$3:$P$89=\"○\", ROW($P$3:$P$89)-ROW($P$3)+1), ROW(B104)), COLUMNS($Q$3:R106)), \"\")","v":""},{"$f":"IFERROR(INDEX($Q$3:$U$89, SMALL(IF($P$3:$P$89=\"○\", ROW($P$3:$P$89)-ROW($P$3)+1), ROW(C104)), COLUMNS($Q$3:S106)), \"\")","v":""},{"$f":"IFERROR(INDEX($Q$3:$U$89, SMALL(IF($P$3:$P$89=\"○\", ROW($P$3:$P$89)-ROW($P$3)+1), ROW(D104)), COLUMNS($Q$3:T106)), \"\")","v":""},{"$f":"IFERROR(INDEX($Q$3:$U$89, SMALL(IF($P$3:$P$89=\"○\", ROW($P$3:$P$89)-ROW($P$3)+1), ROW(E104)), COLUMNS($Q$3:U106)), \"\")","v":""}]
[null,null,null,null,null,null,null,null,null,null,null,null,null,null,null,null,{"$f":"IFERROR(INDEX($Q$3:$U$89, SMALL(IF($P$3:$P$89=\"○\", ROW($P$3:$P$89)-ROW($P$3)+1), ROW(A105)), COLUMNS($Q$3:Q107)), \"\")","v":""},{"$f":"IFERROR(INDEX($Q$3:$U$89, SMALL(IF($P$3:$P$89=\"○\", ROW($P$3:$P$89)-ROW($P$3)+1), ROW(B105)), COLUMNS($Q$3:R107)), \"\")","v":""},{"$f":"IFERROR(INDEX($Q$3:$U$89, SMALL(IF($P$3:$P$89=\"○\", ROW($P$3:$P$89)-ROW($P$3)+1), ROW(C105)), COLUMNS($Q$3:S107)), \"\")","v":""},{"$f":"IFERROR(INDEX($Q$3:$U$89, SMALL(IF($P$3:$P$89=\"○\", ROW($P$3:$P$89)-ROW($P$3)+1), ROW(D105)), COLUMNS($Q$3:T107)), \"\")","v":""},{"$f":"IFERROR(INDEX($Q$3:$U$89, SMALL(IF($P$3:$P$89=\"○\", ROW($P$3:$P$89)-ROW($P$3)+1), ROW(E105)), COLUMNS($Q$3:U107)), \"\")","v":""}]
[null,null,null,null,null,null,null,null,null,null,null,null,null,null,null,null,{"$f":"IFERROR(INDEX($Q$3:$U$89, SMALL(IF($P$3:$P$89=\"○\", ROW($P$3:$P$89)-ROW($P$3)+1), ROW(A106)), COLUMNS($Q$3:Q108)), \"\")","v":""},{"$f":"IFERROR(INDEX($Q$3:$U$89, SMALL(IF($P$3:$P$89=\"○\", ROW($P$3:$P$89)-ROW($P$3)+1), ROW(B106)), COLUMNS($Q$3:R108)), \"\")","v":""},{"$f":"IFERROR(INDEX($Q$3:$U$89, SMALL(IF($P$3:$P$89=\"○\", ROW($P$3:$P$89)-ROW($P$3)+1), ROW(C106)), COLUMNS($Q$3:S108)), \"\")","v":""},{"$f":"IFERROR(INDEX($Q$3:$U$89, SMALL(IF($P$3:$P$89=\"○\", ROW($P$3:$P$89)-ROW($P$3)+1), ROW(D106)), COLUMNS($Q$3:T108)), \"\")","v":""},{"$f":"IFERROR(INDEX($Q$3:$U$89, SMALL(IF($P$3:$P$89=\"○\", ROW($P$3:$P$89)-ROW($P$3)+1), ROW(E106)), COLUMNS($Q$3:U108)), \"\")","v":""}]
[null,null,null,null,null,null,null,null,null,null,null,null,null,null,null,null,{"$f":"IFERROR(INDEX($Q$3:$U$89, SMALL(IF($P$3:$P$89=\"○\", ROW($P$3:$P$89)-ROW($P$3)+1), ROW(A107)), COLUMNS($Q$3:Q109)), \"\")","v":""},{"$f":"IFERROR(INDEX($Q$3:$U$89, SMALL(IF($P$3:$P$89=\"○\", ROW($P$3:$P$89)-ROW($P$3)+1), ROW(B107)), COLUMNS($Q$3:R109)), \"\")","v":""},{"$f":"IFERROR(INDEX($Q$3:$U$89, SMALL(IF($P$3:$P$89=\"○\", ROW($P$3:$P$89)-ROW($P$3)+1), ROW(C107)), COLUMNS($Q$3:S109)), \"\")","v":""},{"$f":"IFERROR(INDEX($Q$3:$U$89, SMALL(IF($P$3:$P$89=\"○\", ROW($P$3:$P$89)-ROW($P$3)+1), ROW(D107)), COLUMNS($Q$3:T109)), \"\")","v":""},{"$f":"IFERROR(INDEX($Q$3:$U$89, SMALL(IF($P$3:$P$89=\"○\", ROW($P$3:$P$89)-ROW($P$3)+1), ROW(E107)), COLUMNS($Q$3:U109)), \"\")","v":""}]
[null,null,null,null,null,null,null,null,null,null,null,null,null,null,null,null,{"$f":"IFERROR(INDEX($Q$3:$U$89, SMALL(IF($P$3:$P$89=\"○\", ROW($P$3:$P$89)-ROW($P$3)+1), ROW(A108)), COLUMNS($Q$3:Q110)), \"\")","v":""},{"$f":"IFERROR(INDEX($Q$3:$U$89, SMALL(IF($P$3:$P$89=\"○\", ROW($P$3:$P$89)-ROW($P$3)+1), ROW(B108)), COLUMNS($Q$3:R110)), \"\")","v":""},{"$f":"IFERROR(INDEX($Q$3:$U$89, SMALL(IF($P$3:$P$89=\"○\", ROW($P$3:$P$89)-ROW($P$3)+1), ROW(C108)), COLUMNS($Q$3:S110)), \"\")","v":""},{"$f":"IFERROR(INDEX($Q$3:$U$89, SMALL(IF($P$3:$P$89=\"○\", ROW($P$3:$P$89)-ROW($P$3)+1), ROW(D108)), COLUMNS($Q$3:T110)), \"\")","v":""},{"$f":"IFERROR(INDEX($Q$3:$U$89, SMALL(IF($P$3:$P$89=\"○\", ROW($P$3:$P$89)-ROW($P$3)+1), ROW(E108)), COLUMNS($Q$3:U110)), \"\")","v":""}]
[null,null,null,null,null,null,null,null,null,null,null,null,null,null,null,null,{"$f":"IFERROR(INDEX($Q$3:$U$89, SMALL(IF($P$3:$P$89=\"○\", ROW($P$3:$P$89)-ROW($P$3)+1), ROW(A109)), COLUMNS($Q$3:Q111)), \"\")","v":""},{"$f":"IFERROR(INDEX($Q$3:$U$89, SMALL(IF($P$3:$P$89=\"○\", ROW($P$3:$P$89)-ROW($P$3)+1), ROW(B109)), COLUMNS($Q$3:R111)), \"\")","v":""},{"$f":"IFERROR(INDEX($Q$3:$U$89, SMALL(IF($P$3:$P$89=\"○\", ROW($P$3:$P$89)-ROW($P$3)+1), ROW(C109)), COLUMNS($Q$3:S111)), \"\")","v":""},{"$f":"IFERROR(INDEX($Q$3:$U$89, SMALL(IF($P$3:$P$89=\"○\", ROW($P$3:$P$89)-ROW($P$3)+1), ROW(D109)), COLUMNS($Q$3:T111)), \"\")","v":""},{"$f":"IFERROR(INDEX($Q$3:$U$89, SMALL(IF($P$3:$P$89=\"○\", ROW($P$3:$P$89)-ROW($P$3)+1), ROW(E109)), COLUMNS($Q$3:U111)), \"\")","v":""}]
[null,null,null,null,null,null,null,null,null,null,null,null,null,null,null,null,{"$f":"IFERROR(INDEX($Q$3:$U$89, SMALL(IF($P$3:$P$89=\"○\", ROW($P$3:$P$89)-ROW($P$3)+1), ROW(A110)), COLUMNS($Q$3:Q112)), \"\")","v":""},{"$f":"IFERROR(INDEX($Q$3:$U$89, SMALL(IF($P$3:$P$89=\"○\", ROW($P$3:$P$89)-ROW($P$3)+1), ROW(B110)), COLUMNS($Q$3:R112)), \"\")","v":""},{"$f":"IFERROR(INDEX($Q$3:$U$89, SMALL(IF($P$3:$P$89=\"○\", ROW($P$3:$P$89)-ROW($P$3)+1), ROW(C110)), COLUMNS($Q$3:S112)), \"\")","v":""},{"$f":"IFERROR(INDEX($Q$3:$U$89, SMALL(IF($P$3:$P$89=\"○\", ROW($P$3:$P$89)-ROW($P$3)+1), ROW(D110)), COLUMNS($Q$3:T112)), \"\")","v":""},{"$f":"IFERROR(INDEX($Q$3:$U$89, SMALL(IF($P$3:$P$89=\"○\", ROW($P$3:$P$89)-ROW($P$3)+1), ROW(E110)), COLUMNS($Q$3:U112)), \"\")","v":""}]
[null,null,null,null,null,null,null,null,null,null,null,null,null,null,null,null,{"$f":"IFERROR(INDEX($Q$3:$U$89, SMALL(IF($P$3:$P$89=\"○\", ROW($P$3:$P$89)-ROW($P$3)+1), ROW(A111)), COLUMNS($Q$3:Q113)), \"\")","v":""},{"$f":"IFERROR(INDEX($Q$3:$U$89, SMALL(IF($P$3:$P$89=\"○\", ROW($P$3:$P$89)-ROW($P$3)+1), ROW(B111)), COLUMNS($Q$3:R113)), \"\")","v":""},{"$f":"IFERROR(INDEX($Q$3:$U$89, SMALL(IF($P$3:$P$89=\"○\", ROW($P$3:$P$89)-ROW($P$3)+1), ROW(C111)), COLUMNS($Q$3:S113)), \"\")","v":""},{"$f":"IFERROR(INDEX($Q$3:$U$89, SMALL(IF($P$3:$P$89=\"○\", ROW($P$3:$P$89)-ROW($P$3)+1), ROW(D111)), COLUMNS($Q$3:T113)), \"\")","v":""},{"$f":"IFERROR(INDEX($Q$3:$U$89, SMALL(IF($P$3:$P$89=\"○\", ROW($P$3:$P$89)-ROW($P$3)+1), ROW(E111)), COLUMNS($Q$3:U113)), \"\")","v":""}]
[null,null,null,null,null,null,null,null,null,null,null,null,null,null,null,null,{"$f":"IFERROR(INDEX($Q$3:$U$89, SMALL(IF($P$3:$P$89=\"○\", ROW($P$3:$P$89)-ROW($P$3)+1), ROW(A112)), COLUMNS($Q$3:Q114)), \"\")","v":""},{"$f":"IFERROR(INDEX($Q$3:$U$89, SMALL(IF($P$3:$P$89=\"○\", ROW($P$3:$P$89)-ROW($P$3)+1), ROW(B112)), COLUMNS($Q$3:R114)), \"\")","v":""},{"$f":"IFERROR(INDEX($Q$3:$U$89, SMALL(IF($P$3:$P$89=\"○\", ROW($P$3:$P$89)-ROW($P$3)+1), ROW(C112)), COLUMNS($Q$3:S114)), \"\")","v":""},{"$f":"IFERROR(INDEX($Q$3:$U$89, SMALL(IF($P$3:$P$89=\"○\", ROW($P$3:$P$89)-ROW($P$3)+1), ROW(D112)), COLUMNS($Q$3:T114)), \"\")","v":""},{"$f":"IFERROR(INDEX($Q$3:$U$89, SMALL(IF($P$3:$P$89=\"○\", ROW($P$3:$P$89)-ROW($P$3)+1), ROW(E112)), COLUMNS($Q$3:U114)), \"\")","v":""}]
[null,null,null,null,null,null,null,null,null,null,null,null,null,null,null,null,{"$f":"IFERROR(INDEX($Q$3:$U$89, SMALL(IF($P$3:$P$89=\"○\", ROW($P$3:$P$89)-ROW($P$3)+1), ROW(A113)), COLUMNS($Q$3:Q115)), \"\")","v":""},{"$f":"IFERROR(INDEX($Q$3:$U$89, SMALL(IF($P$3:$P$89=\"○\", ROW($P$3:$P$89)-ROW($P$3)+1), ROW(B113)), COLUMNS($Q$3:R115)), \"\")","v":""},{"$f":"IFERROR(INDEX($Q$3:$U$89, SMALL(IF($P$3:$P$89=\"○\", ROW($P$3:$P$89)-ROW($P$3)+1), ROW(C113)), COLUMNS($Q$3:S115)), \"\")","v":""},{"$f":"IFERROR(INDEX($Q$3:$U$89, SMALL(IF($P$3:$P$89=\"○\", ROW($P$3:$P$89)-ROW($P$3)+1), ROW(D113)), COLUMNS($Q$3:T115)), \"\")","v":""},{"$f":"IFERROR(INDEX($Q$3:$U$89, SMALL(IF($P$3:$P$89=\"○\", ROW($P$3:$P$89)-ROW($P$3)+1), ROW(E113)), COLUMNS($Q$3:U115)), \"\")","v":""}]
[null,null,null,null,null,null,null,null,null,null,null,null,null,null,null,null,{"$f":"IFERROR(INDEX($Q$3:$U$89, SMALL(IF($P$3:$P$89=\"○\", ROW($P$3:$P$89)-ROW($P$3)+1), ROW(A114)), COLUMNS($Q$3:Q116)), \"\")","v":""},{"$f":"IFERROR(INDEX($Q$3:$U$89, SMALL(IF($P$3:$P$89=\"○\", ROW($P$3:$P$89)-ROW($P$3)+1), ROW(B114)), COLUMNS($Q$3:R116)), \"\")","v":""},{"$f":"IFERROR(INDEX($Q$3:$U$89, SMALL(IF($P$3:$P$89=\"○\", ROW($P$3:$P$89)-ROW($P$3)+1), ROW(C114)), COLUMNS($Q$3:S116)), \"\")","v":""},{"$f":"IFERROR(INDEX($Q$3:$U$89, SMALL(IF($P$3:$P$89=\"○\", ROW($P$3:$P$89)-ROW($P$3)+1), ROW(D114)), COLUMNS($Q$3:T116)), \"\")","v":""},{"$f":"IFERROR(INDEX($Q$3:$U$89, SMALL(IF($P$3:$P$89=\"○\", ROW($P$3:$P$89)-ROW($P$3)+1), ROW(E114)), COLUMNS($Q$3:U116)), \"\")","v":""}]
[null,null,null,null,null,null,null,null,null,null,null,null,null,null,null,null,{"$f":"IFERROR(INDEX($Q$3:$U$89, SMALL(IF($P$3:$P$89=\"○\", ROW($P$3:$P$89)-ROW($P$3)+1), ROW(A115)), COLUMNS($Q$3:Q117)), \"\")","v":""},{"$f":"IFERROR(INDEX($Q$3:$U$89, SMALL(IF($P$3:$P$89=\"○\", ROW($P$3:$P$89)-ROW($P$3)+1), ROW(B115)), COLUMNS($Q$3:R117)), \"\")","v":""},{"$f":"IFERROR(INDEX($Q$3:$U$89, SMALL(IF($P$3:$P$89=\"○\", ROW($P$3:$P$89)-ROW($P$3)+1), ROW(C115)), COLUMNS($Q$3:S117)), \"\")","v":""},{"$f":"IFERROR(INDEX($Q$3:$U$89, SMALL(IF($P$3:$P$89=\"○\", ROW($P$3:$P$89)-ROW($P$3)+1), ROW(D115)), COLUMNS($Q$3:T117)), \"\")","v":""},{"$f":"IFERROR(INDEX($Q$3:$U$89, SMALL(IF($P$3:$P$89=\"○\", ROW($P$3:$P$89)-ROW($P$3)+1), ROW(E115)), COLUMNS($Q$3:U117)), \"\")","v":""}]
[null,null,null,null,null,null,null,null,null,null,null,null,null,null,null,null,{"$f":"IFERROR(INDEX($Q$3:$U$89, SMALL(IF($P$3:$P$89=\"○\", ROW($P$3:$P$89)-ROW($P$3)+1), ROW(A116)), COLUMNS($Q$3:Q118)), \"\")","v":""},{"$f":"IFERROR(INDEX($Q$3:$U$89, SMALL(IF($P$3:$P$89=\"○\", ROW($P$3:$P$89)-ROW($P$3)+1), ROW(B116)), COLUMNS($Q$3:R118)), \"\")","v":""},{"$f":"IFERROR(INDEX($Q$3:$U$89, SMALL(IF($P$3:$P$89=\"○\", ROW($P$3:$P$89)-ROW($P$3)+1), ROW(C116)), COLUMNS($Q$3:S118)), \"\")","v":""},{"$f":"IFERROR(INDEX($Q$3:$U$89, SMALL(IF($P$3:$P$89=\"○\", ROW($P$3:$P$89)-ROW($P$3)+1), ROW(D116)), COLUMNS($Q$3:T118)), \"\")","v":""},{"$f":"IFERROR(INDEX($Q$3:$U$89, SMALL(IF($P$3:$P$89=\"○\", ROW($P$3:$P$89)-ROW($P$3)+1), ROW(E116)), COLUMNS($Q$3:U118)), \"\")","v":""}]
[null,null,null,null,null,null,null,null,null,null,null,null,null,null,null,null,{"$f":"IFERROR(INDEX($Q$3:$U$89, SMALL(IF($P$3:$P$89=\"○\", ROW($P$3:$P$89)-ROW($P$3)+1), ROW(A117)), COLUMNS($Q$3:Q119)), \"\")","v":""},{"$f":"IFERROR(INDEX($Q$3:$U$89, SMALL(IF($P$3:$P$89=\"○\", ROW($P$3:$P$89)-ROW($P$3)+1), ROW(B117)), COLUMNS($Q$3:R119)), \"\")","v":""},{"$f":"IFERROR(INDEX($Q$3:$U$89, SMALL(IF($P$3:$P$89=\"○\", ROW($P$3:$P$89)-ROW($P$3)+1), ROW(C117)), COLUMNS($Q$3:S119)), \"\")","v":""},{"$f":"IFERROR(INDEX($Q$3:$U$89, SMALL(IF($P$3:$P$89=\"○\", ROW($P$3:$P$89)-ROW($P$3)+1), ROW(D117)), COLUMNS($Q$3:T119)), \"\")","v":""},{"$f":"IFERROR(INDEX($Q$3:$U$89, SMALL(IF($P$3:$P$89=\"○\", ROW($P$3:$P$89)-ROW($P$3)+1), ROW(E117)), COLUMNS($Q$3:U119)), \"\")","v":""}]
[null,null,null,null,null,null,null,null,null,null,null,null,null,null,null,null,{"$f":"IFERROR(INDEX($Q$3:$U$89, SMALL(IF($P$3:$P$89=\"○\", ROW($P$3:$P$89)-ROW($P$3)+1), ROW(A118)), COLUMNS($Q$3:Q120)), \"\")","v":""},{"$f":"IFERROR(INDEX($Q$3:$U$89, SMALL(IF($P$3:$P$89=\"○\", ROW($P$3:$P$89)-ROW($P$3)+1), ROW(B118)), COLUMNS($Q$3:R120)), \"\")","v":""},{"$f":"IFERROR(INDEX($Q$3:$U$89, SMALL(IF($P$3:$P$89=\"○\", ROW($P$3:$P$89)-ROW($P$3)+1), ROW(C118)), COLUMNS($Q$3:S120)), \"\")","v":""},{"$f":"IFERROR(INDEX($Q$3:$U$89, SMALL(IF($P$3:$P$89=\"○\", ROW($P$3:$P$89)-ROW($P$3)+1), ROW(D118)), COLUMNS($Q$3:T120)), \"\")","v":""},{"$f":"IFERROR(INDEX($Q$3:$U$89, SMALL(IF($P$3:$P$89=\"○\", ROW($P$3:$P$89)-ROW($P$3)+1), ROW(E118)), COLUMNS($Q$3:U120)), \"\")","v":""}]
[null,null,null,null,null,null,null,null,null,null,null,null,null,null,null,null,{"$f":"IFERROR(INDEX($Q$3:$U$89, SMALL(IF($P$3:$P$89=\"○\", ROW($P$3:$P$89)-ROW($P$3)+1), ROW(A119)), COLUMNS($Q$3:Q121)), \"\")","v":""},{"$f":"IFERROR(INDEX($Q$3:$U$89, SMALL(IF($P$3:$P$89=\"○\", ROW($P$3:$P$89)-ROW($P$3)+1), ROW(B119)), COLUMNS($Q$3:R121)), \"\")","v":""},{"$f":"IFERROR(INDEX($Q$3:$U$89, SMALL(IF($P$3:$P$89=\"○\", ROW($P$3:$P$89)-ROW($P$3)+1), ROW(C119)), COLUMNS($Q$3:S121)), \"\")","v":""},{"$f":"IFERROR(INDEX($Q$3:$U$89, SMALL(IF($P$3:$P$89=\"○\", ROW($P$3:$P$89)-ROW($P$3)+1), ROW(D119)), COLUMNS($Q$3:T121)), \"\")","v":""},{"$f":"IFERROR(INDEX($Q$3:$U$89, SMALL(IF($P$3:$P$89=\"○\", ROW($P$3:$P$89)-ROW($P$3)+1), ROW(E119)), COLUMNS($Q$3:U121)), \"\")","v":""}]
[null,null,null,null,null,null,null,null,null,null,null,null,null,null,null,null,{"$f":"IFERROR(INDEX($Q$3:$U$89, SMALL(IF($P$3:$P$89=\"○\", ROW($P$3:$P$89)-ROW($P$3)+1), ROW(A120)), COLUMNS($Q$3:Q122)), \"\")","v":""},{"$f":"IFERROR(INDEX($Q$3:$U$89, SMALL(IF($P$3:$P$89=\"○\", ROW($P$3:$P$89)-ROW($P$3)+1), ROW(B120)), COLUMNS($Q$3:R122)), \"\")","v":""},{"$f":"IFERROR(INDEX($Q$3:$U$89, SMALL(IF($P$3:$P$89=\"○\", ROW($P$3:$P$89)-ROW($P$3)+1), ROW(C120)), COLUMNS($Q$3:S122)), \"\")","v":""},{"$f":"IFERROR(INDEX($Q$3:$U$89, SMALL(IF($P$3:$P$89=\"○\", ROW($P$3:$P$89)-ROW($P$3)+1), ROW(D120)), COLUMNS($Q$3:T122)), \"\")","v":""},{"$f":"IFERROR(INDEX($Q$3:$U$89, SMALL(IF($P$3:$P$89=\"○\", ROW($P$3:$P$89)-ROW($P$3)+1), ROW(E120)), COLUMNS($Q$3:U122)), \"\")","v":""}]
[null,null,null,null,null,null,null,null,null,null,null,null,null,null,null,null,{"$f":"IFERROR(INDEX($Q$3:$U$89, SMALL(IF($P$3:$P$89=\"○\", ROW($P$3:$P$89)-ROW($P$3)+1), ROW(A121)), COLUMNS($Q$3:Q123)), \"\")","v":""},{"$f":"IFERROR(INDEX($Q$3:$U$89, SMALL(IF($P$3:$P$89=\"○\", ROW($P$3:$P$89)-ROW($P$3)+1), ROW(B121)), COLUMNS($Q$3:R123)), \"\")","v":""},{"$f":"IFERROR(INDEX($Q$3:$U$89, SMALL(IF($P$3:$P$89=\"○\", ROW($P$3:$P$89)-ROW($P$3)+1), ROW(C121)), COLUMNS($Q$3:S123)), \"\")","v":""},{"$f":"IFERROR(INDEX($Q$3:$U$89, SMALL(IF($P$3:$P$89=\"○\", ROW($P$3:$P$89)-ROW($P$3)+1), ROW(D121)), COLUMNS($Q$3:T123)), \"\")","v":""},{"$f":"IFERROR(INDEX($Q$3:$U$89, SMALL(IF($P$3:$P$89=\"○\", ROW($P$3:$P$89)-ROW($P$3)+1), ROW(E121)), COLUMNS($Q$3:U123)), \"\")","v":""}]
[null,null,null,null,null,null,null,null,null,null,null,null,null,null,null,null,{"$f":"IFERROR(INDEX($Q$3:$U$89, SMALL(IF($P$3:$P$89=\"○\", ROW($P$3:$P$89)-ROW($P$3)+1), ROW(A122)), COLUMNS($Q$3:Q124)), \"\")","v":""},{"$f":"IFERROR(INDEX($Q$3:$U$89, SMALL(IF($P$3:$P$89=\"○\", ROW($P$3:$P$89)-ROW($P$3)+1), ROW(B122)), COLUMNS($Q$3:R124)), \"\")","v":""},{"$f":"IFERROR(INDEX($Q$3:$U$89, SMALL(IF($P$3:$P$89=\"○\", ROW($P$3:$P$89)-ROW($P$3)+1), ROW(C122)), COLUMNS($Q$3:S124)), \"\")","v":""},{"$f":"IFERROR(INDEX($Q$3:$U$89, SMALL(IF($P$3:$P$89=\"○\", ROW($P$3:$P$89)-ROW($P$3)+1), ROW(D122)), COLUMNS($Q$3:T124)), \"\")","v":""},{"$f":"IFERROR(INDEX($Q$3:$U$89, SMALL(IF($P$3:$P$89=\"○\", ROW($P$3:$P$89)-ROW($P$3)+1), ROW(E122)), COLUMNS($Q$3:U124)), \"\")","v":""}]
[null,null,null,null,null,null,null,null,null,null,null,null,null,null,null,null,{"$f":"IFERROR(INDEX($Q$3:$U$89, SMALL(IF($P$3:$P$89=\"○\", ROW($P$3:$P$89)-ROW($P$3)+1), ROW(A123)), COLUMNS($Q$3:Q125)), \"\")","v":""},{"$f":"IFERROR(INDEX($Q$3:$U$89, SMALL(IF($P$3:$P$89=\"○\", ROW($P$3:$P$89)-ROW($P$3)+1), ROW(B123)), COLUMNS($Q$3:R125)), \"\")","v":""},{"$f":"IFERROR(INDEX($Q$3:$U$89, SMALL(IF($P$3:$P$89=\"○\", ROW($P$3:$P$89)-ROW($P$3)+1), ROW(C123)), COLUMNS($Q$3:S125)), \"\")","v":""},{"$f":"IFERROR(INDEX($Q$3:$U$89, SMALL(IF($P$3:$P$89=\"○\", ROW($P$3:$P$89)-ROW($P$3)+1), ROW(D123)), COLUMNS($Q$3:T125)), \"\")","v":""},{"$f":"IFERROR(INDEX($Q$3:$U$89, SMALL(IF($P$3:$P$89=\"○\", ROW($P$3:$P$89)-ROW($P$3)+1), ROW(E123)), COLUMNS($Q$3:U125)), \"\")","v":""}]
[null,null,null,null,null,null,null,null,null,null,null,null,null,null,null,null,{"$f":"IFERROR(INDEX($Q$3:$U$89, SMALL(IF($P$3:$P$89=\"○\", ROW($P$3:$P$89)-ROW($P$3)+1), ROW(A124)), COLUMNS($Q$3:Q126)), \"\")","v":""},{"$f":"IFERROR(INDEX($Q$3:$U$89, SMALL(IF($P$3:$P$89=\"○\", ROW($P$3:$P$89)-ROW($P$3)+1), ROW(B124)), COLUMNS($Q$3:R126)), \"\")","v":""},{"$f":"IFERROR(INDEX($Q$3:$U$89, SMALL(IF($P$3:$P$89=\"○\", ROW($P$3:$P$89)-ROW($P$3)+1), ROW(C124)), COLUMNS($Q$3:S126)), \"\")","v":""},{"$f":"IFERROR(INDEX($Q$3:$U$89, SMALL(IF($P$3:$P$89=\"○\", ROW($P$3:$P$89)-ROW($P$3)+1), ROW(D124)), COLUMNS($Q$3:T126)), \"\")","v":""},{"$f":"IFERROR(INDEX($Q$3:$U$89, SMALL(IF($P$3:$P$89=\"○\", ROW($P$3:$P$89)-ROW($P$3)+1), ROW(E124)), COLUMNS($Q$3:U126)), \"\")","v":""}]
[null,null,null,null,null,null,null,null,null,null,null,null,null,null,null,null,{"$f":"IFERROR(INDEX($Q$3:$U$89, SMALL(IF($P$3:$P$89=\"○\", ROW($P$3:$P$89)-ROW($P$3)+1), ROW(A125)), COLUMNS($Q$3:Q127)), \"\")","v":""},{"$f":"IFERROR(INDEX($Q$3:$U$89, SMALL(IF($P$3:$P$89=\"○\", ROW($P$3:$P$89)-ROW($P$3)+1), ROW(B125)), COLUMNS($Q$3:R127)), \"\")","v":""},{"$f":"IFERROR(INDEX($Q$3:$U$89, SMALL(IF($P$3:$P$89=\"○\", ROW($P$3:$P$89)-ROW($P$3)+1), ROW(C125)), COLUMNS($Q$3:S127)), \"\")","v":""},{"$f":"IFERROR(INDEX($Q$3:$U$89, SMALL(IF($P$3:$P$89=\"○\", ROW($P$3:$P$89)-ROW($P$3)+1), ROW(D125)), COLUMNS($Q$3:T127)), \"\")","v":""},{"$f":"IFERROR(INDEX($Q$3:$U$89, SMALL(IF($P$3:$P$89=\"○\", ROW($P$3:$P$89)-ROW($P$3)+1), ROW(E125)), COLUMNS($Q$3:U127)), \"\")","v":""}]
[null,null,null,null,null,null,null,null,null,null,null,null,null,null,null,null,{"$f":"IFERROR(INDEX($Q$3:$U$89, SMALL(IF($P$3:$P$89=\"○\", ROW($P$3:$P$89)-ROW($P$3)+1), ROW(A126)), COLUMNS($Q$3:Q128)), \"\")","v":""},{"$f":"IFERROR(INDEX($Q$3:$U$89, SMALL(IF($P$3:$P$89=\"○\", ROW($P$3:$P$89)-ROW($P$3)+1), ROW(B126)), COLUMNS($Q$3:R128)), \"\")","v":""},{"$f":"IFERROR(INDEX($Q$3:$U$89, SMALL(IF($P$3:$P$89=\"○\", ROW($P$3:$P$89)-ROW($P$3)+1), ROW(C126)), COLUMNS($Q$3:S128)), \"\")","v":""},{"$f":"IFERROR(INDEX($Q$3:$U$89, SMALL(IF($P$3:$P$89=\"○\", ROW($P$3:$P$89)-ROW($P$3)+1), ROW(D126)), COLUMNS($Q$3:T128)), \"\")","v":""},{"$f":"IFERROR(INDEX($Q$3:$U$89, SMALL(IF($P$3:$P$89=\"○\", ROW($P$3:$P$89)-ROW($P$3)+1), ROW(E126)), COLUMNS($Q$3:U128)), \"\")","v":""}]
[null,null,null,null,null,null,null,null,null,null,null,null,null,null,null,null,{"$f":"IFERROR(INDEX($Q$3:$U$89, SMALL(IF($P$3:$P$89=\"○\", ROW($P$3:$P$89)-ROW($P$3)+1), ROW(A127)), COLUMNS($Q$3:Q129)), \"\")","v":""},{"$f":"IFERROR(INDEX($Q$3:$U$89, SMALL(IF($P$3:$P$89=\"○\", ROW($P$3:$P$89)-ROW($P$3)+1), ROW(B127)), COLUMNS($Q$3:R129)), \"\")","v":""},{"$f":"IFERROR(INDEX($Q$3:$U$89, SMALL(IF($P$3:$P$89=\"○\", ROW($P$3:$P$89)-ROW($P$3)+1), ROW(C127)), COLUMNS($Q$3:S129)), \"\")","v":""},{"$f":"IFERROR(INDEX($Q$3:$U$89, SMALL(IF($P$3:$P$89=\"○\", ROW($P$3:$P$89)-ROW($P$3)+1), ROW(D127)), COLUMNS($Q$3:T129)), \"\")","v":""},{"$f":"IFERROR(INDEX($Q$3:$U$89, SMALL(IF($P$3:$P$89=\"○\", ROW($P$3:$P$89)-ROW($P$3)+1), ROW(E127)), COLUMNS($Q$3:U129)), \"\")","v":""}]
[null,null,null,null,null,null,null,null,null,null,null,null,null,null,null,null,{"$f":"IFERROR(INDEX($Q$3:$U$89, SMALL(IF($P$3:$P$89=\"○\", ROW($P$3:$P$89)-ROW($P$3)+1), ROW(A128)), COLUMNS($Q$3:Q130)), \"\")","v":""},{"$f":"IFERROR(INDEX($Q$3:$U$89, SMALL(IF($P$3:$P$89=\"○\", ROW($P$3:$P$89)-ROW($P$3)+1), ROW(B128)), COLUMNS($Q$3:R130)), \"\")","v":""},{"$f":"IFERROR(INDEX($Q$3:$U$89, SMALL(IF($P$3:$P$89=\"○\", ROW($P$3:$P$89)-ROW($P$3)+1), ROW(C128)), COLUMNS($Q$3:S130)), \"\")","v":""},{"$f":"IFERROR(INDEX($Q$3:$U$89, SMALL(IF($P$3:$P$89=\"○\", ROW($P$3:$P$89)-ROW($P$3)+1), ROW(D128)), COLUMNS($Q$3:T130)), \"\")","v":""},{"$f":"IFERROR(INDEX($Q$3:$U$89, SMALL(IF($P$3:$P$89=\"○\", ROW($P$3:$P$89)-ROW($P$3)+1), ROW(E128)), COLUMNS($Q$3:U130)), \"\")","v":""}]
[null,null,null,null,null,null,null,null,null,null,null,null,null,null,null,null,{"$f":"IFERROR(INDEX($Q$3:$U$89, SMALL(IF($P$3:$P$89=\"○\", ROW($P$3:$P$89)-ROW($P$3)+1), ROW(A129)), COLUMNS($Q$3:Q131)), \"\")","v":""},{"$f":"IFERROR(INDEX($Q$3:$U$89, SMALL(IF($P$3:$P$89=\"○\", ROW($P$3:$P$89)-ROW($P$3)+1), ROW(B129)), COLUMNS($Q$3:R131)), \"\")","v":""},{"$f":"IFERROR(INDEX($Q$3:$U$89, SMALL(IF($P$3:$P$89=\"○\", ROW($P$3:$P$89)-ROW($P$3)+1), ROW(C129)), COLUMNS($Q$3:S131)), \"\")","v":""},{"$f":"IFERROR(INDEX($Q$3:$U$89, SMALL(IF($P$3:$P$89=\"○\", ROW($P$3:$P$89)-ROW($P$3)+1), ROW(D129)), COLUMNS($Q$3:T131)), \"\")","v":""},{"$f":"IFERROR(INDEX($Q$3:$U$89, SMALL(IF($P$3:$P$89=\"○\", ROW($P$3:$P$89)-ROW($P$3)+1), ROW(E129)), COLUMNS($Q$3:U131)), \"\")","v":""}]
[null,null,null,null,null,null,null,null,null,null,null,null,null,null,null,null,{"$f":"IFERROR(INDEX($Q$3:$U$89, SMALL(IF($P$3:$P$89=\"○\", ROW($P$3:$P$89)-ROW($P$3)+1), ROW(A130)), COLUMNS($Q$3:Q132)), \"\")","v":""},{"$f":"IFERROR(INDEX($Q$3:$U$89, SMALL(IF($P$3:$P$89=\"○\", ROW($P$3:$P$89)-ROW($P$3)+1), ROW(B130)), COLUMNS($Q$3:R132)), \"\")","v":""},{"$f":"IFERROR(INDEX($Q$3:$U$89, SMALL(IF($P$3:$P$89=\"○\", ROW($P$3:$P$89)-ROW($P$3)+1), ROW(C130)), COLUMNS($Q$3:S132)), \"\")","v":""},{"$f":"IFERROR(INDEX($Q$3:$U$89, SMALL(IF($P$3:$P$89=\"○\", ROW($P$3:$P$89)-ROW($P$3)+1), ROW(D130)), COLUMNS($Q$3:T132)), \"\")","v":""},{"$f":"IFERROR(INDEX($Q$3:$U$89, SMALL(IF($P$3:$P$89=\"○\", ROW($P$3:$P$89)-ROW($P$3)+1), ROW(E130)), COLUMNS($Q$3:U132)), \"\")","v":""}]
[null,null,null,null,null,null,null,null,null,null,null,null,null,null,null,null,{"$f":"IFERROR(INDEX($Q$3:$U$89, SMALL(IF($P$3:$P$89=\"○\", ROW($P$3:$P$89)-ROW($P$3)+1), ROW(A131)), COLUMNS($Q$3:Q133)), \"\")","v":""},{"$f":"IFERROR(INDEX($Q$3:$U$89, SMALL(IF($P$3:$P$89=\"○\", ROW($P$3:$P$89)-ROW($P$3)+1), ROW(B131)), COLUMNS($Q$3:R133)), \"\")","v":""},{"$f":"IFERROR(INDEX($Q$3:$U$89, SMALL(IF($P$3:$P$89=\"○\", ROW($P$3:$P$89)-ROW($P$3)+1), ROW(C131)), COLUMNS($Q$3:S133)), \"\")","v":""},{"$f":"IFERROR(INDEX($Q$3:$U$89, SMALL(IF($P$3:$P$89=\"○\", ROW($P$3:$P$89)-ROW($P$3)+1), ROW(D131)), COLUMNS($Q$3:T133)), \"\")","v":""},{"$f":"IFERROR(INDEX($Q$3:$U$89, SMALL(IF($P$3:$P$89=\"○\", ROW($P$3:$P$89)-ROW($P$3)+1), ROW(E131)), COLUMNS($Q$3:U133)), \"\")","v":""}]
[null,null,null,null,null,null,null,null,null,null,null,null,null,null,null,null,{"$f":"IFERROR(INDEX($Q$3:$U$89, SMALL(IF($P$3:$P$89=\"○\", ROW($P$3:$P$89)-ROW($P$3)+1), ROW(A132)), COLUMNS($Q$3:Q134)), \"\")","v":""},{"$f":"IFERROR(INDEX($Q$3:$U$89, SMALL(IF($P$3:$P$89=\"○\", ROW($P$3:$P$89)-ROW($P$3)+1), ROW(B132)), COLUMNS($Q$3:R134)), \"\")","v":""},{"$f":"IFERROR(INDEX($Q$3:$U$89, SMALL(IF($P$3:$P$89=\"○\", ROW($P$3:$P$89)-ROW($P$3)+1), ROW(C132)), COLUMNS($Q$3:S134)), \"\")","v":""},{"$f":"IFERROR(INDEX($Q$3:$U$89, SMALL(IF($P$3:$P$89=\"○\", ROW($P$3:$P$89)-ROW($P$3)+1), ROW(D132)), COLUMNS($Q$3:T134)), \"\")","v":""},{"$f":"IFERROR(INDEX($Q$3:$U$89, SMALL(IF($P$3:$P$89=\"○\", ROW($P$3:$P$89)-ROW($P$3)+1), ROW(E132)), COLUMNS($Q$3:U134)), \"\")","v":""}]
[null,null,null,null,null,null,null,null,null,null,null,null,null,null,null,null,{"$f":"IFERROR(INDEX($Q$3:$U$89, SMALL(IF($P$3:$P$89=\"○\", ROW($P$3:$P$89)-ROW($P$3)+1), ROW(A133)), COLUMNS($Q$3:Q135)), \"\")","v":""},{"$f":"IFERROR(INDEX($Q$3:$U$89, SMALL(IF($P$3:$P$89=\"○\", ROW($P$3:$P$89)-ROW($P$3)+1), ROW(B133)), COLUMNS($Q$3:R135)), \"\")","v":""},{"$f":"IFERROR(INDEX($Q$3:$U$89, SMALL(IF($P$3:$P$89=\"○\", ROW($P$3:$P$89)-ROW($P$3)+1), ROW(C133)), COLUMNS($Q$3:S135)), \"\")","v":""},{"$f":"IFERROR(INDEX($Q$3:$U$89, SMALL(IF($P$3:$P$89=\"○\", ROW($P$3:$P$89)-ROW($P$3)+1), ROW(D133)), COLUMNS($Q$3:T135)), \"\")","v":""},{"$f":"IFERROR(INDEX($Q$3:$U$89, SMALL(IF($P$3:$P$89=\"○\", ROW($P$3:$P$89)-ROW($P$3)+1), ROW(E133)), COLUMNS($Q$3:U135)), \"\")","v":""}]
[null,null,null,null,null,null,null,null,null,null,null,null,null,null,null,null,{"$f":"IFERROR(INDEX($Q$3:$U$89, SMALL(IF($P$3:$P$89=\"○\", ROW($P$3:$P$89)-ROW($P$3)+1), ROW(A134)), COLUMNS($Q$3:Q136)), \"\")","v":""},{"$f":"IFERROR(INDEX($Q$3:$U$89, SMALL(IF($P$3:$P$89=\"○\", ROW($P$3:$P$89)-ROW($P$3)+1), ROW(B134)), COLUMNS($Q$3:R136)), \"\")","v":""},{"$f":"IFERROR(INDEX($Q$3:$U$89, SMALL(IF($P$3:$P$89=\"○\", ROW($P$3:$P$89)-ROW($P$3)+1), ROW(C134)), COLUMNS($Q$3:S136)), \"\")","v":""},{"$f":"IFERROR(INDEX($Q$3:$U$89, SMALL(IF($P$3:$P$89=\"○\", ROW($P$3:$P$89)-ROW($P$3)+1), ROW(D134)), COLUMNS($Q$3:T136)), \"\")","v":""},{"$f":"IFERROR(INDEX($Q$3:$U$89, SMALL(IF($P$3:$P$89=\"○\", ROW($P$3:$P$89)-ROW($P$3)+1), ROW(E134)), COLUMNS($Q$3:U136)), \"\")","v":""}]
[null,null,null,null,null,null,null,null,null,null,null,null,null,null,null,null,{"$f":"IFERROR(INDEX($Q$3:$U$89, SMALL(IF($P$3:$P$89=\"○\", ROW($P$3:$P$89)-ROW($P$3)+1), ROW(A135)), COLUMNS($Q$3:Q137)), \"\")","v":""},{"$f":"IFERROR(INDEX($Q$3:$U$89, SMALL(IF($P$3:$P$89=\"○\", ROW($P$3:$P$89)-ROW($P$3)+1), ROW(B135)), COLUMNS($Q$3:R137)), \"\")","v":""},{"$f":"IFERROR(INDEX($Q$3:$U$89, SMALL(IF($P$3:$P$89=\"○\", ROW($P$3:$P$89)-ROW($P$3)+1), ROW(C135)), COLUMNS($Q$3:S137)), \"\")","v":""},{"$f":"IFERROR(INDEX($Q$3:$U$89, SMALL(IF($P$3:$P$89=\"○\", ROW($P$3:$P$89)-ROW($P$3)+1), ROW(D135)), COLUMNS($Q$3:T137)), \"\")","v":""},{"$f":"IFERROR(INDEX($Q$3:$U$89, SMALL(IF($P$3:$P$89=\"○\", ROW($P$3:$P$89)-ROW($P$3)+1), ROW(E135)), COLUMNS($Q$3:U137)), \"\")","v":""}]
[null,null,null,null,null,null,null,null,null,null,null,null,null,null,null,null,{"$f":"IFERROR(INDEX($Q$3:$U$89, SMALL(IF($P$3:$P$89=\"○\", ROW($P$3:$P$89)-ROW($P$3)+1), ROW(A136)), COLUMNS($Q$3:Q138)), \"\")","v":""},{"$f":"IFERROR(INDEX($Q$3:$U$89, SMALL(IF($P$3:$P$89=\"○\", ROW($P$3:$P$89)-ROW($P$3)+1), ROW(B136)), COLUMNS($Q$3:R138)), \"\")","v":""},{"$f":"IFERROR(INDEX($Q$3:$U$89, SMALL(IF($P$3:$P$89=\"○\", ROW($P$3:$P$89)-ROW($P$3)+1), ROW(C136)), COLUMNS($Q$3:S138)), \"\")","v":""},{"$f":"IFERROR(INDEX($Q$3:$U$89, SMALL(IF($P$3:$P$89=\"○\", ROW($P$3:$P$89)-ROW($P$3)+1), ROW(D136)), COLUMNS($Q$3:T138)), \"\")","v":""},{"$f":"IFERROR(INDEX($Q$3:$U$89, SMALL(IF($P$3:$P$89=\"○\", ROW($P$3:$P$89)-ROW($P$3)+1), ROW(E136)), COLUMNS($Q$3:U138)), \"\")","v":""}]
[null,null,null,null,null,null,null,null,null,null,null,null,null,null,null,null,{"$f":"IFERROR(INDEX($Q$3:$U$89, SMALL(IF($P$3:$P$89=\"○\", ROW($P$3:$P$89)-ROW($P$3)+1), ROW(A137)), COLUMNS($Q$3:Q139)), \"\")","v":""},{"$f":"IFERROR(INDEX($Q$3:$U$89, SMALL(IF($P$3:$P$89=\"○\", ROW($P$3:$P$89)-ROW($P$3)+1), ROW(B137)), COLUMNS($Q$3:R139)), \"\")","v":""},{"$f":"IFERROR(INDEX($Q$3:$U$89, SMALL(IF($P$3:$P$89=\"○\", ROW($P$3:$P$89)-ROW($P$3)+1), ROW(C137)), COLUMNS($Q$3:S139)), \"\")","v":""},{"$f":"IFERROR(INDEX($Q$3:$U$89, SMALL(IF($P$3:$P$89=\"○\", ROW($P$3:$P$89)-ROW($P$3)+1), ROW(D137)), COLUMNS($Q$3:T139)), \"\")","v":""},{"$f":"IFERROR(INDEX($Q$3:$U$89, SMALL(IF($P$3:$P$89=\"○\", ROW($P$3:$P$89)-ROW($P$3)+1), ROW(E137)), COLUMNS($Q$3:U139)), \"\")","v":""}]
[null,null,null,null,null,null,null,null,null,null,null,null,null,null,null,null,{"$f":"IFERROR(INDEX($Q$3:$U$89, SMALL(IF($P$3:$P$89=\"○\", ROW($P$3:$P$89)-ROW($P$3)+1), ROW(A138)), COLUMNS($Q$3:Q140)), \"\")","v":""},{"$f":"IFERROR(INDEX($Q$3:$U$89, SMALL(IF($P$3:$P$89=\"○\", ROW($P$3:$P$89)-ROW($P$3)+1), ROW(B138)), COLUMNS($Q$3:R140)), \"\")","v":""},{"$f":"IFERROR(INDEX($Q$3:$U$89, SMALL(IF($P$3:$P$89=\"○\", ROW($P$3:$P$89)-ROW($P$3)+1), ROW(C138)), COLUMNS($Q$3:S140)), \"\")","v":""},{"$f":"IFERROR(INDEX($Q$3:$U$89, SMALL(IF($P$3:$P$89=\"○\", ROW($P$3:$P$89)-ROW($P$3)+1), ROW(D138)), COLUMNS($Q$3:T140)), \"\")","v":""},{"$f":"IFERROR(INDEX($Q$3:$U$89, SMALL(IF($P$3:$P$89=\"○\", ROW($P$3:$P$89)-ROW($P$3)+1), ROW(E138)), COLUMNS($Q$3:U140)), \"\")","v":""}]
[null,null,null,null,null,null,null,null,null,null,null,null,null,null,null,null,{"$f":"IFERROR(INDEX($Q$3:$U$89, SMALL(IF($P$3:$P$89=\"○\", ROW($P$3:$P$89)-ROW($P$3)+1), ROW(A139)), COLUMNS($Q$3:Q141)), \"\")","v":""},{"$f":"IFERROR(INDEX($Q$3:$U$89, SMALL(IF($P$3:$P$89=\"○\", ROW($P$3:$P$89)-ROW($P$3)+1), ROW(B139)), COLUMNS($Q$3:R141)), \"\")","v":""},{"$f":"IFERROR(INDEX($Q$3:$U$89, SMALL(IF($P$3:$P$89=\"○\", ROW($P$3:$P$89)-ROW($P$3)+1), ROW(C139)), COLUMNS($Q$3:S141)), \"\")","v":""},{"$f":"IFERROR(INDEX($Q$3:$U$89, SMALL(IF($P$3:$P$89=\"○\", ROW($P$3:$P$89)-ROW($P$3)+1), ROW(D139)), COLUMNS($Q$3:T141)), \"\")","v":""},{"$f":"IFERROR(INDEX($Q$3:$U$89, SMALL(IF($P$3:$P$89=\"○\", ROW($P$3:$P$89)-ROW($P$3)+1), ROW(E139)), COLUMNS($Q$3:U141)), \"\")","v":""}]
[null,null,null,null,null,null,null,null,null,null,null,null,null,null,null,null,{"$f":"IFERROR(INDEX($Q$3:$U$89, SMALL(IF($P$3:$P$89=\"○\", ROW($P$3:$P$89)-ROW($P$3)+1), ROW(A140)), COLUMNS($Q$3:Q142)), \"\")","v":""},{"$f":"IFERROR(INDEX($Q$3:$U$89, SMALL(IF($P$3:$P$89=\"○\", ROW($P$3:$P$89)-ROW($P$3)+1), ROW(B140)), COLUMNS($Q$3:R142)), \"\")","v":""},{"$f":"IFERROR(INDEX($Q$3:$U$89, SMALL(IF($P$3:$P$89=\"○\", ROW($P$3:$P$89)-ROW($P$3)+1), ROW(C140)), COLUMNS($Q$3:S142)), \"\")","v":""},{"$f":"IFERROR(INDEX($Q$3:$U$89, SMALL(IF($P$3:$P$89=\"○\", ROW($P$3:$P$89)-ROW($P$3)+1), ROW(D140)), COLUMNS($Q$3:T142)), \"\")","v":""},{"$f":"IFERROR(INDEX($Q$3:$U$89, SMALL(IF($P$3:$P$89=\"○\", ROW($P$3:$P$89)-ROW($P$3)+1), ROW(E140)), COLUMNS($Q$3:U142)), \"\")","v":""}]
[null,null,null,null,null,null,null,null,null,null,null,null,null,null,null,null,{"$f":"IFERROR(INDEX($Q$3:$U$89, SMALL(IF($P$3:$P$89=\"○\", ROW($P$3:$P$89)-ROW($P$3)+1), ROW(A141)), COLUMNS($Q$3:Q143)), \"\")","v":""},{"$f":"IFERROR(INDEX($Q$3:$U$89, SMALL(IF($P$3:$P$89=\"○\", ROW($P$3:$P$89)-ROW($P$3)+1), ROW(B141)), COLUMNS($Q$3:R143)), \"\")","v":""},{"$f":"IFERROR(INDEX($Q$3:$U$89, SMALL(IF($P$3:$P$89=\"○\", ROW($P$3:$P$89)-ROW($P$3)+1), ROW(C141)), COLUMNS($Q$3:S143)), \"\")","v":""},{"$f":"IFERROR(INDEX($Q$3:$U$89, SMALL(IF($P$3:$P$89=\"○\", ROW($P$3:$P$89)-ROW($P$3)+1), ROW(D141)), COLUMNS($Q$3:T143)), \"\")","v":""},{"$f":"IFERROR(INDEX($Q$3:$U$89, SMALL(IF($P$3:$P$89=\"○\", ROW($P$3:$P$89)-ROW($P$3)+1), ROW(E141)), COLUMNS($Q$3:U143)), \"\")","v":""}]

{"sheet":"【取組番号早見表】","index":2,"n_rows":96,"n_cols":4,"rows_kept":96,"cut":false,"hidden":false,"merged":[[70,0,70,1],[73,0,73,1],[88,3,89,3],[90,0,95,0],[90,1,91,1],[92,1,93,1],[94,1,95,1],[88,0,88,1],[88,2,89,2],[74,0,84,1],[53,0,57,0],[51,0,51,1],[51,2,52,2],[58,0,69,0],[58,1,60,1],[61,1,63,1],[67,1,68,1],[64,1,66,1],[38,0,38,1],[39,1,42,1],[45,0,48,0],[51,3,52,3],[39,0,43,0],[44,0,44,1],[10,0,10,1],[0,0,0,3],[26,0,26,1],[27,0,33,1],[7,0,7,1],[11,0,22,0],[11,1,13,1],[14,1,16,1],[17,1,19,1],[20,1,22,1],[8,0,9,0]]}
["取組番号早見表"]
[null,null,null,"取組番号"]
[null,null,"事務処理",200]
[null,null,"会議など",300]
["【農地維持活動】"]
[]
["1．地域資源の基礎的な保全活動"]
["活動項目",null,"取組","取組番号"]
["点検・計画策定","点検","点検",1]
[null,"計画策定","年度活動計画の策定",2]
["研修",null,"事務・組織運営等に関する研修、機械の安全使用に関する研修",3]
["実践活動","農用地","遊休農地発生防止のための保全管理",4]
[null,null,"畦畔・法面・防風林の草刈り",5]
[null,null,"鳥獣害防護柵等の保守管理",6]
[null,"水路","水路の草刈り",7]
[null,null,"水路の泥上げ",8]
[null,null,"水路附帯施設の保守管理",9]
[null,"農道","農道の草刈り",10]
[null,null,"農道側溝の泥上げ",11]
[null,null,"路面の維持",12]
[null,"ため池","ため池の草刈り",13]
[null,null,"ため池の泥上げ",14]
[null,null,"ため池附帯施設の保守管理",15]
[null,"共通","異常気象時の対応",16]
[]
["２．地域資源の適切な保全管理のための推進活動"]
["活動項目",null,"取組","取組番号"]
["地域資源の適切な保全管理のための推進活動",null,"農業者の検討会の開催",17]
[null,null,"農業者に対する意向調査、現地調査",18]
[null,null,"不在村地主との連絡体制の整備等",19]
[null,null,"集落外住民や地域住民との意見交換等",20]
[null,null,"地域住民等に対する意向調査等",21]
[null,null,"有識者等による研修会、検討会の開催",22]
[null,null,"その他",23]
[]
["【資源向上活動（地域資源の質的向上を図る共同活動）】"]
[]
["１．施設の軽微な補修"]
["活動項目",null,"取組","取組番号"]
["機能診断・計画策定","機能診断","農用地の機能診断",24]
[null,null,"水路の機能診断",25]
[null,null,"農道の機能診断",26]
[null,null,"ため池の機能診断",27]
[null,"計画策定","年度活動計画の策定",28]
["研修",null,"機能診断・補修技術等に関する研修",29]
["実践活動","農用地","農用地の軽微な補修等",30]
[null,"水路","水路の軽微な補修等",31]
[null,"農道","農道の軽微な補修等",32]
[null,"ため池","ため池の軽微な補修等",33]
[]
["２．農村環境保全活動"]
["活動項目",null,"取組","取組番号"]
[null,"テーマ"]
["計画策定","生態系保全","生物多様性保全計画の策定",34]
[null,"水質保全","水質保全計画、農地保全計画の策定",35]
[null,"景観形成・生活環境保全","景観形成計画、生活環境保全計画の策定",36]
[null,"水田貯留機能増進・地下水かん養","水田貯留機能増進計画、地下水かん養活動計画の策定",37]
[null,"資源循環","資源循環計画の策定",38]
["実践活動","生態系保全","生物の生息状況の把握",39]
[null,null,"外来種の駆除",40]
[null,null,"その他（生態系保全）",41]
[null,"水質保全","水質モニタリングの実施・記録管理",42]
[null,null,"畑からの土砂流出対策",43]
[null,null,"その他（水質保全）",44]
[null,"景観形成・生活環境保全","植栽等の景観形成活動",45]
[null,null,"施設等の定期的な巡回点検・清掃",46]
[null,null,"その他（景観形成・生活環境保全）",47]
[null,"水田貯留機能増進・地下水かん養","水田の貯留機能向上活動",48]
[null,null,"水田の地下水かん養機能向上活動、水源かん養林の保全",49]
[null,"資源循環","地域資源の活用・資源循環活動",50]
["啓発・普及",null,"啓発・普及活動",51]
[]
["３．多面的機能の増進を図る活動"]
["活動項目",null,"取組","取組番号"]
["多面的機能の増進を図る活動",null,"遊休農地の有効活用",52]
[null,null,"鳥獣被害防止対策及び環境改善活動の強化",53]
[null,null,"地域住民による直営施工",54]
[null,null,"防災・減災力の強化",55]
[null,null,"農村環境保全活動の幅広い展開",56]
[null,null,"やすらぎ・福祉及び教育機能の活用",57]
[null,null,"農村文化の伝承を通じた農村コミュニティの強化",58]
[null,null,"広域活動組織における活動支援班による活動の実施","58-2"]
[null,null,"水管理を通じた環境負荷低減活動の強化","58-3"]
[null,null,"都道府県、市町村が特に認める活動",59]
[null,null,"広報活動・農的関係人口の拡大",60]
[]
["【資源向上活動（施設の長寿命化のための活動）】"]
[]
["活動項目",null,"取組","取組番号"]
[null,"施設区分"]
["実践活動","水路","水路の補修",61]
[null,null,"水路の更新等",62]
[null,"農道","農道の補修",63]
[null,null,"農道の更新等",64]
[null,"ため池","ため池の補修",65]
[null,null,"ため池（附帯施設）の更新等",66]

{"sheet":"【活動項目番号表】 ","index":3,"n_rows":189,"n_cols":6,"rows_kept":189,"cut":false,"hidden":false,"merged":[[160,5,161,5],[162,0,185,0],[162,1,185,1],[162,2,172,2],[162,3,168,3],[162,4,168,4],[169,3,172,3],[169,4,172,4],[173,2,178,2],[173,3,175,3],[146,0,156,0],[146,1,156,2],[173,4,175,4],[176,3,178,3],[176,4,178,4],[179,2,185,2],[179,3,183,3],[179,4,183,4],[184,3,185,3],[184,4,185,4],[160,4,161,4],[160,0,161,0],[160,1,160,2],[160,3,161,3],[119,3,121,3],[119,4,121,4],[68,2,83,2],[102,0,103,0],[102,1,102,2],[102,3,103,3],[102,4,103,4],[127,4,128,4],[130,3,132,3],[130,4,132,4],[108,2,109,2],[145,1,145,2],[102,5,103,5],[104,0,142,0],[104,1,110,1],[105,2,106,2],[105,3,106,3],[105,4,106,4],[122,3,126,3],[122,4,126,4],[127,2,132,2],[127,3,128,3],[108,3,109,3],[108,4,109,4],[111,2,117,2],[113,3,117,3],[113,4,117,4],[133,2,135,2],[134,3,135,3],[134,4,135,4],[137,1,142,2],[137,3,142,3],[137,4,142,4],[111,1,136,1],[118,2,126,2],[53,4,54,4],[37,1,37,2],[68,3,83,3],[68,4,83,4],[84,3,91,3],[84,4,91,4],[92,3,99,3],[92,4,99,4],[55,3,56,3],[55,4,56,4],[58,1,60,2],[58,3,60,3],[58,4,60,4],[61,1,99,1],[61,2,67,2],[61,3,67,3],[49,1,57,1],[49,2,56,2],[84,2,91,2],[92,2,99,2],[61,4,67,4],[0,0,0,5],[7,1,7,2],[8,0,34,0],[8,1,10,1],[8,2,9,2],[8,3,9,3],[8,4,9,4],[11,1,11,2],[12,1,34,1],[17,4,18,4],[19,3,20,3],[19,4,20,4],[21,3,23,3],[38,0,44,0],[38,1,44,2],[48,1,48,2],[49,0,99,0],[33,2,34,2],[33,3,34,3],[33,4,34,4],[13,3,14,3],[13,4,14,4],[15,3,16,3],[15,4,16,4],[17,2,23,2],[17,3,18,3],[12,2,16,2],[21,4,23,4],[24,2,26,2],[27,2,32,2],[29,3,32,3],[29,4,32,4],[49,3,50,3],[49,4,50,4],[51,3,52,3],[51,4,52,4],[53,3,54,3]]}
["活動項目番号表"]
[]
[null,null,null,null,"活動項目番号"]
[null,null,null,"事務処理",200]
[null,null,null,"会議など",300]
["【農地維持活動】"]
["（地域資源の基礎的な保全活動）"]
["支払区分","活動区分",null,"活動項目","活動項目番号","取組の内容（平成30年度までの取組名）"]
["１（農地維持）","点検・\n計画\n策定","点検","点検",1,"遊休農地等の発生状況の把握"]
[null,null,null,null,null,"施設の点検（水路、農道、ため池）"]
[null,null,"計画策定","年度活動計画の策定",2,"年度活動計画の策定"]
[null,"研修",null,"事務・組織運営等に関する研修、\n機械の安全使用に関する研修",3,"活動に関する事務（書類作成、申請手続き等）や組織の運営に関する研修"]
[null,"実践活動","農用地","遊休農地発生防止の\nための保全管理",4,"遊休農地発生防止のための保全管理"]
[null,null,null,"畦畔・法面・防風林の\n草刈り",5,"畦畔・農用地法面等の草刈り"]
[null,null,null,null,null,"防風林の枝払い・下草の草刈り"]
[null,null,null,"鳥獣害防護柵等の\n保守管理",6,"鳥獣害防護柵の適正管理"]
[null,null,null,null,null,"防風ネットの適正管理"]
[null,null,"水路","水路の草刈り",7,"水路の草刈り"]
[null,null,null,null,null,"ポンプ場、調整施設等の草刈り"]
[null,null,null,"水路の泥上げ",8,"水路の泥上げ"]
[null,null,null,null,null,"ポンプ吸水槽等の泥上げ"]
[null,null,null,"水路附帯施設の\n保守管理",9,"かんがい期前の注油"]
[null,null,null,null,null,"ゲート類等の保守管理"]
[null,null,null,null,null,"遮光施設の適正管理"]
[null,null,"農道","農道の草刈り",10,"路肩・法面の草刈り"]
[null,null,null,"農道側溝の泥上げ",11,"側溝の泥上げ"]
[null,null,null,"路面の維持",12,"路面の維持"]
[null,null,"ため池","ため池の草刈り",13,"ため池の草刈り"]
[null,null,null,"ため池の泥上げ",14,"ため池の泥上げ"]
[null,null,null,"ため池附帯施設の\n保守管理",15,"かんがい期前の施設の清掃・防塵"]
[null,null,null,null,null,"管理道路の管理"]
[null,null,null,null,null,"遮光施設の適正管理"]
[null,null,null,null,null,"ゲート類の保守管理"]
[null,null,"共通","異常気象時の対応",16,"異常気象後の見回り（農用地、水路、農道、ため池）"]
[null,null,null,null,null,"異常気象後の応急措置（農用地、水路、農道、ため池）"]
[]
["（地域資源の適切な保全管理のための推進活動）"]
["支払区分","活動区分",null,"活動項目","活動項目番号","取組の内容（平成30年度までの取組名）"]
["１（農地維持）","推進活動",null,"農業者の検討会の開催",17,"農業者（入り作農家、土地持ち非農家を含む）による検討会の開催"]
[null,null,null,"農業者に対する意向調査、現地調査",18,"農業者に対する意向調査、農業者による現地調査"]
[null,null,null,"不在村地主との連絡体制の整備等",19,"不在村地主との連絡体制の整備、調整、それに必要な調査"]
[null,null,null,"集落外住民や地域住民との意見交換等",20,"地域住民等（集落外の住民・組織等も含む）との意見交換・ワークショップ・交流会の開催"]
[null,null,null,"地域住民等に対する意向調査等",21,"地域住民等に対する意向調査、地域住民等との集落内調査"]
[null,null,null,"有識者等による研修会、検討会の開催",22,"有識者等による研修会、有識者を交えた検討会の開催"]
[null,null,null,"その他",23,"-"]
[]
["【資源向上活動（地域資源の質的向上を図る共同活動）】"]
["（施設の軽微な補修）"]
["支払区分","活動区分",null,"活動項目","活動項目番号","取組の内容（平成30年度までの取組名）"]
["２（資源向上）","機能診断・\n計画策定","機能診断","農用地の機能診断",24,"施設の機能診断（農用地）"]
[null,null,null,null,null,"診断結果の記録管理（農用地）"]
[null,null,null,"水路の機能診断",25,"施設の機能診断（水路）"]
[null,null,null,null,null,"診断結果の記録管理（水路）"]
[null,null,null,"農道の機能診断",26,"施設の機能診断（農道）"]
[null,null,null,null,null,"診断結果の記録管理（農道）"]
[null,null,null,"ため池の機能診断",27,"施設の機能診断（ため池）"]
[null,null,null,null,null,"診断結果の記録管理（ため池）"]
[null,null,"計画策定","年度活動計画の策定",28,"年度活動計画の策定"]
[null,"研修",null,"機能診断・補修技術等に関する研修",29,"対象組織による自主的な機能診断及び簡単な補修に関する研修"]
[null,null,null,null,null,"老朽化が進む施設の長寿命化のための補修、更新等に関する研修"]
[null,null,null,null,null,"農業用水の保全、農地の保全や地域環境の保全に資する\n新たな施設の設置等に関する研修"]
[null,"実践活動","農用地","農用地の軽微な補修等",30,"畦畔の再構築"]
[null,null,null,null,null,"農用地法面の初期補修"]
[null,null,null,null,null,"暗渠施設の清掃"]
[null,null,null,null,null,"農用地の除れき"]
[null,null,null,null,null,"鳥獣害防護柵の補修・設置"]
[null,null,null,null,null,"防風ネットの補修・設置"]
[null,null,null,null,null,"きめ細やかな雑草対策"]
[null,null,"水路","水路の軽微な補修等",31,"水路側壁のはらみ修正"]
[null,null,null,null,null,"目地詰め"]
[null,null,null,null,null,"表面劣化に対するコーティング等"]
[null,null,null,null,null,"不同沈下に対する早期対応"]
[null,null,null,null,null,"側壁の裏込材の充填、水路耕畔の補修"]
[null,null,null,null,null,"水路に付着した藻等の除去"]
[null,null,null,null,null,"水路法面の初期補修"]
[null,null,null,null,null,"破損施設の補修（水路）"]
[null,null,null,null,null,"きめ細やかな雑草対策（水路）"]
[null,null,null,null,null,"パイプラインの破損施設の補修"]
[null,null,null,null,null,"パイプ内の清掃"]
[null,null,null,null,null,"給水栓ボックス基礎部の補強"]
[null,null,null,null,null,"破損施設の補修（水路の附帯施設）"]
[null,null,null,null,null,"給水栓に対する凍結防止対策"]
[null,null,null,null,null,"空気弁等への腐食防止剤の塗布等"]
[null,null,null,null,null,"遮光施設の補修等"]
[null,null,"農道","農道の軽微な補修等",32,"路肩、法面の初期補修"]
[null,null,null,null,null,"軌道等の運搬施設の維持補修"]
[null,null,null,null,null,"破損施設の補修（農道）"]
[null,null,null,null,null,"きめ細やかな雑草対策（農道）"]
[null,null,null,null,null,"側溝の目地詰め"]
[null,null,null,null,null,"側溝の不同沈下への早期対応"]
[null,null,null,null,null,"側溝の裏込材の充填"]
[null,null,null,null,null,"破損施設の補修（農道の附帯施設）"]
[null,null,"ため池","ため池の軽微な補修等",33,"遮水シートの補修"]
[null,null,null,null,null,"コンクリート構造物の目地詰め"]
[null,null,null,null,null,"コンクリート構造物の表面劣化への対応"]
[null,null,null,null,null,"堤体侵食の早期補修"]
[null,null,null,null,null,"破損施設の補修（ため池の堤体）"]
[null,null,null,null,null,"きめ細やかな雑草対策（ため池の堤体）"]
[null,null,null,null,null,"破損施設の補修（ため池の附帯施設）"]
[null,null,null,null,null,"遮光施設の補修等"]
[]
["（農村環境保全活動）"]
["支払区分","活動区分",null,"活動項目","活動項目番号","取組の内容（平成30年度までの取組名）"]
[null,null,"テーマ"]
["２（資源向上）","計画策定","生態系保全","生物多様性保全計画の策定",34,"生物多様性保全計画の策定"]
[null,null,"水質保全","水質保全計画、農地保全計画の策定",35,"水質保全計画の策定"]
[null,null,null,null,null,"農地の保全に係る計画の策定"]
[null,null,"景観形成・\n生活環境保全","景観形成計画、\n生活環境保全計画の策定",36,"景観形成、生活環境保全計画の策定"]
[null,null,"水田貯留機能増進・\n地下水かん養","水田貯留機能増進計画、\n地下水かん養活動計画の策定",37,"水田貯留機能増進に係る地域計画の策定"]
[null,null,null,null,null,"地下水かん養に係る地域計画の策定"]
[null,null,"資源循環","資源循環計画の策定",38,"資源循環に係る地域計画の策定"]
[null,"実践活動","生態系保全","生物の生息状況の把握",39,"生物の生息状況の把握"]
[null,null,null,"外来種の駆除",40,"外来種の駆除"]
[null,null,null,"その他（生態系保全）",41,"生物多様性保全に配慮した施設の適正管理"]
[null,null,null,null,null,"水田を活用した生息環境の提供"]
[null,null,null,null,null,"生物の生活史を考慮した適正管理"]
[null,null,null,null,null,"放流・植栽を通じた在来生物の育成"]
[null,null,null,null,null,"希少種の監視"]
[null,null,"水質保全","水質モニタリングの実施・記録管理",42,"水質モニタリングの実施・記録管理"]
[null,null,null,"畑からの土砂流出対策",43,"排水路沿いの林地帯等の適正管理"]
[null,null,null,null,null,"沈砂池の適正管理"]
[null,null,null,null,null,"土壌流出防止のためのグリーンベルト等の適正管理"]
[null,null,null,"その他（水質保全）",44,"水質保全を考慮した施設の適正管理"]
[null,null,null,null,null,"水田からの排水（濁水）管理"]
[null,null,null,null,null,"循環かんがいの実施"]
[null,null,null,null,null,"非かんがい期における通水"]
[null,null,null,null,null,"管理作業の省力化による水資源の保全"]
[null,null,"景観形成・\n生活環境保全","植栽等の景観形成活動",45,"景観形成のための施設への植栽等"]
[null,null,null,null,null,"農用地等を活用した景観形成活動"]
[null,null,null,"施設等の定期的な巡回点検・清掃",46,"施設等の定期的な巡回点検・清掃"]
[null,null,null,"その他（景観形成・生活環境保全）",47,"農業用水の地域用水としての利用・管理"]
[null,null,null,null,null,"伝統的施設や農法の保全・実施"]
[null,null,null,null,null,"農用地からの風塵の防止活動"]
[null,null,"水田貯留機能増進・\n地下水かん養","水田の貯留機能向上活動",48,"水田の貯留機能向上活動"]
[null,null,null,"水田の地下水かん養機能向上活動、\n水源かん養林の保全",49,"水田の地下水かん養機能向上活動"]
[null,null,null,null,null,"水源かん養林の保全"]
[null,null,"資源循環","地域資源の活用・資源循環活動",50,"地域資源の活用・資源循環のための活動"]
[null,"啓発・普及",null,"啓発・普及活動",51,"広報活動"]
[null,null,null,null,null,"啓発活動"]
[null,null,null,null,null,"地域住民等との交流活動"]
[null,null,null,null,null,"学校教育等との連携"]
[null,null,null,null,null,"行政機関等との連携"]
[null,null,null,null,null,"地域内の規制等の取り決め"]
[]
["（多面的機能の増進を図る活動）"]
["支払区分","活動区分",null,"活動項目","活動項目番号","取組の内容（平成30年度までの取組名）"]
["２（資源向上）","増進活動",null,"遊休農地の有効活用",52,"遊休農地の有効活用"]
[null,null,null,"鳥獣被害防止対策及び環境改善活動の強化",53,"農地周りの共同活動の強化"]
[null,null,null,"地域住民による直営施工",54,"地域住民による直営施工"]
[null,null,null,"防災・減災力の強化",55,"防災・減災力の強化"]
[null,null,null,"農村環境保全活動の幅広い展開",56,"農村環境保全活動の幅広い展開"]
[null,null,null,"やすらぎ・福祉及び教育機能の活用",57,"医療・福祉との連携"]
[null,null,null,"農村文化の伝承を通じた\n農村コミュニティの強化",58,"農村文化の伝承を通じた農村コミュニティの強化"]
[null,null,null,"広域活動組織における活動支援班による活動の実施","58-2","-"]
[null,null,null,"水管理を通じた環境負荷低減活動の強化","58-3","-"]
[null,null,null,"都道府県、市町村が特に認める活動",59,"都道府県、市町村が特に認める活動"]
[null,null,null,"広報活動・農村関係人口の拡大",60,"広報活動"]
[]
["【資源向上活動（施設の長寿命化のための活動）】"]
[]
["支払区分","活動区分",null,"活動項目","活動項目番号","取組の内容（平成30年度までの取組名）"]
[null,null,"テーマ"]
["３（長寿命化）","実践活動","水路","水路の補修",61,"水路の破損部分の補修"]
[null,null,null,null,null,"水路の老朽化部分の補修"]
[null,null,null,null,null,"水路側壁の嵩上げ"]
[null,null,null,null,null,"U字フリューム等既設水路の再布設"]
[null,null,null,null,null,"集水枡、分水枡の補修"]
[null,null,null,null,null,"ゲート、ポンプの補修"]
[null,null,null,null,null,"安全施設の補修"]
[null,null,null,"水路の更新等",62,"素掘り水路からコンクリート水路への更新"]
[null,null,null,null,null,"水路の更新"]
[null,null,null,null,null,"ゲート、ポンプの更新"]
[null,null,null,null,null,"安全施設の設置"]
[null,null,"農道","農道の補修",63,"農道路肩、農道法面の補修"]
[null,null,null,null,null,"舗装の打換え（一部）"]
[null,null,null,null,null,"農道側溝の補修"]
[null,null,null,"農道の更新等",64,"未舗装農道を舗装（砂利、コンクリート、アスファルト）"]
[null,null,null,null,null,"側溝蓋の設置"]
[null,null,null,null,null,"土側溝をコンクリート側溝に更新"]
[null,null,"ため池","ため池の補修",65,"洗掘箇所の補修"]
[null,null,null,null,null,"漏水箇所の補修"]
[null,null,null,null,null,"取水施設の補修"]
[null,null,null,null,null,"洪水吐の補修"]
[null,null,null,null,null,"安全施設の補修"]
[null,null,null,"ため池（附帯施設）の更新等",66,"ゲート・バルブの更新"]
[null,null,null,null,null,"安全施設の設置"]
[]
[]
["※　都道府県において、要綱基本方針で追加する取組については、取組番号100番台を用いて、上の表に追加すること。"]